Workbook
Name _ftn1: '【記入例】スケジュール(事業計画期間)'!$E$9
Name _ftn1: '【記入例】スケジュール(補助事業実施期間)'!$E$10
Name _ftn1: 'スケジュール(事業計画期間)'!$E$9
Name _ftn1: 'スケジュール(補助事業実施期間)'!$E$10
Name _ftn2: '【記入例】スケジュール(事業計画期間)'!$E$10
Name _ftn2: '【記入例】スケジュール(補助事業実施期間)'!$E$11
Name _ftn2: 'スケジュール(事業計画期間)'!$E$10
Name _ftn2: 'スケジュール(補助事業実施期間)'!$E$11
Name _ftnref1: '【記入例】スケジュール(事業計画期間)'!#REF!
Name _ftnref1: '【記入例】スケジュール(補助事業実施期間)'!$K$5
Name _ftnref1: 'スケジュール(事業計画期間)'!#REF!
Name _ftnref1: 'スケジュール(補助事業実施期間)'!$K$5
Name _ftnref2: '【記入例】スケジュール(事業計画期間)'!#REF!
Name _ftnref2: '【記入例】スケジュール(補助事業実施期間)'!$L$5
Name _ftnref2: 'スケジュール(事業計画期間)'!#REF!
Name _ftnref2: 'スケジュール(補助事業実施期間)'!$L$5

Sheet はじめに
AH2: ver. | AI2: 1.0
C3: 1. 本ファイルの目的
D5: 本補助金の応募申請では、事業計画関連の申請内容を以下4種類のファイル(応募申請画面インポート用フォーマット)に記入していただきます。
D7: 本ファイルは「補助事業の実施スケジュール」の情報を記入いただくフォーマットとなりますので、「3. 本ファイルの利用方法」に従い作成のうえ、
D8: 応募申請時に電子申請システムに添付してください。
E11: ➊ 応募申請画面インポート用フォーマット(事業計画)
E12: ・ | F12: 会社概要、経営戦略及び補助事業計画を入力するフォーマットです。
E14: ❷ 応募申請画面インポート用フォーマット(財務情報・収益計画)
E15: ・ | F15: 直近の貸借対照表・損益計算書の内容及び本補助金の要件を満たす収益計画を入力するフォーマットです。
E17: ❸ 応募申請画面インポート用フォーマット(資金調達表・補助対象予定経費)
E18: ・ | F18: 補助事業の実施にあたり見込まれる補助対象経費の具体的な内容及び金額、必要な資金の調達方法及び金額等を入力する
F19: フォーマットです。
E21: ❹ 応募申請画面インポート用フォーマット(スケジュール_補助事業実施期間・事業計画期間)
E22: ・ | F22: 補助事業実施期間及び事業計画期間の補助事業の実施スケジュールを入力するフォーマットです。
C26: 2. 各シートの概要
D28: シート名 | L28: 主な内容・役割
D29: はじめに | L29: (※本シート) 本ファイルの目的、各シートの入力方法等について説明しています。
D30: スケジュール (補助事業実施期間) | L30: 補助事業実施期間(最長14か月間)の補助事業の実施スケジュールを入力します。
D31: スケジュール (事業計画期間) | L31: 事業計画期間(3～5年間)の補助事業の実施スケジュールを入力します。
D32: 【記入例】スケジュール (補助事業実施期間) | L32: 各項目の記入例について解説しています。
D33: 【記入例】スケジュール (事業計画期間) | L33: 各項目の記入例について解説しています。
C36: 3. 本ファイルの利用方法
D38: 凡例
H40: ：要入力(黒太枠で囲われているセルに値を入力してください)
H42: ：入力不要(入力内容に応じ、不要な項目はグレーアウトされます)
E44: XXXX | H44: ：入力不可(関数で自動入力されます)
D47: ① 「スケジュール(補助事業実施期間)」シートの入力
E49: ❶ | F49: 「補助対象事業枠」(C3)をプルダウンから選択してください。
E51: ❷ | F51: 補助事業実施期間の開始「年」(E4)、「月」(E5)をプルダウンから選択してください。
F52: ・ | G52: 公募スケジュールに記載の採択発表・交付決定の想定時期を踏まえ、開始年月を選択してください。
F53: ・ | G53: 交付申請の受理から交付決定までの標準的な目安期間は約30日です。申請内容の修正が必要となった場合は、
G54: 交付決定までにさらに時間を要する場合があります。
F55: ※ | G55: 以降の年月は自動入力されます。
E57: ❸ | F57: 補助事業実施期間の「マイルストーン」(E6~R6)を入力してください。 (300文字以内)
F58: ・ | G58: マイルストーン：事業の進行における重要な節目や達成目標を入力してください。(例：設備導入完了、試作品完成、販売開始 等)
F59: ・ | G59: 革新的新製品・サービス枠は最長10か月、新事業進出枠・グローバル枠は最長14か月間分入力できます。
G60: 補助事業実施期間は、革新的新製品・サービス枠は交付決定日から最長10か月以内(ただし、採択発表日から12か月以内)、
G61: 新事業進出枠・グローバル枠は交付決定日から最長14か月以内(ただし、採択発表日から16か月以内)です。
F62: ※ | G62: すべての欄に入力する必要はありません。1つ以上、該当する月のみ入力してください。
F63: ※ | G63: 「<」、「>」、「&」、「"」、「'」の文字(半角)は使用不可です。(使用する場合は、全角にするか、別の文字に置き換えて入力してください。)
...

Sheet スケジュール(補助事業実施期間)
C2: 補助対象事業枠
E3: 補助事業実施期間 | T3: 提出可否 | V3: 形式チェック | W3: 文字チェック | X3: 必須チェック | Y3: 事業枠チェック
D4: 年 | F4: =IF(AND($E$4<>"",$E$5<>""),EDATE(DATE($E$4,$E$5,1),COLUMN()-COLUMN($E4)),"") | G4: =IF(AND($E$4<>"",$E$5<>""),EDATE(DATE($E$4,$E$5,1),COLUMN()-COLUMN($E4)),"") | H4: =IF(AND($E$4<>"",$E$5<>""),EDATE(DATE($E$4,$E$5,1),COLUMN()-COLUMN($E4)),"") | I4: =IF(AND($E$4<>"",$E$5<>""),EDATE(DATE($E$4,$E$5,1),COLUMN()-COLUMN($E4)),"") | J4: =IF(AND($E$4<>"",$E$5<>""),EDATE(DATE($E$4,$E$5,1),COLUMN()-COLUMN($E4)),"") | K4: =IF(AND($E$4<>"",$E$5<>""),EDATE(DATE($E$4,$E$5,1),COLUMN()-COLUMN($E4)),"") | L4: =IF(AND($E$4<>"",$E$5<>""),EDATE(DATE($E$4,$E$5,1),COLUMN()-COLUMN($E4)),"") | M4: =IF(AND($E$4<>"",$E$5<>""),EDATE(DATE($E$4,$E$5,1),COLUMN()-COLUMN($E4)),"") | ... R4: =IF(AND($E$4<>"",$E$5<>""),EDATE(DATE($E$4,$E$5,1),COLUMN()-COLUMN($E4)),"") | T4: =IF(COUNTIF(V4:Y17,"NG")>0,"NG","OK") -> NG | V4: - | W4: - | X4: =IF(E4="", "NG", "OK") -> NG | Y4: =IF($C$3="", "NG", IF($C$3=リスト!$A$2, IF(COUNTA(O6:R6, O8:R17) > 0, "NG", "OK"), "OK")) -> NG
D5: 月 | F5: =IF(AND($E$4<>"",$E$5<>""),EDATE(DATE($E$4,$E$5,1),COLUMN()-COLUMN($E5)),"") | G5: =IF(AND($E$4<>"",$E$5<>""),EDATE(DATE($E$4,$E$5,1),COLUMN()-COLUMN($E5)),"") | H5: =IF(AND($E$4<>"",$E$5<>""),EDATE(DATE($E$4,$E$5,1),COLUMN()-COLUMN($E5)),"") | I5: =IF(AND($E$4<>"",$E$5<>""),EDATE(DATE($E$4,$E$5,1),COLUMN()-COLUMN($E5)),"") | J5: =IF(AND($E$4<>"",$E$5<>""),EDATE(DATE($E$4,$E$5,1),COLUMN()-COLUMN($E5)),"") | K5: =IF(AND($E$4<>"",$E$5<>""),EDATE(DATE($E$4,$E$5,1),COLUMN()-COLUMN($E5)),"") | L5: =IF(AND($E$4<>"",$E$5<>""),EDATE(DATE($E$4,$E$5,1),COLUMN()-COLUMN($E5)),"") | M5: =IF(AND($E$4<>"",$E$5<>""),EDATE(DATE($E$4,$E$5,1),COLUMN()-COLUMN($E5)),"") | ... R5: =IF(AND($E$4<>"",$E$5<>""),EDATE(DATE($E$4,$E$5,1),COLUMN()-COLUMN($E5)),"") | T5: =IF($T$4="NG","※「はじめに」シートの3.①.❺をご確認の上、入力内容に誤りがないかをご確認ください。","") -> ※「はじめに」シートの3.①.❺をご確認の上、入力内容に誤りがないかをご確認ください。 | V5: - | W5: - | X5: =IF(E5="", "NG", "OK") -> NG | Y5: -
D6: マイルストーン | V6: =IF(MAX( LEN(SUBSTITUTE(SUBSTITUTE(E6,CHAR(10),""),CHAR(13),"")), LEN(SUBSTITUTE(SUBSTITUTE(F6,CHAR(10),""),CHAR(13),"")), LEN(SUBSTITUTE(SUBSTITUTE(G6,CHAR(10),""),CHAR(13),"")), LEN(SUBSTITUTE(SUBSTITUTE(H6,CHAR(10),""),CHAR(13),"")), LEN(SUBSTITUTE(SUBSTITUTE(I6,CHAR(10),""),CHAR(13),"")), LEN(SUBSTITUTE(SUBSTITUTE(J6,CHAR(10),""),CHAR(13),"")), LEN(SUBSTITUTE(SUBSTITUTE(K6,CHAR(10),""),CHAR(13),"")), LEN(SUBSTITUTE(SUBSTITUTE(L6,CHAR(10),""),CHAR(13),"")), LEN(SUBSTITUTE(SUBSTITUTE(M6,CHAR(10),""),CHAR(13),"")), LEN(SUBSTITUTE(SUBSTITUTE(N6,CHAR(10),""),CHAR(13),"")), LEN(SUBSTITUTE(SUBSTITUTE(O6,CHAR(10),""),CHAR(13),"")), LEN(SUBSTITUTE(SUBSTITUTE(P6,CHAR(10),""),CHAR(13),"")), LEN(SUBSTITUTE(SUBSTITUTE(Q6,CHAR(10),""),CHAR(13),"")), LEN(SUBSTITUTE(SUBSTITUTE(R6,CHAR(10),""),CHAR(13),"")) )>300,"NG","OK") -> OK | W6: =IF(OR( COUNTIF(E6:R6,"*<*")>0, COUNTIF(E6:R6,"*>*")>0, COUNTIF(E6:R6,"*&*")>0, COUNTIF(E6:R6,"*""*")>0, COUNTIF(E6:R6,"*'*")>0 ),"NG","OK") -> OK | X6: =IF(COUNTA(E6:R6)=0,"NG","OK") -> NG | Y6: -
B7: # | C7: 実施内容 | D7: 担当者 | E7: 内容
B8: =ROW()-ROW($B$7) -> 1 | V8: =IF(MAX( LEN(SUBSTITUTE(SUBSTITUTE(C8,CHAR(10),""),CHAR(13),"")), LEN(SUBSTITUTE(SUBSTITUTE(D8,CHAR(10),""),CHAR(13),"")), LEN(SUBSTITUTE(SUBSTITUTE(E8,CHAR(10),""),CHAR(13),"")), LEN(SUBSTITUTE(SUBSTITUTE(F8,CHAR(10),""),CHAR(13),"")), LEN(SUBSTITUTE(SUBSTITUTE(G8,CHAR(10),""),CHAR(13),"")), LEN(SUBSTITUTE(SUBSTITUTE(H8,CHAR(10),""),CHAR(13),"")), LEN(SUBSTITUTE(SUBSTITUTE(I8,CHAR(10),""),CHAR(13),"")), LEN(SUBSTITUTE(SUBSTITUTE(J8,CHAR(10),""),CHAR(13),"")), LEN(SUBSTITUTE(SUBSTITUTE(K8,CHAR(10),""),CHAR(13),"")), LEN(SUBSTITUTE(SUBSTITUTE(L8,CHAR(10),""),CHAR(13),"")), LEN(SUBSTITUTE(SUBSTITUTE(M8,CHAR(10),""),CHAR(13),"")), LEN(SUBSTITUTE(SUBSTITUTE(N8,CHAR(10),""),CHAR(13),"")), LEN(SUBSTITUTE(SUBSTITUTE(O8,CHAR(10),""),CHAR(13),"")), LEN(SUBSTITUTE(SUBSTITUTE(P8,CHAR(10),""),CHAR(13),"")), LEN(SUBSTITUTE(SUBSTITUTE(Q8,CHAR(10),""),CHAR(13),"")), LEN(SUBSTITUTE(SUBSTITUTE(R8,CHAR(10),""),CHAR(13),"")) )>300,"NG","OK") -> OK | W8: =IF(OR( COUNTIF(C8:R8,"*<*")>0, COUNTIF(C8:R8,"*>*")>0, COUNTIF(C8:R8,"*&*")>0, COUNTIF(C8:R8,"*""*")>0, COUNTIF(C8:R8,"*'*")>0 ),"NG","OK") -> OK | X8: =IF(OR(C8="", D8="", COUNTA(E8:R8)=0), "NG", "OK") -> NG | Y8: -
B9: =ROW()-ROW($B$7) -> 2 | V9: =IF(MAX( LEN(SUBSTITUTE(SUBSTITUTE(C9,CHAR(10),""),CHAR(13),"")), LEN(SUBSTITUTE(SUBSTITUTE(D9,CHAR(10),""),CHAR(13),"")), LEN(SUBSTITUTE(SUBSTITUTE(E9,CHAR(10),""),CHAR(13),"")), LEN(SUBSTITUTE(SUBSTITUTE(F9,CHAR(10),""),CHAR(13),"")), LEN(SUBSTITUTE(SUBSTITUTE(G9,CHAR(10),""),CHAR(13),"")), LEN(SUBSTITUTE(SUBSTITUTE(H9,CHAR(10),""),CHAR(13),"")), LEN(SUBSTITUTE(SUBSTITUTE(I9,CHAR(10),""),CHAR(13),"")), LEN(SUBSTITUTE(SUBSTITUTE(J9,CHAR(10),""),CHAR(13),"")), LEN(SUBSTITUTE(SUBSTITUTE(K9,CHAR(10),""),CHAR(13),"")), LEN(SUBSTITUTE(SUBSTITUTE(L9,CHAR(10),""),CHAR(13),"")), LEN(SUBSTITUTE(SUBSTITUTE(M9,CHAR(10),""),CHAR(13),"")), LEN(SUBSTITUTE(SUBSTITUTE(N9,CHAR(10),""),CHAR(13),"")), LEN(SUBSTITUTE(SUBSTITUTE(O9,CHAR(10),""),CHAR(13),"")), LEN(SUBSTITUTE(SUBSTITUTE(P9,CHAR(10),""),CHAR(13),"")), LEN(SUBSTITUTE(SUBSTITUTE(Q9,CHAR(10),""),CHAR(13),"")), LEN(SUBSTITUTE(SUBSTITUTE(R9,CHAR(10),""),CHAR(13),"")) )>300,"NG","OK") -> OK | W9: =IF(OR( COUNTIF(C9:R9,"*<*")>0, COUNTIF(C9:R9,"*>*")>0, COUNTIF(C9:R9,"*&*")>0, COUNTIF(C9:R9,"*""*")>0, COUNTIF(C9:R9,"*'*")>0 ),"NG","OK") -> OK | X9: - | Y9: -
B10: =ROW()-ROW($B$7) -> 3 | V10: =IF(MAX( LEN(SUBSTITUTE(SUBSTITUTE(C10,CHAR(10),""),CHAR(13),"")), LEN(SUBSTITUTE(SUBSTITUTE(D10,CHAR(10),""),CHAR(13),"")), LEN(SUBSTITUTE(SUBSTITUTE(E10,CHAR(10),""),CHAR(13),"")), LEN(SUBSTITUTE(SUBSTITUTE(F10,CHAR(10),""),CHAR(13),"")), LEN(SUBSTITUTE(SUBSTITUTE(G10,CHAR(10),""),CHAR(13),"")), LEN(SUBSTITUTE(SUBSTITUTE(H10,CHAR(10),""),CHAR(13),"")), LEN(SUBSTITUTE(SUBSTITUTE(I10,CHAR(10),""),CHAR(13),"")), LEN(SUBSTITUTE(SUBSTITUTE(J10,CHAR(10),""),CHAR(13),"")), LEN(SUBSTITUTE(SUBSTITUTE(K10,CHAR(10),""),CHAR(13),"")), LEN(SUBSTITUTE(SUBSTITUTE(L10,CHAR(10),""),CHAR(13),"")), LEN(SUBSTITUTE(SUBSTITUTE(M10,CHAR(10),""),CHAR(13),"")), LEN(SUBSTITUTE(SUBSTITUTE(N10,CHAR(10),""),CHAR(13),"")), LEN(SUBSTITUTE(SUBSTITUTE(O10,CHAR(10),""),CHAR(13),"")), LEN(SUBSTITUTE(SUBSTITUTE(P10,CHAR(10),""),CHAR(13),"")), LEN(SUBSTITUTE(SUBSTITUTE(Q10,CHAR(10),""),CHAR(13),"")), LEN(SUBSTITUTE(SUBSTITUTE(R10,CHAR(10),""),CHAR(13),"")) )>300,"NG","OK") -> OK | W10: =IF(OR( COUNTIF(C10:R10,"*<*")>0, COUNTIF(C10:R10,"*>*")>0, COUNTIF(C10:R10,"*&*")>0, COUNTIF(C10:R10,"*""*")>0, COUNTIF(C10:R10,"*'*")>0 ),"NG","OK") -> OK | X10: - | Y10: -
B11: =ROW()-ROW($B$7) -> 4 | V11: =IF(MAX( LEN(SUBSTITUTE(SUBSTITUTE(C11,CHAR(10),""),CHAR(13),"")), LEN(SUBSTITUTE(SUBSTITUTE(D11,CHAR(10),""),CHAR(13),"")), LEN(SUBSTITUTE(SUBSTITUTE(E11,CHAR(10),""),CHAR(13),"")), LEN(SUBSTITUTE(SUBSTITUTE(F11,CHAR(10),""),CHAR(13),"")), LEN(SUBSTITUTE(SUBSTITUTE(G11,CHAR(10),""),CHAR(13),"")), LEN(SUBSTITUTE(SUBSTITUTE(H11,CHAR(10),""),CHAR(13),"")), LEN(SUBSTITUTE(SUBSTITUTE(I11,CHAR(10),""),CHAR(13),"")), LEN(SUBSTITUTE(SUBSTITUTE(J11,CHAR(10),""),CHAR(13),"")), LEN(SUBSTITUTE(SUBSTITUTE(K11,CHAR(10),""),CHAR(13),"")), LEN(SUBSTITUTE(SUBSTITUTE(L11,CHAR(10),""),CHAR(13),"")), LEN(SUBSTITUTE(SUBSTITUTE(M11,CHAR(10),""),CHAR(13),"")), LEN(SUBSTITUTE(SUBSTITUTE(N11,CHAR(10),""),CHAR(13),"")), LEN(SUBSTITUTE(SUBSTITUTE(O11,CHAR(10),""),CHAR(13),"")), LEN(SUBSTITUTE(SUBSTITUTE(P11,CHAR(10),""),CHAR(13),"")), LEN(SUBSTITUTE(SUBSTITUTE(Q11,CHAR(10),""),CHAR(13),"")), LEN(SUBSTITUTE(SUBSTITUTE(R11,CHAR(10),""),CHAR(13),"")) )>300,"NG","OK") -> OK | W11: =IF(OR( COUNTIF(C11:R11,"*<*")>0, COUNTIF(C11:R11,"*>*")>0, COUNTIF(C11:R11,"*&*")>0, COUNTIF(C11:R11,"*""*")>0, COUNTIF(C11:R11,"*'*")>0 ),"NG","OK") -> OK | X11: - | Y11: -
B12: =ROW()-ROW($B$7) -> 5 | V12: =IF(MAX( LEN(SUBSTITUTE(SUBSTITUTE(C12,CHAR(10),""),CHAR(13),"")), LEN(SUBSTITUTE(SUBSTITUTE(D12,CHAR(10),""),CHAR(13),"")), LEN(SUBSTITUTE(SUBSTITUTE(E12,CHAR(10),""),CHAR(13),"")), LEN(SUBSTITUTE(SUBSTITUTE(F12,CHAR(10),""),CHAR(13),"")), LEN(SUBSTITUTE(SUBSTITUTE(G12,CHAR(10),""),CHAR(13),"")), LEN(SUBSTITUTE(SUBSTITUTE(H12,CHAR(10),""),CHAR(13),"")), LEN(SUBSTITUTE(SUBSTITUTE(I12,CHAR(10),""),CHAR(13),"")), LEN(SUBSTITUTE(SUBSTITUTE(J12,CHAR(10),""),CHAR(13),"")), LEN(SUBSTITUTE(SUBSTITUTE(K12,CHAR(10),""),CHAR(13),"")), LEN(SUBSTITUTE(SUBSTITUTE(L12,CHAR(10),""),CHAR(13),"")), LEN(SUBSTITUTE(SUBSTITUTE(M12,CHAR(10),""),CHAR(13),"")), LEN(SUBSTITUTE(SUBSTITUTE(N12,CHAR(10),""),CHAR(13),"")), LEN(SUBSTITUTE(SUBSTITUTE(O12,CHAR(10),""),CHAR(13),"")), LEN(SUBSTITUTE(SUBSTITUTE(P12,CHAR(10),""),CHAR(13),"")), LEN(SUBSTITUTE(SUBSTITUTE(Q12,CHAR(10),""),CHAR(13),"")), LEN(SUBSTITUTE(SUBSTITUTE(R12,CHAR(10),""),CHAR(13),"")) )>300,"NG","OK") -> OK | W12: =IF(OR( COUNTIF(C12:R12,"*<*")>0, COUNTIF(C12:R12,"*>*")>0, COUNTIF(C12:R12,"*&*")>0, COUNTIF(C12:R12,"*""*")>0, COUNTIF(C12:R12,"*'*")>0 ),"NG","OK") -> OK | X12: - | Y12: -
B13: =ROW()-ROW($B$7) -> 6 | V13: =IF(MAX( LEN(SUBSTITUTE(SUBSTITUTE(C13,CHAR(10),""),CHAR(13),"")), LEN(SUBSTITUTE(SUBSTITUTE(D13,CHAR(10),""),CHAR(13),"")), LEN(SUBSTITUTE(SUBSTITUTE(E13,CHAR(10),""),CHAR(13),"")), LEN(SUBSTITUTE(SUBSTITUTE(F13,CHAR(10),""),CHAR(13),"")), LEN(SUBSTITUTE(SUBSTITUTE(G13,CHAR(10),""),CHAR(13),"")), LEN(SUBSTITUTE(SUBSTITUTE(H13,CHAR(10),""),CHAR(13),"")), LEN(SUBSTITUTE(SUBSTITUTE(I13,CHAR(10),""),CHAR(13),"")), LEN(SUBSTITUTE(SUBSTITUTE(J13,CHAR(10),""),CHAR(13),"")), LEN(SUBSTITUTE(SUBSTITUTE(K13,CHAR(10),""),CHAR(13),"")), LEN(SUBSTITUTE(SUBSTITUTE(L13,CHAR(10),""),CHAR(13),"")), LEN(SUBSTITUTE(SUBSTITUTE(M13,CHAR(10),""),CHAR(13),"")), LEN(SUBSTITUTE(SUBSTITUTE(N13,CHAR(10),""),CHAR(13),"")), LEN(SUBSTITUTE(SUBSTITUTE(O13,CHAR(10),""),CHAR(13),"")), LEN(SUBSTITUTE(SUBSTITUTE(P13,CHAR(10),""),CHAR(13),"")), LEN(SUBSTITUTE(SUBSTITUTE(Q13,CHAR(10),""),CHAR(13),"")), LEN(SUBSTITUTE(SUBSTITUTE(R13,CHAR(10),""),CHAR(13),"")) )>300,"NG","OK") -> OK | W13: =IF(OR( COUNTIF(C13:R13,"*<*")>0, COUNTIF(C13:R13,"*>*")>0, COUNTIF(C13:R13,"*&*")>0, COUNTIF(C13:R13,"*""*")>0, COUNTIF(C13:R13,"*'*")>0 ),"NG","OK") -> OK | X13: - | Y13: -
B14: =ROW()-ROW($B$7) -> 7 | V14: =IF(MAX( LEN(SUBSTITUTE(SUBSTITUTE(C14,CHAR(10),""),CHAR(13),"")), LEN(SUBSTITUTE(SUBSTITUTE(D14,CHAR(10),""),CHAR(13),"")), LEN(SUBSTITUTE(SUBSTITUTE(E14,CHAR(10),""),CHAR(13),"")), LEN(SUBSTITUTE(SUBSTITUTE(F14,CHAR(10),""),CHAR(13),"")), LEN(SUBSTITUTE(SUBSTITUTE(G14,CHAR(10),""),CHAR(13),"")), LEN(SUBSTITUTE(SUBSTITUTE(H14,CHAR(10),""),CHAR(13),"")), LEN(SUBSTITUTE(SUBSTITUTE(I14,CHAR(10),""),CHAR(13),"")), LEN(SUBSTITUTE(SUBSTITUTE(J14,CHAR(10),""),CHAR(13),"")), LEN(SUBSTITUTE(SUBSTITUTE(K14,CHAR(10),""),CHAR(13),"")), LEN(SUBSTITUTE(SUBSTITUTE(L14,CHAR(10),""),CHAR(13),"")), LEN(SUBSTITUTE(SUBSTITUTE(M14,CHAR(10),""),CHAR(13),"")), LEN(SUBSTITUTE(SUBSTITUTE(N14,CHAR(10),""),CHAR(13),"")), LEN(SUBSTITUTE(SUBSTITUTE(O14,CHAR(10),""),CHAR(13),"")), LEN(SUBSTITUTE(SUBSTITUTE(P14,CHAR(10),""),CHAR(13),"")), LEN(SUBSTITUTE(SUBSTITUTE(Q14,CHAR(10),""),CHAR(13),"")), LEN(SUBSTITUTE(SUBSTITUTE(R14,CHAR(10),""),CHAR(13),"")) )>300,"NG","OK") -> OK | W14: =IF(OR( COUNTIF(C14:R14,"*<*")>0, COUNTIF(C14:R14,"*>*")>0, COUNTIF(C14:R14,"*&*")>0, COUNTIF(C14:R14,"*""*")>0, COUNTIF(C14:R14,"*'*")>0 ),"NG","OK") -> OK | X14: - | Y14: -
B15: =ROW()-ROW($B$7) -> 8 | V15: =IF(MAX( LEN(SUBSTITUTE(SUBSTITUTE(C15,CHAR(10),""),CHAR(13),"")), LEN(SUBSTITUTE(SUBSTITUTE(D15,CHAR(10),""),CHAR(13),"")), LEN(SUBSTITUTE(SUBSTITUTE(E15,CHAR(10),""),CHAR(13),"")), LEN(SUBSTITUTE(SUBSTITUTE(F15,CHAR(10),""),CHAR(13),"")), LEN(SUBSTITUTE(SUBSTITUTE(G15,CHAR(10),""),CHAR(13),"")), LEN(SUBSTITUTE(SUBSTITUTE(H15,CHAR(10),""),CHAR(13),"")), LEN(SUBSTITUTE(SUBSTITUTE(I15,CHAR(10),""),CHAR(13),"")), LEN(SUBSTITUTE(SUBSTITUTE(J15,CHAR(10),""),CHAR(13),"")), LEN(SUBSTITUTE(SUBSTITUTE(K15,CHAR(10),""),CHAR(13),"")), LEN(SUBSTITUTE(SUBSTITUTE(L15,CHAR(10),""),CHAR(13),"")), LEN(SUBSTITUTE(SUBSTITUTE(M15,CHAR(10),""),CHAR(13),"")), LEN(SUBSTITUTE(SUBSTITUTE(N15,CHAR(10),""),CHAR(13),"")), LEN(SUBSTITUTE(SUBSTITUTE(O15,CHAR(10),""),CHAR(13),"")), LEN(SUBSTITUTE(SUBSTITUTE(P15,CHAR(10),""),CHAR(13),"")), LEN(SUBSTITUTE(SUBSTITUTE(Q15,CHAR(10),""),CHAR(13),"")), LEN(SUBSTITUTE(SUBSTITUTE(R15,CHAR(10),""),CHAR(13),"")) )>300,"NG","OK") -> OK | W15: =IF(OR( COUNTIF(C15:R15,"*<*")>0, COUNTIF(C15:R15,"*>*")>0, COUNTIF(C15:R15,"*&*")>0, COUNTIF(C15:R15,"*""*")>0, COUNTIF(C15:R15,"*'*")>0 ),"NG","OK") -> OK | X15: - | Y15: -
B16: =ROW()-ROW($B$7) -> 9 | V16: =IF(MAX( LEN(SUBSTITUTE(SUBSTITUTE(C16,CHAR(10),""),CHAR(13),"")), LEN(SUBSTITUTE(SUBSTITUTE(D16,CHAR(10),""),CHAR(13),"")), LEN(SUBSTITUTE(SUBSTITUTE(E16,CHAR(10),""),CHAR(13),"")), LEN(SUBSTITUTE(SUBSTITUTE(F16,CHAR(10),""),CHAR(13),"")), LEN(SUBSTITUTE(SUBSTITUTE(G16,CHAR(10),""),CHAR(13),"")), LEN(SUBSTITUTE(SUBSTITUTE(H16,CHAR(10),""),CHAR(13),"")), LEN(SUBSTITUTE(SUBSTITUTE(I16,CHAR(10),""),CHAR(13),"")), LEN(SUBSTITUTE(SUBSTITUTE(J16,CHAR(10),""),CHAR(13),"")), LEN(SUBSTITUTE(SUBSTITUTE(K16,CHAR(10),""),CHAR(13),"")), LEN(SUBSTITUTE(SUBSTITUTE(L16,CHAR(10),""),CHAR(13),"")), LEN(SUBSTITUTE(SUBSTITUTE(M16,CHAR(10),""),CHAR(13),"")), LEN(SUBSTITUTE(SUBSTITUTE(N16,CHAR(10),""),CHAR(13),"")), LEN(SUBSTITUTE(SUBSTITUTE(O16,CHAR(10),""),CHAR(13),"")), LEN(SUBSTITUTE(SUBSTITUTE(P16,CHAR(10),""),CHAR(13),"")), LEN(SUBSTITUTE(SUBSTITUTE(Q16,CHAR(10),""),CHAR(13),"")), LEN(SUBSTITUTE(SUBSTITUTE(R16,CHAR(10),""),CHAR(13),"")) )>300,"NG","OK") -> OK | W16: =IF(OR( COUNTIF(C16:R16,"*<*")>0, COUNTIF(C16:R16,"*>*")>0, COUNTIF(C16:R16,"*&*")>0, COUNTIF(C16:R16,"*""*")>0, COUNTIF(C16:R16,"*'*")>0 ),"NG","OK") -> OK | X16: - | Y16: -
B17: =ROW()-ROW($B$7) -> 10 | V17: =IF(MAX( LEN(SUBSTITUTE(SUBSTITUTE(C17,CHAR(10),""),CHAR(13),"")), LEN(SUBSTITUTE(SUBSTITUTE(D17,CHAR(10),""),CHAR(13),"")), LEN(SUBSTITUTE(SUBSTITUTE(E17,CHAR(10),""),CHAR(13),"")), LEN(SUBSTITUTE(SUBSTITUTE(F17,CHAR(10),""),CHAR(13),"")), LEN(SUBSTITUTE(SUBSTITUTE(G17,CHAR(10),""),CHAR(13),"")), LEN(SUBSTITUTE(SUBSTITUTE(H17,CHAR(10),""),CHAR(13),"")), LEN(SUBSTITUTE(SUBSTITUTE(I17,CHAR(10),""),CHAR(13),"")), LEN(SUBSTITUTE(SUBSTITUTE(J17,CHAR(10),""),CHAR(13),"")), LEN(SUBSTITUTE(SUBSTITUTE(K17,CHAR(10),""),CHAR(13),"")), LEN(SUBSTITUTE(SUBSTITUTE(L17,CHAR(10),""),CHAR(13),"")), LEN(SUBSTITUTE(SUBSTITUTE(M17,CHAR(10),""),CHAR(13),"")), LEN(SUBSTITUTE(SUBSTITUTE(N17,CHAR(10),""),CHAR(13),"")), LEN(SUBSTITUTE(SUBSTITUTE(O17,CHAR(10),""),CHAR(13),"")), LEN(SUBSTITUTE(SUBSTITUTE(P17,CHAR(10),""),CHAR(13),"")), LEN(SUBSTITUTE(SUBSTITUTE(Q17,CHAR(10),""),CHAR(13),"")), LEN(SUBSTITUTE(SUBSTITUTE(R17,CHAR(10),""),CHAR(13),"")) )>300,"NG","OK") -> OK | W17: =IF(OR( COUNTIF(C17:R17,"*<*")>0, COUNTIF(C17:R17,"*>*")>0, COUNTIF(C17:R17,"*&*")>0, COUNTIF(C17:R17,"*""*")>0, COUNTIF(C17:R17,"*'*")>0 ),"NG","OK") -> OK | X17: - | Y17: -

Sheet スケジュール(事業計画期間)
E2: 事業計画期間 | K2: 提出可否 | M2: 形式チェック | N2: 文字チェック | O2: 必須チェック
E3: 1年度目 | F3: 2年度目 | G3: 3年度目 | H3: 4年度目 | I3: 5年度目 | K3: =IF(COUNTIF(M4:O16,"NG")>0,"NG","OK") -> NG
D4: 年度 | F4: =IF($E$4<>"",$E$4+1,"") | G4: =IF($E$4<>"",$E$4+2,"") | H4: =IF($E$4<>"",$E$4+3,"") | I4: =IF($E$4<>"",$E$4+4,"") | K4: =IF($K$3="NG","※「はじめに」シートの3.②.❹をご確認の上、入力内容に誤りがないかをご確認ください。","") -> ※「はじめに」シートの3.②.❹をご確認の上、入力内容に誤りがないかをご確認ください。 | M4: - | N4: - | O4: =IF(E4="", "NG", "OK") -> NG
D5: マイルストーン | M5: =IF(MAX( LEN(SUBSTITUTE(SUBSTITUTE(E5,CHAR(10),""),CHAR(13),"")), LEN(SUBSTITUTE(SUBSTITUTE(F5,CHAR(10),""),CHAR(13),"")), LEN(SUBSTITUTE(SUBSTITUTE(G5,CHAR(10),""),CHAR(13),"")), LEN(SUBSTITUTE(SUBSTITUTE(H5,CHAR(10),""),CHAR(13),"")), LEN(SUBSTITUTE(SUBSTITUTE(I5,CHAR(10),""),CHAR(13),"")) )>300,"NG","OK") -> OK | N5: =IF(OR( COUNTIF(E5:I5,"*<*")>0, COUNTIF(E5:I5,"*>*")>0, COUNTIF(E5:I5,"*&*")>0, COUNTIF(E5:I5,"*""*")>0, COUNTIF(E5:I5,"*'*")>0 ),"NG","OK") -> OK | O5: =IF(COUNTA(E5:I5)=0,"NG","OK") -> NG
B6: # | C6: 実施内容 | D6: 担当者 | E6: 内容
B7: =ROW()-6 -> 1 | M7: =IF(MAX( LEN(SUBSTITUTE(SUBSTITUTE(C7,CHAR(10),""),CHAR(13),"")), LEN(SUBSTITUTE(SUBSTITUTE(D7,CHAR(10),""),CHAR(13),"")), LEN(SUBSTITUTE(SUBSTITUTE(E7,CHAR(10),""),CHAR(13),"")), LEN(SUBSTITUTE(SUBSTITUTE(F7,CHAR(10),""),CHAR(13),"")), LEN(SUBSTITUTE(SUBSTITUTE(G7,CHAR(10),""),CHAR(13),"")), LEN(SUBSTITUTE(SUBSTITUTE(H7,CHAR(10),""),CHAR(13),"")), LEN(SUBSTITUTE(SUBSTITUTE(I7,CHAR(10),""),CHAR(13),"")) )>300,"NG","OK") -> OK | N7: =IF(OR( COUNTIF(C7:I7,"*<*")>0, COUNTIF(C7:I7,"*>*")>0, COUNTIF(C7:I7,"*&*")>0, COUNTIF(C7:I7,"*""*")>0, COUNTIF(C7:I7,"*'*")>0 ),"NG","OK") -> OK | O7: =IF(OR(C7="", D7="", COUNTA(E7:I7)=0), "NG", "OK") -> NG
B8: =ROW()-6 -> 2 | M8: =IF(MAX( LEN(SUBSTITUTE(SUBSTITUTE(C8,CHAR(10),""),CHAR(13),"")), LEN(SUBSTITUTE(SUBSTITUTE(D8,CHAR(10),""),CHAR(13),"")), LEN(SUBSTITUTE(SUBSTITUTE(E8,CHAR(10),""),CHAR(13),"")), LEN(SUBSTITUTE(SUBSTITUTE(F8,CHAR(10),""),CHAR(13),"")), LEN(SUBSTITUTE(SUBSTITUTE(G8,CHAR(10),""),CHAR(13),"")), LEN(SUBSTITUTE(SUBSTITUTE(H8,CHAR(10),""),CHAR(13),"")), LEN(SUBSTITUTE(SUBSTITUTE(I8,CHAR(10),""),CHAR(13),"")) )>300,"NG","OK") -> OK | N8: =IF(OR( COUNTIF(C8:I8,"*<*")>0, COUNTIF(C8:I8,"*>*")>0, COUNTIF(C8:I8,"*&*")>0, COUNTIF(C8:I8,"*""*")>0, COUNTIF(C8:I8,"*'*")>0 ),"NG","OK") -> OK | O8: -
B9: =ROW()-6 -> 3 | M9: =IF(MAX( LEN(SUBSTITUTE(SUBSTITUTE(C9,CHAR(10),""),CHAR(13),"")), LEN(SUBSTITUTE(SUBSTITUTE(D9,CHAR(10),""),CHAR(13),"")), LEN(SUBSTITUTE(SUBSTITUTE(E9,CHAR(10),""),CHAR(13),"")), LEN(SUBSTITUTE(SUBSTITUTE(F9,CHAR(10),""),CHAR(13),"")), LEN(SUBSTITUTE(SUBSTITUTE(G9,CHAR(10),""),CHAR(13),"")), LEN(SUBSTITUTE(SUBSTITUTE(H9,CHAR(10),""),CHAR(13),"")), LEN(SUBSTITUTE(SUBSTITUTE(I9,CHAR(10),""),CHAR(13),"")) )>300,"NG","OK") -> OK | N9: =IF(OR( COUNTIF(C9:I9,"*<*")>0, COUNTIF(C9:I9,"*>*")>0, COUNTIF(C9:I9,"*&*")>0, COUNTIF(C9:I9,"*""*")>0, COUNTIF(C9:I9,"*'*")>0 ),"NG","OK") -> OK | O9: -
B10: =ROW()-6 -> 4 | M10: =IF(MAX( LEN(SUBSTITUTE(SUBSTITUTE(C10,CHAR(10),""),CHAR(13),"")), LEN(SUBSTITUTE(SUBSTITUTE(D10,CHAR(10),""),CHAR(13),"")), LEN(SUBSTITUTE(SUBSTITUTE(E10,CHAR(10),""),CHAR(13),"")), LEN(SUBSTITUTE(SUBSTITUTE(F10,CHAR(10),""),CHAR(13),"")), LEN(SUBSTITUTE(SUBSTITUTE(G10,CHAR(10),""),CHAR(13),"")), LEN(SUBSTITUTE(SUBSTITUTE(H10,CHAR(10),""),CHAR(13),"")), LEN(SUBSTITUTE(SUBSTITUTE(I10,CHAR(10),""),CHAR(13),"")) )>300,"NG","OK") -> OK | N10: =IF(OR( COUNTIF(C10:I10,"*<*")>0, COUNTIF(C10:I10,"*>*")>0, COUNTIF(C10:I10,"*&*")>0, COUNTIF(C10:I10,"*""*")>0, COUNTIF(C10:I10,"*'*")>0 ),"NG","OK") -> OK | O10: -
B11: =ROW()-6 -> 5 | M11: =IF(MAX( LEN(SUBSTITUTE(SUBSTITUTE(C11,CHAR(10),""),CHAR(13),"")), LEN(SUBSTITUTE(SUBSTITUTE(D11,CHAR(10),""),CHAR(13),"")), LEN(SUBSTITUTE(SUBSTITUTE(E11,CHAR(10),""),CHAR(13),"")), LEN(SUBSTITUTE(SUBSTITUTE(F11,CHAR(10),""),CHAR(13),"")), LEN(SUBSTITUTE(SUBSTITUTE(G11,CHAR(10),""),CHAR(13),"")), LEN(SUBSTITUTE(SUBSTITUTE(H11,CHAR(10),""),CHAR(13),"")), LEN(SUBSTITUTE(SUBSTITUTE(I11,CHAR(10),""),CHAR(13),"")) )>300,"NG","OK") -> OK | N11: =IF(OR( COUNTIF(C11:I11,"*<*")>0, COUNTIF(C11:I11,"*>*")>0, COUNTIF(C11:I11,"*&*")>0, COUNTIF(C11:I11,"*""*")>0, COUNTIF(C11:I11,"*'*")>0 ),"NG","OK") -> OK | O11: -
B12: =ROW()-6 -> 6 | M12: =IF(MAX( LEN(SUBSTITUTE(SUBSTITUTE(C12,CHAR(10),""),CHAR(13),"")), LEN(SUBSTITUTE(SUBSTITUTE(D12,CHAR(10),""),CHAR(13),"")), LEN(SUBSTITUTE(SUBSTITUTE(E12,CHAR(10),""),CHAR(13),"")), LEN(SUBSTITUTE(SUBSTITUTE(F12,CHAR(10),""),CHAR(13),"")), LEN(SUBSTITUTE(SUBSTITUTE(G12,CHAR(10),""),CHAR(13),"")), LEN(SUBSTITUTE(SUBSTITUTE(H12,CHAR(10),""),CHAR(13),"")), LEN(SUBSTITUTE(SUBSTITUTE(I12,CHAR(10),""),CHAR(13),"")) )>300,"NG","OK") -> OK | N12: =IF(OR( COUNTIF(C12:I12,"*<*")>0, COUNTIF(C12:I12,"*>*")>0, COUNTIF(C12:I12,"*&*")>0, COUNTIF(C12:I12,"*""*")>0, COUNTIF(C12:I12,"*'*")>0 ),"NG","OK") -> OK | O12: -
B13: =ROW()-6 -> 7 | M13: =IF(MAX( LEN(SUBSTITUTE(SUBSTITUTE(C13,CHAR(10),""),CHAR(13),"")), LEN(SUBSTITUTE(SUBSTITUTE(D13,CHAR(10),""),CHAR(13),"")), LEN(SUBSTITUTE(SUBSTITUTE(E13,CHAR(10),""),CHAR(13),"")), LEN(SUBSTITUTE(SUBSTITUTE(F13,CHAR(10),""),CHAR(13),"")), LEN(SUBSTITUTE(SUBSTITUTE(G13,CHAR(10),""),CHAR(13),"")), LEN(SUBSTITUTE(SUBSTITUTE(H13,CHAR(10),""),CHAR(13),"")), LEN(SUBSTITUTE(SUBSTITUTE(I13,CHAR(10),""),CHAR(13),"")) )>300,"NG","OK") -> OK | N13: =IF(OR( COUNTIF(C13:I13,"*<*")>0, COUNTIF(C13:I13,"*>*")>0, COUNTIF(C13:I13,"*&*")>0, COUNTIF(C13:I13,"*""*")>0, COUNTIF(C13:I13,"*'*")>0 ),"NG","OK") -> OK | O13: -
B14: =ROW()-6 -> 8 | M14: =IF(MAX( LEN(SUBSTITUTE(SUBSTITUTE(C14,CHAR(10),""),CHAR(13),"")), LEN(SUBSTITUTE(SUBSTITUTE(D14,CHAR(10),""),CHAR(13),"")), LEN(SUBSTITUTE(SUBSTITUTE(E14,CHAR(10),""),CHAR(13),"")), LEN(SUBSTITUTE(SUBSTITUTE(F14,CHAR(10),""),CHAR(13),"")), LEN(SUBSTITUTE(SUBSTITUTE(G14,CHAR(10),""),CHAR(13),"")), LEN(SUBSTITUTE(SUBSTITUTE(H14,CHAR(10),""),CHAR(13),"")), LEN(SUBSTITUTE(SUBSTITUTE(I14,CHAR(10),""),CHAR(13),"")) )>300,"NG","OK") -> OK | N14: =IF(OR( COUNTIF(C14:I14,"*<*")>0, COUNTIF(C14:I14,"*>*")>0, COUNTIF(C14:I14,"*&*")>0, COUNTIF(C14:I14,"*""*")>0, COUNTIF(C14:I14,"*'*")>0 ),"NG","OK") -> OK | O14: -
B15: =ROW()-6 -> 9 | M15: =IF(MAX( LEN(SUBSTITUTE(SUBSTITUTE(C15,CHAR(10),""),CHAR(13),"")), LEN(SUBSTITUTE(SUBSTITUTE(D15,CHAR(10),""),CHAR(13),"")), LEN(SUBSTITUTE(SUBSTITUTE(E15,CHAR(10),""),CHAR(13),"")), LEN(SUBSTITUTE(SUBSTITUTE(F15,CHAR(10),""),CHAR(13),"")), LEN(SUBSTITUTE(SUBSTITUTE(G15,CHAR(10),""),CHAR(13),"")), LEN(SUBSTITUTE(SUBSTITUTE(H15,CHAR(10),""),CHAR(13),"")), LEN(SUBSTITUTE(SUBSTITUTE(I15,CHAR(10),""),CHAR(13),"")) )>300,"NG","OK") -> OK | N15: =IF(OR( COUNTIF(C15:I15,"*<*")>0, COUNTIF(C15:I15,"*>*")>0, COUNTIF(C15:I15,"*&*")>0, COUNTIF(C15:I15,"*""*")>0, COUNTIF(C15:I15,"*'*")>0 ),"NG","OK") -> OK | O15: -
B16: =ROW()-6 -> 10 | M16: =IF(MAX( LEN(SUBSTITUTE(SUBSTITUTE(C16,CHAR(10),""),CHAR(13),"")), LEN(SUBSTITUTE(SUBSTITUTE(D16,CHAR(10),""),CHAR(13),"")), LEN(SUBSTITUTE(SUBSTITUTE(E16,CHAR(10),""),CHAR(13),"")), LEN(SUBSTITUTE(SUBSTITUTE(F16,CHAR(10),""),CHAR(13),"")), LEN(SUBSTITUTE(SUBSTITUTE(G16,CHAR(10),""),CHAR(13),"")), LEN(SUBSTITUTE(SUBSTITUTE(H16,CHAR(10),""),CHAR(13),"")), LEN(SUBSTITUTE(SUBSTITUTE(I16,CHAR(10),""),CHAR(13),"")) )>300,"NG","OK") -> OK | N16: =IF(OR( COUNTIF(C16:I16,"*<*")>0, COUNTIF(C16:I16,"*>*")>0, COUNTIF(C16:I16,"*&*")>0, COUNTIF(C16:I16,"*""*")>0, COUNTIF(C16:I16,"*'*")>0 ),"NG","OK") -> OK | O16: -

Sheet 【記入例】スケジュール(補助事業実施期間)
C2: 補助対象事業枠
C3: 革新的新製品・サービス枠 | E3: 補助事業実施期間 | T3: 提出可否 | V3: 形式チェック | W3: 文字チェック | X3: 必須チェック | Y3: 事業枠チェック
D4: 年 | E4: 2027 | F4: =IF(AND($E$4<>"",$E$5<>""),EDATE(DATE($E$4,$E$5,1),COLUMN()-COLUMN($E4)),"") -> 46508 | G4: =IF(AND($E$4<>"",$E$5<>""),EDATE(DATE($E$4,$E$5,1),COLUMN()-COLUMN($E4)),"") -> 46539 | H4: =IF(AND($E$4<>"",$E$5<>""),EDATE(DATE($E$4,$E$5,1),COLUMN()-COLUMN($E4)),"") -> 46569 | I4: =IF(AND($E$4<>"",$E$5<>""),EDATE(DATE($E$4,$E$5,1),COLUMN()-COLUMN($E4)),"") -> 46600 | J4: =IF(AND($E$4<>"",$E$5<>""),EDATE(DATE($E$4,$E$5,1),COLUMN()-COLUMN($E4)),"") -> 46631 | K4: =IF(AND($E$4<>"",$E$5<>""),EDATE(DATE($E$4,$E$5,1),COLUMN()-COLUMN($E4)),"") -> 46661 | L4: =IF(AND($E$4<>"",$E$5<>""),EDATE(DATE($E$4,$E$5,1),COLUMN()-COLUMN($E4)),"") -> 46692 | M4: =IF(AND($E$4<>"",$E$5<>""),EDATE(DATE($E$4,$E$5,1),COLUMN()-COLUMN($E4)),"") -> 46722 | ... R4: =IF(AND($E$4<>"",$E$5<>""),EDATE(DATE($E$4,$E$5,1),COLUMN()-COLUMN($E4)),"") -> 46874 | T4: =IF(COUNTIF(V4:Y17,"NG")>0,"NG","OK") -> OK | V4: - | W4: - | X4: =IF(E4="", "NG", "OK") -> OK | Y4: =IF($C$3="", "NG", IF($C$3=リスト!$A$2, IF(COUNTA(O6:R6, O8:R17) > 0, "NG", "OK" ))) -> OK
D5: 月 | E5: 4 | F5: =IF(AND($E$4<>"",$E$5<>""),EDATE(DATE($E$4,$E$5,1),COLUMN()-COLUMN($E5)),"") -> 46508 | G5: =IF(AND($E$4<>"",$E$5<>""),EDATE(DATE($E$4,$E$5,1),COLUMN()-COLUMN($E5)),"") -> 46539 | H5: =IF(AND($E$4<>"",$E$5<>""),EDATE(DATE($E$4,$E$5,1),COLUMN()-COLUMN($E5)),"") -> 46569 | I5: =IF(AND($E$4<>"",$E$5<>""),EDATE(DATE($E$4,$E$5,1),COLUMN()-COLUMN($E5)),"") -> 46600 | J5: =IF(AND($E$4<>"",$E$5<>""),EDATE(DATE($E$4,$E$5,1),COLUMN()-COLUMN($E5)),"") -> 46631 | K5: =IF(AND($E$4<>"",$E$5<>""),EDATE(DATE($E$4,$E$5,1),COLUMN()-COLUMN($E5)),"") -> 46661 | L5: =IF(AND($E$4<>"",$E$5<>""),EDATE(DATE($E$4,$E$5,1),COLUMN()-COLUMN($E5)),"") -> 46692 | M5: =IF(AND($E$4<>"",$E$5<>""),EDATE(DATE($E$4,$E$5,1),COLUMN()-COLUMN($E5)),"") -> 46722 | ... R5: =IF(AND($E$4<>"",$E$5<>""),EDATE(DATE($E$4,$E$5,1),COLUMN()-COLUMN($E5)),"") -> 46874 | T5: =IF($T$4="NG","※「はじめに」シートの3.①.❺をご確認の上、入力内容に誤りがないかをご確認ください。","") | V5: - | W5: - | X5: =IF(E5="", "NG", "OK") -> OK | Y5: -
D6: マイルストーン | E6: 交付決定。急速凍結設備および低温乾燥設備の仕様確定と発注完了。 | H6: 急速凍結設備および低温乾燥設備の搬入、据付、試運転完了。 | J6: 第一次試作品完成。冷凍水産惣菜2品目の品質評価完了。 | L6: 生産管理システム本稼働開始。新製法にかかる特許出願完了。 | M6: 食品見本市出展を経た量販店バイヤーとの商談完了。初回受注獲得。 | N6: 新ラインでの量産開始。補助対象経費の支払完了により補助事業完了。 | V6: =IF(MAX( LEN(SUBSTITUTE(SUBSTITUTE(E6,CHAR(10),""),CHAR(13),"")), LEN(SUBSTITUTE(SUBSTITUTE(F6,CHAR(10),""),CHAR(13),"")), LEN(SUBSTITUTE(SUBSTITUTE(G6,CHAR(10),""),CHAR(13),"")), LEN(SUBSTITUTE(SUBSTITUTE(H6,CHAR(10),""),CHAR(13),"")), LEN(SUBSTITUTE(SUBSTITUTE(I6,CHAR(10),""),CHAR(13),"")), LEN(SUBSTITUTE(SUBSTITUTE(J6,CHAR(10),""),CHAR(13),"")), LEN(SUBSTITUTE(SUBSTITUTE(K6,CHAR(10),""),CHAR(13),"")), LEN(SUBSTITUTE(SUBSTITUTE(L6,CHAR(10),""),CHAR(13),"")), LEN(SUBSTITUTE(SUBSTITUTE(M6,CHAR(10),""),CHAR(13),"")), LEN(SUBSTITUTE(SUBSTITUTE(N6,CHAR(10),""),CHAR(13),"")), LEN(SUBSTITUTE(SUBSTITUTE(O6,CHAR(10),""),CHAR(13),"")), LEN(SUBSTITUTE(SUBSTITUTE(P6,CHAR(10),""),CHAR(13),"")), LEN(SUBSTITUTE(SUBSTITUTE(Q6,CHAR(10),""),CHAR(13),"")), LEN(SUBSTITUTE(SUBSTITUTE(R6,CHAR(10),""),CHAR(13),"")) )>300,"NG","OK") -> OK | W6: =IF(OR( COUNTIF(E6:R6,"*<*")>0, COUNTIF(E6:R6,"*>*")>0, COUNTIF(E6:R6,"*&*")>0, COUNTIF(E6:R6,"*""*")>0, COUNTIF(E6:R6,"*'*")>0 ),"NG","OK") -> OK | X6: =IF(COUNTA(E6:R6)=0,"NG","OK") -> OK | Y6: -
B7: # | C7: 実施内容 | D7: 担当者 | E7: 内容
B8: =ROW()-ROW($B$7) -> 1 | C8: 設備導入 | D8: 製造部長 | E8: 急速凍結設備および低温乾燥設備の仕様最終確定、複数社からの見積取得と比較。 | F8: 設備の発注、契約締結、設置場所の電源および給排水工事の手配。 | G8: 設備製作の進捗確認、工場立会検査、既存ラインの配置変更。 | H8: 設備の搬入、据付、試運転および能力確認。 | I8: 稼働条件の調整、操作手順書の整備、製造担当者への操作研修。 | V8: =IF(MAX( LEN(SUBSTITUTE(SUBSTITUTE(C8,CHAR(10),""),CHAR(13),"")), LEN(SUBSTITUTE(SUBSTITUTE(D8,CHAR(10),""),CHAR(13),"")), LEN(SUBSTITUTE(SUBSTITUTE(E8,CHAR(10),""),CHAR(13),"")), LEN(SUBSTITUTE(SUBSTITUTE(F8,CHAR(10),""),CHAR(13),"")), LEN(SUBSTITUTE(SUBSTITUTE(G8,CHAR(10),""),CHAR(13),"")), LEN(SUBSTITUTE(SUBSTITUTE(H8,CHAR(10),""),CHAR(13),"")), LEN(SUBSTITUTE(SUBSTITUTE(I8,CHAR(10),""),CHAR(13),"")), LEN(SUBSTITUTE(SUBSTITUTE(J8,CHAR(10),""),CHAR(13),"")), LEN(SUBSTITUTE(SUBSTITUTE(K8,CHAR(10),""),CHAR(13),"")), LEN(SUBSTITUTE(SUBSTITUTE(L8,CHAR(10),""),CHAR(13),"")), LEN(SUBSTITUTE(SUBSTITUTE(M8,CHAR(10),""),CHAR(13),"")), LEN(SUBSTITUTE(SUBSTITUTE(N8,CHAR(10),""),CHAR(13),"")), LEN(SUBSTITUTE(SUBSTITUTE(O8,CHAR(10),""),CHAR(13),"")), LEN(SUBSTITUTE(SUBSTITUTE(P8,CHAR(10),""),CHAR(13),"")), LEN(SUBSTITUTE(SUBSTITUTE(Q8,CHAR(10),""),CHAR(13),"")), LEN(SUBSTITUTE(SUBSTITUTE(R8,CHAR(10),""),CHAR(13),"")) )>300,"NG","OK") -> OK | W8: =IF(OR( COUNTIF(C8:R8,"*<*")>0, COUNTIF(C8:R8,"*>*")>0, COUNTIF(C8:R8,"*&*")>0, COUNTIF(C8:R8,"*""*")>0, COUNTIF(C8:R8,"*'*")>0 ),"NG","OK") -> OK | X8: =IF(OR(C8="", D8="", COUNTA(E8:R8)=0), "NG", "OK") -> OK | Y8: -
B9: =ROW()-ROW($B$7) -> 2 | C9: 生産管理システム構築 | D9: 管理部 課長 | F9: 業務要件の整理とベンダー選定、要件定義書の確定。 | G9: システム設計、製造ロットおよび温度履歴の管理項目の設計。 | H9: 開発、既存の受注データおよび品目マスタの移行準備。 | I9: 開発完了、社内テスト環境での動作確認。 | J9: 受入テスト、運用手順の整備、担当者への操作研修。 | L9: 本稼働開始、新ラインの製造実績データの記録運用を開始。 | V9: =IF(MAX( LEN(SUBSTITUTE(SUBSTITUTE(C9,CHAR(10),""),CHAR(13),"")), LEN(SUBSTITUTE(SUBSTITUTE(D9,CHAR(10),""),CHAR(13),"")), LEN(SUBSTITUTE(SUBSTITUTE(E9,CHAR(10),""),CHAR(13),"")), LEN(SUBSTITUTE(SUBSTITUTE(F9,CHAR(10),""),CHAR(13),"")), LEN(SUBSTITUTE(SUBSTITUTE(G9,CHAR(10),""),CHAR(13),"")), LEN(SUBSTITUTE(SUBSTITUTE(H9,CHAR(10),""),CHAR(13),"")), LEN(SUBSTITUTE(SUBSTITUTE(I9,CHAR(10),""),CHAR(13),"")), LEN(SUBSTITUTE(SUBSTITUTE(J9,CHAR(10),""),CHAR(13),"")), LEN(SUBSTITUTE(SUBSTITUTE(K9,CHAR(10),""),CHAR(13),"")), LEN(SUBSTITUTE(SUBSTITUTE(L9,CHAR(10),""),CHAR(13),"")), LEN(SUBSTITUTE(SUBSTITUTE(M9,CHAR(10),""),CHAR(13),"")), LEN(SUBSTITUTE(SUBSTITUTE(N9,CHAR(10),""),CHAR(13),"")), LEN(SUBSTITUTE(SUBSTITUTE(O9,CHAR(10),""),CHAR(13),"")), LEN(SUBSTITUTE(SUBSTITUTE(P9,CHAR(10),""),CHAR(13),"")), LEN(SUBSTITUTE(SUBSTITUTE(Q9,CHAR(10),""),CHAR(13),"")), LEN(SUBSTITUTE(SUBSTITUTE(R9,CHAR(10),""),CHAR(13),"")) )>300,"NG","OK") -> OK | W9: =IF(OR( COUNTIF(C9:R9,"*<*")>0, COUNTIF(C9:R9,"*>*")>0, COUNTIF(C9:R9,"*&*")>0, COUNTIF(C9:R9,"*""*")>0, COUNTIF(C9:R9,"*'*")>0 ),"NG","OK") -> OK | X9: - | Y9: -
B10: =ROW()-ROW($B$7) -> 3 | C10: 製品開発・試作 | D10: 商品開発課 主任 | G10: 配合設計、加熱条件および凍結条件の検討、原材料の選定。 | I10: 新設備を用いた第一次試作の実施、試作用原材料の調達。 | J10: 品質評価および官能検査、解凍後の食感と風味の検証。 | K10: 第二次試作の実施、製品仕様および包装形態の確定。 | V10: =IF(MAX( LEN(SUBSTITUTE(SUBSTITUTE(C10,CHAR(10),""),CHAR(13),"")), LEN(SUBSTITUTE(SUBSTITUTE(D10,CHAR(10),""),CHAR(13),"")), LEN(SUBSTITUTE(SUBSTITUTE(E10,CHAR(10),""),CHAR(13),"")), LEN(SUBSTITUTE(SUBSTITUTE(F10,CHAR(10),""),CHAR(13),"")), LEN(SUBSTITUTE(SUBSTITUTE(G10,CHAR(10),""),CHAR(13),"")), LEN(SUBSTITUTE(SUBSTITUTE(H10,CHAR(10),""),CHAR(13),"")), LEN(SUBSTITUTE(SUBSTITUTE(I10,CHAR(10),""),CHAR(13),"")), LEN(SUBSTITUTE(SUBSTITUTE(J10,CHAR(10),""),CHAR(13),"")), LEN(SUBSTITUTE(SUBSTITUTE(K10,CHAR(10),""),CHAR(13),"")), LEN(SUBSTITUTE(SUBSTITUTE(L10,CHAR(10),""),CHAR(13),"")), LEN(SUBSTITUTE(SUBSTITUTE(M10,CHAR(10),""),CHAR(13),"")), LEN(SUBSTITUTE(SUBSTITUTE(N10,CHAR(10),""),CHAR(13),"")), LEN(SUBSTITUTE(SUBSTITUTE(O10,CHAR(10),""),CHAR(13),"")), LEN(SUBSTITUTE(SUBSTITUTE(P10,CHAR(10),""),CHAR(13),"")), LEN(SUBSTITUTE(SUBSTITUTE(Q10,CHAR(10),""),CHAR(13),"")), LEN(SUBSTITUTE(SUBSTITUTE(R10,CHAR(10),""),CHAR(13),"")) )>300,"NG","OK") -> OK | W10: =IF(OR( COUNTIF(C10:R10,"*<*")>0, COUNTIF(C10:R10,"*>*")>0, COUNTIF(C10:R10,"*&*")>0, COUNTIF(C10:R10,"*""*")>0, COUNTIF(C10:R10,"*'*")>0 ),"NG","OK") -> OK | X10: - | Y10: -
B11: =ROW()-ROW($B$7) -> 4 | C11: 衛生管理体制の構築 | D11: 品質保証課長 | H11: 新ラインを対象としたHACCP計画の見直しと危害要因分析。 | I11: 専門家による技術指導の受講、作業手順書および記録様式の整備。 | K11: 従業員教育の実施、衛生管理運用の開始と初期検証。 | V11: =IF(MAX( LEN(SUBSTITUTE(SUBSTITUTE(C11,CHAR(10),""),CHAR(13),"")), LEN(SUBSTITUTE(SUBSTITUTE(D11,CHAR(10),""),CHAR(13),"")), LEN(SUBSTITUTE(SUBSTITUTE(E11,CHAR(10),""),CHAR(13),"")), LEN(SUBSTITUTE(SUBSTITUTE(F11,CHAR(10),""),CHAR(13),"")), LEN(SUBSTITUTE(SUBSTITUTE(G11,CHAR(10),""),CHAR(13),"")), LEN(SUBSTITUTE(SUBSTITUTE(H11,CHAR(10),""),CHAR(13),"")), LEN(SUBSTITUTE(SUBSTITUTE(I11,CHAR(10),""),CHAR(13),"")), LEN(SUBSTITUTE(SUBSTITUTE(J11,CHAR(10),""),CHAR(13),"")), LEN(SUBSTITUTE(SUBSTITUTE(K11,CHAR(10),""),CHAR(13),"")), LEN(SUBSTITUTE(SUBSTITUTE(L11,CHAR(10),""),CHAR(13),"")), LEN(SUBSTITUTE(SUBSTITUTE(M11,CHAR(10),""),CHAR(13),"")), LEN(SUBSTITUTE(SUBSTITUTE(N11,CHAR(10),""),CHAR(13),"")), LEN(SUBSTITUTE(SUBSTITUTE(O11,CHAR(10),""),CHAR(13),"")), LEN(SUBSTITUTE(SUBSTITUTE(P11,CHAR(10),""),CHAR(13),"")), LEN(SUBSTITUTE(SUBSTITUTE(Q11,CHAR(10),""),CHAR(13),"")), LEN(SUBSTITUTE(SUBSTITUTE(R11,CHAR(10),""),CHAR(13),"")) )>300,"NG","OK") -> OK | W11: =IF(OR( COUNTIF(C11:R11,"*<*")>0, COUNTIF(C11:R11,"*>*")>0, COUNTIF(C11:R11,"*&*")>0, COUNTIF(C11:R11,"*""*")>0, COUNTIF(C11:R11,"*'*")>0 ),"NG","OK") -> OK | X11: - | Y11: -
B12: =ROW()-ROW($B$7) -> 5 | C12: 知的財産権の取得 | D12: 総務課長 | I12: 弁理士との打合せ、先行技術調査の実施。 | K12: 特許明細書および図面の作成、請求範囲の検討。 | L12: 特許出願手続の完了。 | V12: =IF(MAX( LEN(SUBSTITUTE(SUBSTITUTE(C12,CHAR(10),""),CHAR(13),"")), LEN(SUBSTITUTE(SUBSTITUTE(D12,CHAR(10),""),CHAR(13),"")), LEN(SUBSTITUTE(SUBSTITUTE(E12,CHAR(10),""),CHAR(13),"")), LEN(SUBSTITUTE(SUBSTITUTE(F12,CHAR(10),""),CHAR(13),"")), LEN(SUBSTITUTE(SUBSTITUTE(G12,CHAR(10),""),CHAR(13),"")), LEN(SUBSTITUTE(SUBSTITUTE(H12,CHAR(10),""),CHAR(13),"")), LEN(SUBSTITUTE(SUBSTITUTE(I12,CHAR(10),""),CHAR(13),"")), LEN(SUBSTITUTE(SUBSTITUTE(J12,CHAR(10),""),CHAR(13),"")), LEN(SUBSTITUTE(SUBSTITUTE(K12,CHAR(10),""),CHAR(13),"")), LEN(SUBSTITUTE(SUBSTITUTE(L12,CHAR(10),""),CHAR(13),"")), LEN(SUBSTITUTE(SUBSTITUTE(M12,CHAR(10),""),CHAR(13),"")), LEN(SUBSTITUTE(SUBSTITUTE(N12,CHAR(10),""),CHAR(13),"")), LEN(SUBSTITUTE(SUBSTITUTE(O12,CHAR(10),""),CHAR(13),"")), LEN(SUBSTITUTE(SUBSTITUTE(P12,CHAR(10),""),CHAR(13),"")), LEN(SUBSTITUTE(SUBSTITUTE(Q12,CHAR(10),""),CHAR(13),"")), LEN(SUBSTITUTE(SUBSTITUTE(R12,CHAR(10),""),CHAR(13),"")) )>300,"NG","OK") -> OK | W12: =IF(OR( COUNTIF(C12:R12,"*<*")>0, COUNTIF(C12:R12,"*>*")>0, COUNTIF(C12:R12,"*&*")>0, COUNTIF(C12:R12,"*""*")>0, COUNTIF(C12:R12,"*'*")>0 ),"NG","OK") -> OK | X12: - | Y12: -
B13: =ROW()-ROW($B$7) -> 6 | C13: 販路開拓・販促 | D13: 営業部長 | J13: 食品見本市への出展申込、カタログおよびPOPの企画。 | K13: 販促物の制作、提案資料および価格表の作成。 | L13: 食品見本市への出展、来場バイヤーへの試食提案。 | M13: 量販店バイヤーとの商談、試作品およびサンプルの冷凍便配送。 | N13: 初回受注の獲得、納品条件および販売計画の確定。 | V13: =IF(MAX( LEN(SUBSTITUTE(SUBSTITUTE(C13,CHAR(10),""),CHAR(13),"")), LEN(SUBSTITUTE(SUBSTITUTE(D13,CHAR(10),""),CHAR(13),"")), LEN(SUBSTITUTE(SUBSTITUTE(E13,CHAR(10),""),CHAR(13),"")), LEN(SUBSTITUTE(SUBSTITUTE(F13,CHAR(10),""),CHAR(13),"")), LEN(SUBSTITUTE(SUBSTITUTE(G13,CHAR(10),""),CHAR(13),"")), LEN(SUBSTITUTE(SUBSTITUTE(H13,CHAR(10),""),CHAR(13),"")), LEN(SUBSTITUTE(SUBSTITUTE(I13,CHAR(10),""),CHAR(13),"")), LEN(SUBSTITUTE(SUBSTITUTE(J13,CHAR(10),""),CHAR(13),"")), LEN(SUBSTITUTE(SUBSTITUTE(K13,CHAR(10),""),CHAR(13),"")), LEN(SUBSTITUTE(SUBSTITUTE(L13,CHAR(10),""),CHAR(13),"")), LEN(SUBSTITUTE(SUBSTITUTE(M13,CHAR(10),""),CHAR(13),"")), LEN(SUBSTITUTE(SUBSTITUTE(N13,CHAR(10),""),CHAR(13),"")), LEN(SUBSTITUTE(SUBSTITUTE(O13,CHAR(10),""),CHAR(13),"")), LEN(SUBSTITUTE(SUBSTITUTE(P13,CHAR(10),""),CHAR(13),"")), LEN(SUBSTITUTE(SUBSTITUTE(Q13,CHAR(10),""),CHAR(13),"")), LEN(SUBSTITUTE(SUBSTITUTE(R13,CHAR(10),""),CHAR(13),"")) )>300,"NG","OK") -> OK | W13: =IF(OR( COUNTIF(C13:R13,"*<*")>0, COUNTIF(C13:R13,"*>*")>0, COUNTIF(C13:R13,"*&*")>0, COUNTIF(C13:R13,"*""*")>0, COUNTIF(C13:R13,"*'*")>0 ),"NG","OK") -> OK | X13: - | Y13: -
B14: =ROW()-ROW($B$7) -> 7 | C14: 量産移行・補助事業完了手続 | D14: 経営企画室 専務 | M14: 量産試作の実施、歩留および製造原価の検証、販売価格の最終決定。 | N14: 量産開始、補助対象経費の支払完了、実績報告書類の準備。 | V14: =IF(MAX( LEN(SUBSTITUTE(SUBSTITUTE(C14,CHAR(10),""),CHAR(13),"")), LEN(SUBSTITUTE(SUBSTITUTE(D14,CHAR(10),""),CHAR(13),"")), LEN(SUBSTITUTE(SUBSTITUTE(E14,CHAR(10),""),CHAR(13),"")), LEN(SUBSTITUTE(SUBSTITUTE(F14,CHAR(10),""),CHAR(13),"")), LEN(SUBSTITUTE(SUBSTITUTE(G14,CHAR(10),""),CHAR(13),"")), LEN(SUBSTITUTE(SUBSTITUTE(H14,CHAR(10),""),CHAR(13),"")), LEN(SUBSTITUTE(SUBSTITUTE(I14,CHAR(10),""),CHAR(13),"")), LEN(SUBSTITUTE(SUBSTITUTE(J14,CHAR(10),""),CHAR(13),"")), LEN(SUBSTITUTE(SUBSTITUTE(K14,CHAR(10),""),CHAR(13),"")), LEN(SUBSTITUTE(SUBSTITUTE(L14,CHAR(10),""),CHAR(13),"")), LEN(SUBSTITUTE(SUBSTITUTE(M14,CHAR(10),""),CHAR(13),"")), LEN(SUBSTITUTE(SUBSTITUTE(N14,CHAR(10),""),CHAR(13),"")), LEN(SUBSTITUTE(SUBSTITUTE(O14,CHAR(10),""),CHAR(13),"")), LEN(SUBSTITUTE(SUBSTITUTE(P14,CHAR(10),""),CHAR(13),"")), LEN(SUBSTITUTE(SUBSTITUTE(Q14,CHAR(10),""),CHAR(13),"")), LEN(SUBSTITUTE(SUBSTITUTE(R14,CHAR(10),""),CHAR(13),"")) )>300,"NG","OK") -> OK | W14: =IF(OR( COUNTIF(C14:R14,"*<*")>0, COUNTIF(C14:R14,"*>*")>0, COUNTIF(C14:R14,"*&*")>0, COUNTIF(C14:R14,"*""*")>0, COUNTIF(C14:R14,"*'*")>0 ),"NG","OK") -> OK | X14: - | Y14: -
B15: =ROW()-ROW($B$7) -> 8 | V15: =IF(MAX( LEN(SUBSTITUTE(SUBSTITUTE(C15,CHAR(10),""),CHAR(13),"")), LEN(SUBSTITUTE(SUBSTITUTE(D15,CHAR(10),""),CHAR(13),"")), LEN(SUBSTITUTE(SUBSTITUTE(E15,CHAR(10),""),CHAR(13),"")), LEN(SUBSTITUTE(SUBSTITUTE(F15,CHAR(10),""),CHAR(13),"")), LEN(SUBSTITUTE(SUBSTITUTE(G15,CHAR(10),""),CHAR(13),"")), LEN(SUBSTITUTE(SUBSTITUTE(H15,CHAR(10),""),CHAR(13),"")), LEN(SUBSTITUTE(SUBSTITUTE(I15,CHAR(10),""),CHAR(13),"")), LEN(SUBSTITUTE(SUBSTITUTE(J15,CHAR(10),""),CHAR(13),"")), LEN(SUBSTITUTE(SUBSTITUTE(K15,CHAR(10),""),CHAR(13),"")), LEN(SUBSTITUTE(SUBSTITUTE(L15,CHAR(10),""),CHAR(13),"")), LEN(SUBSTITUTE(SUBSTITUTE(M15,CHAR(10),""),CHAR(13),"")), LEN(SUBSTITUTE(SUBSTITUTE(N15,CHAR(10),""),CHAR(13),"")), LEN(SUBSTITUTE(SUBSTITUTE(O15,CHAR(10),""),CHAR(13),"")), LEN(SUBSTITUTE(SUBSTITUTE(P15,CHAR(10),""),CHAR(13),"")), LEN(SUBSTITUTE(SUBSTITUTE(Q15,CHAR(10),""),CHAR(13),"")), LEN(SUBSTITUTE(SUBSTITUTE(R15,CHAR(10),""),CHAR(13),"")) )>300,"NG","OK") -> OK | W15: =IF(OR( COUNTIF(C15:R15,"*<*")>0, COUNTIF(C15:R15,"*>*")>0, COUNTIF(C15:R15,"*&*")>0, COUNTIF(C15:R15,"*""*")>0, COUNTIF(C15:R15,"*'*")>0 ),"NG","OK") -> OK | X15: - | Y15: -
B16: =ROW()-ROW($B$7) -> 9 | V16: =IF(MAX( LEN(SUBSTITUTE(SUBSTITUTE(C16,CHAR(10),""),CHAR(13),"")), LEN(SUBSTITUTE(SUBSTITUTE(D16,CHAR(10),""),CHAR(13),"")), LEN(SUBSTITUTE(SUBSTITUTE(E16,CHAR(10),""),CHAR(13),"")), LEN(SUBSTITUTE(SUBSTITUTE(F16,CHAR(10),""),CHAR(13),"")), LEN(SUBSTITUTE(SUBSTITUTE(G16,CHAR(10),""),CHAR(13),"")), LEN(SUBSTITUTE(SUBSTITUTE(H16,CHAR(10),""),CHAR(13),"")), LEN(SUBSTITUTE(SUBSTITUTE(I16,CHAR(10),""),CHAR(13),"")), LEN(SUBSTITUTE(SUBSTITUTE(J16,CHAR(10),""),CHAR(13),"")), LEN(SUBSTITUTE(SUBSTITUTE(K16,CHAR(10),""),CHAR(13),"")), LEN(SUBSTITUTE(SUBSTITUTE(L16,CHAR(10),""),CHAR(13),"")), LEN(SUBSTITUTE(SUBSTITUTE(M16,CHAR(10),""),CHAR(13),"")), LEN(SUBSTITUTE(SUBSTITUTE(N16,CHAR(10),""),CHAR(13),"")), LEN(SUBSTITUTE(SUBSTITUTE(O16,CHAR(10),""),CHAR(13),"")), LEN(SUBSTITUTE(SUBSTITUTE(P16,CHAR(10),""),CHAR(13),"")), LEN(SUBSTITUTE(SUBSTITUTE(Q16,CHAR(10),""),CHAR(13),"")), LEN(SUBSTITUTE(SUBSTITUTE(R16,CHAR(10),""),CHAR(13),"")) )>300,"NG","OK") -> OK | W16: =IF(OR( COUNTIF(C16:R16,"*<*")>0, COUNTIF(C16:R16,"*>*")>0, COUNTIF(C16:R16,"*&*")>0, COUNTIF(C16:R16,"*""*")>0, COUNTIF(C16:R16,"*'*")>0 ),"NG","OK") -> OK | X16: - | Y16: -
B17: =ROW()-ROW($B$7) -> 10 | V17: =IF(MAX( LEN(SUBSTITUTE(SUBSTITUTE(C17,CHAR(10),""),CHAR(13),"")), LEN(SUBSTITUTE(SUBSTITUTE(D17,CHAR(10),""),CHAR(13),"")), LEN(SUBSTITUTE(SUBSTITUTE(E17,CHAR(10),""),CHAR(13),"")), LEN(SUBSTITUTE(SUBSTITUTE(F17,CHAR(10),""),CHAR(13),"")), LEN(SUBSTITUTE(SUBSTITUTE(G17,CHAR(10),""),CHAR(13),"")), LEN(SUBSTITUTE(SUBSTITUTE(H17,CHAR(10),""),CHAR(13),"")), LEN(SUBSTITUTE(SUBSTITUTE(I17,CHAR(10),""),CHAR(13),"")), LEN(SUBSTITUTE(SUBSTITUTE(J17,CHAR(10),""),CHAR(13),"")), LEN(SUBSTITUTE(SUBSTITUTE(K17,CHAR(10),""),CHAR(13),"")), LEN(SUBSTITUTE(SUBSTITUTE(L17,CHAR(10),""),CHAR(13),"")), LEN(SUBSTITUTE(SUBSTITUTE(M17,CHAR(10),""),CHAR(13),"")), LEN(SUBSTITUTE(SUBSTITUTE(N17,CHAR(10),""),CHAR(13),"")), LEN(SUBSTITUTE(SUBSTITUTE(O17,CHAR(10),""),CHAR(13),"")), LEN(SUBSTITUTE(SUBSTITUTE(P17,CHAR(10),""),CHAR(13),"")), LEN(SUBSTITUTE(SUBSTITUTE(Q17,CHAR(10),""),CHAR(13),"")), LEN(SUBSTITUTE(SUBSTITUTE(R17,CHAR(10),""),CHAR(13),"")) )>300,"NG","OK") -> OK | W17: =IF(OR( COUNTIF(C17:R17,"*<*")>0, COUNTIF(C17:R17,"*>*")>0, COUNTIF(C17:R17,"*&*")>0, COUNTIF(C17:R17,"*""*")>0, COUNTIF(C17:R17,"*'*")>0 ),"NG","OK") -> OK | X17: - | Y17: -

Sheet 【記入例】スケジュール(事業計画期間)
E2: 事業計画期間 | K2: 提出可否 | M2: 形式チェック | N2: 文字チェック | O2: 必須チェック
E3: 1年度目 | F3: 2年度目 | G3: 3年度目 | H3: 4年度目 | I3: 5年度目 | K3: =IF(COUNTIF(M4:O16,"NG")>0,"NG","OK") -> OK
D4: 年度 | E4: 2029 | F4: =IF($E$4<>"",$E$4+1,"") -> 2030 | G4: =IF($E$4<>"",$E$4+2,"") -> 2031 | H4: =IF($E$4<>"",$E$4+3,"") -> 2032 | I4: =IF($E$4<>"",$E$4+4,"") -> 2033 | K4: =IF($K$3="NG","※「はじめに」シートの3.②.❹をご確認の上、入力内容に誤りがないかをご確認ください。","") | M4: - | N4: - | O4: =IF(E4="", "NG", "OK") -> OK
D5: マイルストーン | E5: 新ラインの本格稼働。既存取引の地域量販店3社への定番導入により補助事業売上1,000万円を達成。 | F5: 関東圏の量販店および生協ルートへ販路拡大。第2弾商品の投入により補助事業売上1,400万円を達成。 | G5: 全国チェーンおよび通販チャネルへ展開。補助事業売上1,800万円、付加価値額目標値および一人当たり給与支給総額目標値を達成。 | M5: =IF(MAX( LEN(SUBSTITUTE(SUBSTITUTE(E5,CHAR(10),""),CHAR(13),"")), LEN(SUBSTITUTE(SUBSTITUTE(F5,CHAR(10),""),CHAR(13),"")), LEN(SUBSTITUTE(SUBSTITUTE(G5,CHAR(10),""),CHAR(13),"")), LEN(SUBSTITUTE(SUBSTITUTE(H5,CHAR(10),""),CHAR(13),"")), LEN(SUBSTITUTE(SUBSTITUTE(I5,CHAR(10),""),CHAR(13),"")) )>300,"NG","OK") -> OK | N5: =IF(OR( COUNTIF(E5:I5,"*<*")>0, COUNTIF(E5:I5,"*>*")>0, COUNTIF(E5:I5,"*&*")>0, COUNTIF(E5:I5,"*""*")>0, COUNTIF(E5:I5,"*'*")>0 ),"NG","OK") -> OK | O5: =IF(COUNTA(E5:I5)=0,"NG","OK") -> OK
B6: # | C6: 実施内容 | D6: 担当者 | E6: 内容
B7: =ROW()-6 -> 1 | C7: 生産・品質の安定化 | D7: 製造部長 | E7: 新ラインの稼働率向上と歩留改善、作業標準の定着、温度履歴データの記録運用。 | F7: 繁忙期対応のシフト整備、生産能力の増強余地の検討。 | G7: 定期的な設備保全と品質記録の分析による継続的改善。 | M7: =IF(MAX( LEN(SUBSTITUTE(SUBSTITUTE(C7,CHAR(10),""),CHAR(13),"")), LEN(SUBSTITUTE(SUBSTITUTE(D7,CHAR(10),""),CHAR(13),"")), LEN(SUBSTITUTE(SUBSTITUTE(E7,CHAR(10),""),CHAR(13),"")), LEN(SUBSTITUTE(SUBSTITUTE(F7,CHAR(10),""),CHAR(13),"")), LEN(SUBSTITUTE(SUBSTITUTE(G7,CHAR(10),""),CHAR(13),"")), LEN(SUBSTITUTE(SUBSTITUTE(H7,CHAR(10),""),CHAR(13),"")), LEN(SUBSTITUTE(SUBSTITUTE(I7,CHAR(10),""),CHAR(13),"")) )>300,"NG","OK") -> OK | N7: =IF(OR( COUNTIF(C7:I7,"*<*")>0, COUNTIF(C7:I7,"*>*")>0, COUNTIF(C7:I7,"*&*")>0, COUNTIF(C7:I7,"*""*")>0, COUNTIF(C7:I7,"*'*")>0 ),"NG","OK") -> OK | O7: =IF(OR(C7="", D7="", COUNTA(E7:I7)=0), "NG", "OK") -> OK
B8: =ROW()-6 -> 2 | C8: 販路拡大 | D8: 営業部長 | E8: 既存取引のある地域量販店3社への定番導入、店頭試食販売の実施。 | F8: 関東圏の量販店および生協ルートへの新規提案、卸業者との取引開始。 | G8: 全国チェーンおよび自社通販チャネルへの展開、業務用ルートの開拓。 | M8: =IF(MAX( LEN(SUBSTITUTE(SUBSTITUTE(C8,CHAR(10),""),CHAR(13),"")), LEN(SUBSTITUTE(SUBSTITUTE(D8,CHAR(10),""),CHAR(13),"")), LEN(SUBSTITUTE(SUBSTITUTE(E8,CHAR(10),""),CHAR(13),"")), LEN(SUBSTITUTE(SUBSTITUTE(F8,CHAR(10),""),CHAR(13),"")), LEN(SUBSTITUTE(SUBSTITUTE(G8,CHAR(10),""),CHAR(13),"")), LEN(SUBSTITUTE(SUBSTITUTE(H8,CHAR(10),""),CHAR(13),"")), LEN(SUBSTITUTE(SUBSTITUTE(I8,CHAR(10),""),CHAR(13),"")) )>300,"NG","OK") -> OK | N8: =IF(OR( COUNTIF(C8:I8,"*<*")>0, COUNTIF(C8:I8,"*>*")>0, COUNTIF(C8:I8,"*&*")>0, COUNTIF(C8:I8,"*""*")>0, COUNTIF(C8:I8,"*'*")>0 ),"NG","OK") -> OK | O8: -
B9: =ROW()-6 -> 3 | C9: 商品ラインアップの拡充 | D9: 商品開発課 主任 | E9: 初期2品目の販売開始、消費者アンケートによる評価収集。 | F9: 魚種および調理法を変えた第2弾2品目の開発と投入。 | G9: 季節限定品を加えた計6品目体制の確立、定番品の改良。 | M9: =IF(MAX( LEN(SUBSTITUTE(SUBSTITUTE(C9,CHAR(10),""),CHAR(13),"")), LEN(SUBSTITUTE(SUBSTITUTE(D9,CHAR(10),""),CHAR(13),"")), LEN(SUBSTITUTE(SUBSTITUTE(E9,CHAR(10),""),CHAR(13),"")), LEN(SUBSTITUTE(SUBSTITUTE(F9,CHAR(10),""),CHAR(13),"")), LEN(SUBSTITUTE(SUBSTITUTE(G9,CHAR(10),""),CHAR(13),"")), LEN(SUBSTITUTE(SUBSTITUTE(H9,CHAR(10),""),CHAR(13),"")), LEN(SUBSTITUTE(SUBSTITUTE(I9,CHAR(10),""),CHAR(13),"")) )>300,"NG","OK") -> OK | N9: =IF(OR( COUNTIF(C9:I9,"*<*")>0, COUNTIF(C9:I9,"*>*")>0, COUNTIF(C9:I9,"*&*")>0, COUNTIF(C9:I9,"*""*")>0, COUNTIF(C9:I9,"*'*")>0 ),"NG","OK") -> OK | O9: -
B10: =ROW()-6 -> 4 | C10: 賃上げ・人材育成 | D10: 総務課長 | E10: 一人当たり給与支給総額を年平均3.5パーセント以上引き上げ、事業場内最低賃金を地域別最低賃金より30円以上高い水準に設定。 | F10: 多能工化研修の実施、資格取得支援と処遇改善の継続。 | G10: 賃上げ目標値の達成状況の検証、次期計画への反映。 | M10: =IF(MAX( LEN(SUBSTITUTE(SUBSTITUTE(C10,CHAR(10),""),CHAR(13),"")), LEN(SUBSTITUTE(SUBSTITUTE(D10,CHAR(10),""),CHAR(13),"")), LEN(SUBSTITUTE(SUBSTITUTE(E10,CHAR(10),""),CHAR(13),"")), LEN(SUBSTITUTE(SUBSTITUTE(F10,CHAR(10),""),CHAR(13),"")), LEN(SUBSTITUTE(SUBSTITUTE(G10,CHAR(10),""),CHAR(13),"")), LEN(SUBSTITUTE(SUBSTITUTE(H10,CHAR(10),""),CHAR(13),"")), LEN(SUBSTITUTE(SUBSTITUTE(I10,CHAR(10),""),CHAR(13),"")) )>300,"NG","OK") -> OK | N10: =IF(OR( COUNTIF(C10:I10,"*<*")>0, COUNTIF(C10:I10,"*>*")>0, COUNTIF(C10:I10,"*&*")>0, COUNTIF(C10:I10,"*""*")>0, COUNTIF(C10:I10,"*'*")>0 ),"NG","OK") -> OK | O10: -
B11: =ROW()-6 -> 5 | C11: 事業化状況の管理 | D11: 経営企画室 専務 | E11: 事業化状況報告の作成、付加価値額および給与支給総額の実績把握。 | F11: 収益計画との差異分析、是正措置の立案と実行。 | G11: 事業計画期間最終年度における目標達成の確認と対外報告。 | M11: =IF(MAX( LEN(SUBSTITUTE(SUBSTITUTE(C11,CHAR(10),""),CHAR(13),"")), LEN(SUBSTITUTE(SUBSTITUTE(D11,CHAR(10),""),CHAR(13),"")), LEN(SUBSTITUTE(SUBSTITUTE(E11,CHAR(10),""),CHAR(13),"")), LEN(SUBSTITUTE(SUBSTITUTE(F11,CHAR(10),""),CHAR(13),"")), LEN(SUBSTITUTE(SUBSTITUTE(G11,CHAR(10),""),CHAR(13),"")), LEN(SUBSTITUTE(SUBSTITUTE(H11,CHAR(10),""),CHAR(13),"")), LEN(SUBSTITUTE(SUBSTITUTE(I11,CHAR(10),""),CHAR(13),"")) )>300,"NG","OK") -> OK | N11: =IF(OR( COUNTIF(C11:I11,"*<*")>0, COUNTIF(C11:I11,"*>*")>0, COUNTIF(C11:I11,"*&*")>0, COUNTIF(C11:I11,"*""*")>0, COUNTIF(C11:I11,"*'*")>0 ),"NG","OK") -> OK | O11: -
B12: =ROW()-6 -> 6 | M12: =IF(MAX( LEN(SUBSTITUTE(SUBSTITUTE(C12,CHAR(10),""),CHAR(13),"")), LEN(SUBSTITUTE(SUBSTITUTE(D12,CHAR(10),""),CHAR(13),"")), LEN(SUBSTITUTE(SUBSTITUTE(E12,CHAR(10),""),CHAR(13),"")), LEN(SUBSTITUTE(SUBSTITUTE(F12,CHAR(10),""),CHAR(13),"")), LEN(SUBSTITUTE(SUBSTITUTE(G12,CHAR(10),""),CHAR(13),"")), LEN(SUBSTITUTE(SUBSTITUTE(H12,CHAR(10),""),CHAR(13),"")), LEN(SUBSTITUTE(SUBSTITUTE(I12,CHAR(10),""),CHAR(13),"")) )>300,"NG","OK") -> OK | N12: =IF(OR( COUNTIF(C12:I12,"*<*")>0, COUNTIF(C12:I12,"*>*")>0, COUNTIF(C12:I12,"*&*")>0, COUNTIF(C12:I12,"*""*")>0, COUNTIF(C12:I12,"*'*")>0 ),"NG","OK") -> OK | O12: -
B13: =ROW()-6 -> 7 | M13: =IF(MAX( LEN(SUBSTITUTE(SUBSTITUTE(C13,CHAR(10),""),CHAR(13),"")), LEN(SUBSTITUTE(SUBSTITUTE(D13,CHAR(10),""),CHAR(13),"")), LEN(SUBSTITUTE(SUBSTITUTE(E13,CHAR(10),""),CHAR(13),"")), LEN(SUBSTITUTE(SUBSTITUTE(F13,CHAR(10),""),CHAR(13),"")), LEN(SUBSTITUTE(SUBSTITUTE(G13,CHAR(10),""),CHAR(13),"")), LEN(SUBSTITUTE(SUBSTITUTE(H13,CHAR(10),""),CHAR(13),"")), LEN(SUBSTITUTE(SUBSTITUTE(I13,CHAR(10),""),CHAR(13),"")) )>300,"NG","OK") -> OK | N13: =IF(OR( COUNTIF(C13:I13,"*<*")>0, COUNTIF(C13:I13,"*>*")>0, COUNTIF(C13:I13,"*&*")>0, COUNTIF(C13:I13,"*""*")>0, COUNTIF(C13:I13,"*'*")>0 ),"NG","OK") -> OK | O13: -
B14: =ROW()-6 -> 8 | M14: =IF(MAX( LEN(SUBSTITUTE(SUBSTITUTE(C14,CHAR(10),""),CHAR(13),"")), LEN(SUBSTITUTE(SUBSTITUTE(D14,CHAR(10),""),CHAR(13),"")), LEN(SUBSTITUTE(SUBSTITUTE(E14,CHAR(10),""),CHAR(13),"")), LEN(SUBSTITUTE(SUBSTITUTE(F14,CHAR(10),""),CHAR(13),"")), LEN(SUBSTITUTE(SUBSTITUTE(G14,CHAR(10),""),CHAR(13),"")), LEN(SUBSTITUTE(SUBSTITUTE(H14,CHAR(10),""),CHAR(13),"")), LEN(SUBSTITUTE(SUBSTITUTE(I14,CHAR(10),""),CHAR(13),"")) )>300,"NG","OK") -> OK | N14: =IF(OR( COUNTIF(C14:I14,"*<*")>0, COUNTIF(C14:I14,"*>*")>0, COUNTIF(C14:I14,"*&*")>0, COUNTIF(C14:I14,"*""*")>0, COUNTIF(C14:I14,"*'*")>0 ),"NG","OK") -> OK | O14: -
B15: =ROW()-6 -> 9 | M15: =IF(MAX( LEN(SUBSTITUTE(SUBSTITUTE(C15,CHAR(10),""),CHAR(13),"")), LEN(SUBSTITUTE(SUBSTITUTE(D15,CHAR(10),""),CHAR(13),"")), LEN(SUBSTITUTE(SUBSTITUTE(E15,CHAR(10),""),CHAR(13),"")), LEN(SUBSTITUTE(SUBSTITUTE(F15,CHAR(10),""),CHAR(13),"")), LEN(SUBSTITUTE(SUBSTITUTE(G15,CHAR(10),""),CHAR(13),"")), LEN(SUBSTITUTE(SUBSTITUTE(H15,CHAR(10),""),CHAR(13),"")), LEN(SUBSTITUTE(SUBSTITUTE(I15,CHAR(10),""),CHAR(13),"")) )>300,"NG","OK") -> OK | N15: =IF(OR( COUNTIF(C15:I15,"*<*")>0, COUNTIF(C15:I15,"*>*")>0, COUNTIF(C15:I15,"*&*")>0, COUNTIF(C15:I15,"*""*")>0, COUNTIF(C15:I15,"*'*")>0 ),"NG","OK") -> OK | O15: -
B16: =ROW()-6 -> 10 | M16: =IF(MAX( LEN(SUBSTITUTE(SUBSTITUTE(C16,CHAR(10),""),CHAR(13),"")), LEN(SUBSTITUTE(SUBSTITUTE(D16,CHAR(10),""),CHAR(13),"")), LEN(SUBSTITUTE(SUBSTITUTE(E16,CHAR(10),""),CHAR(13),"")), LEN(SUBSTITUTE(SUBSTITUTE(F16,CHAR(10),""),CHAR(13),"")), LEN(SUBSTITUTE(SUBSTITUTE(G16,CHAR(10),""),CHAR(13),"")), LEN(SUBSTITUTE(SUBSTITUTE(H16,CHAR(10),""),CHAR(13),"")), LEN(SUBSTITUTE(SUBSTITUTE(I16,CHAR(10),""),CHAR(13),"")) )>300,"NG","OK") -> OK | N16: =IF(OR( COUNTIF(C16:I16,"*<*")>0, COUNTIF(C16:I16,"*>*")>0, COUNTIF(C16:I16,"*&*")>0, COUNTIF(C16:I16,"*""*")>0, COUNTIF(C16:I16,"*'*")>0 ),"NG","OK") -> OK | O16: -

Sheet import
A1: ItemId | B1: ItemName | C1: Value | D1: ItemType | E1: メンテナンス用1 | F1: メンテナンス用2 | G1: スケジュール（補助事業実施期間／事業計画期間） | H1: =IF(AND('スケジュール(補助事業実施期間)'!T4="OK",'スケジュール(事業計画期間)'!K3="OK"),"OK","NG") -> NG | I1: =はじめに!AI2 -> 1.0 | J1: =IF('スケジュール(補助事業実施期間)'!C3="","",'スケジュール(補助事業実施期間)'!C3)
A2: ob_01488 | B2: 非表示 | D2: Label | E2: スケジュール(補助事業実施期間)
A3: ob_01489 | B3: 非表示 | D3: Label | E3: スケジュール(補助事業実施期間)
A4: ob_01490 | B4: 非表示 | D4: Label | E4: スケジュール(補助事業実施期間)
A5: ob_01491 | B5: # | D5: Label | E5: スケジュール(補助事業実施期間)
A6: ob_01492 | B6: 1 | D6: Label | E6: スケジュール(補助事業実施期間)
A7: ob_01493 | B7: 2 | D7: Label | E7: スケジュール(補助事業実施期間)
A8: ob_01494 | B8: 3 | D8: Label | E8: スケジュール(補助事業実施期間)
A9: ob_01495 | B9: 4 | D9: Label | E9: スケジュール(補助事業実施期間)
A10: ob_01496 | B10: 5 | D10: Label | E10: スケジュール(補助事業実施期間)
A11: ob_01497 | B11: 6 | D11: Label | E11: スケジュール(補助事業実施期間)
A12: ob_01498 | B12: 7 | D12: Label | E12: スケジュール(補助事業実施期間)
A13: ob_01499 | B13: 8 | D13: Label | E13: スケジュール(補助事業実施期間)
A14: ob_01500 | B14: 9 | D14: Label | E14: スケジュール(補助事業実施期間)
A15: ob_01501 | B15: 10 | D15: Label | E15: スケジュール(補助事業実施期間)
A16: ob_01502 | B16: 非表示 | D16: Label | E16: スケジュール(補助事業実施期間)
A17: ob_01503 | B17: 非表示 | D17: Label | E17: スケジュール(補助事業実施期間)
A18: ob_01504 | B18: 非表示 | D18: Label | E18: スケジュール(補助事業実施期間)
A19: ob_01505 | B19: 非表示 | D19: Label | E19: スケジュール(補助事業実施期間)
A20: ob_01506 | B20: 実施内容 | D20: Label | E20: スケジュール(補助事業実施期間)
A21: ob_01507 | B21: 実施内容1 | C21: =IF('スケジュール(補助事業実施期間)'!C8="","",'スケジュール(補助事業実施期間)'!C8) | D21: Text | E21: スケジュール(補助事業実施期間)
A22: ob_01508 | B22: 実施内容2 | C22: =IF('スケジュール(補助事業実施期間)'!C9="","",'スケジュール(補助事業実施期間)'!C9) | D22: Text | E22: スケジュール(補助事業実施期間)
A23: ob_01509 | B23: 実施内容3 | C23: =IF('スケジュール(補助事業実施期間)'!C10="","",'スケジュール(補助事業実施期間)'!C10) | D23: Text | E23: スケジュール(補助事業実施期間)
A24: ob_01510 | B24: 実施内容4 | C24: =IF('スケジュール(補助事業実施期間)'!C11="","",'スケジュール(補助事業実施期間)'!C11) | D24: Text | E24: スケジュール(補助事業実施期間)
A25: ob_01511 | B25: 実施内容5 | C25: =IF('スケジュール(補助事業実施期間)'!C12="","",'スケジュール(補助事業実施期間)'!C12) | D25: Text | E25: スケジュール(補助事業実施期間)
A26: ob_01512 | B26: 実施内容6 | C26: =IF('スケジュール(補助事業実施期間)'!C13="","",'スケジュール(補助事業実施期間)'!C13) | D26: Text | E26: スケジュール(補助事業実施期間)
A27: ob_01513 | B27: 実施内容7 | C27: =IF('スケジュール(補助事業実施期間)'!C14="","",'スケジュール(補助事業実施期間)'!C14) | D27: Text | E27: スケジュール(補助事業実施期間)
A28: ob_01514 | B28: 実施内容8 | C28: =IF('スケジュール(補助事業実施期間)'!C15="","",'スケジュール(補助事業実施期間)'!C15) | D28: Text | E28: スケジュール(補助事業実施期間)
A29: ob_01515 | B29: 実施内容9 | C29: =IF('スケジュール(補助事業実施期間)'!C16="","",'スケジュール(補助事業実施期間)'!C16) | D29: Text | E29: スケジュール(補助事業実施期間)
A30: ob_01516 | B30: 実施内容10 | C30: =IF('スケジュール(補助事業実施期間)'!C17="","",'スケジュール(補助事業実施期間)'!C17) | D30: Text | E30: スケジュール(補助事業実施期間)
A31: ob_02679 | B31: 非表示 | D31: Label | E31: スケジュール(補助事業実施期間)
A32: ob_02680 | B32: 年 | D32: Label | E32: スケジュール(補助事業実施期間)
A33: ob_02681 | B33: 月 | D33: Label | E33: スケジュール(補助事業実施期間)
A34: ob_02682 | B34: マイルストーン | D34: Label | E34: スケジュール(補助事業実施期間)
A35: ob_02683 | B35: 担当者 | D35: Label | E35: スケジュール(補助事業実施期間)
A36: ob_02684 | B36: 担当者1 | C36: =IF('スケジュール(補助事業実施期間)'!D8="","",'スケジュール(補助事業実施期間)'!D8) | D36: Text | E36: スケジュール(補助事業実施期間)
A37: ob_02685 | B37: 担当者2 | C37: =IF('スケジュール(補助事業実施期間)'!D9="","",'スケジュール(補助事業実施期間)'!D9) | D37: Text | E37: スケジュール(補助事業実施期間)
A38: ob_02686 | B38: 担当者3 | C38: =IF('スケジュール(補助事業実施期間)'!D10="","",'スケジュール(補助事業実施期間)'!D10) | D38: Text | E38: スケジュール(補助事業実施期間)
A39: ob_02687 | B39: 担当者4 | C39: =IF('スケジュール(補助事業実施期間)'!D11="","",'スケジュール(補助事業実施期間)'!D11) | D39: Text | E39: スケジュール(補助事業実施期間)
A40: ob_02688 | B40: 担当者5 | C40: =IF('スケジュール(補助事業実施期間)'!D12="","",'スケジュール(補助事業実施期間)'!D12) | D40: Text | E40: スケジュール(補助事業実施期間)
...

Sheet リスト
A1: 事業枠 | B1: 年 | C1: 月
A2: 革新的新製品・サービス枠 | B2: 2027 | C2: 1
A3: 新事業進出枠 | B3: 2028 | C3: 2
A4: グローバル枠 | B4: 2029 | C4: 3
B5: 2030 | C5: 4
B6: 2031 | C6: 5
C7: 6
C8: 7
C9: 8
C10: 9
C11: 10
C12: 11
C13: 12

Sheet import_bk
A1: koubo2_02671 | B1: =IF('スケジュール(事業計画期間)'!C4="", "", 'スケジュール(事業計画期間)'!C4) | C1: スケジュール(事業計画期間) | D1: スケジュール(事業計画期間) | F1: ='スケジュール(補助事業実施期間)'!T4 -> NG | G1: =はじめに!#REF! -> #REF!
A2: koubo2_02672 | B2: =IF('スケジュール(事業計画期間)'!C5="", "", 'スケジュール(事業計画期間)'!C5) | C2: スケジュール(事業計画期間) | D2: スケジュール(補助事業実施期間) | F2: ='スケジュール(事業計画期間)'!K3 -> NG
A3: koubo2_02673 | B3: =IF('スケジュール(事業計画期間)'!C6="", "", 'スケジュール(事業計画期間)'!C6) -> 実施内容 | C3: スケジュール(事業計画期間)
A4: koubo2_01574 | B4: =IF('スケジュール(事業計画期間)'!C7="", "", 'スケジュール(事業計画期間)'!C7) | C4: スケジュール(事業計画期間)
A5: koubo2_01586 | B5: =IF('スケジュール(事業計画期間)'!C8="", "", 'スケジュール(事業計画期間)'!C8) | C5: スケジュール(事業計画期間)
A6: koubo2_01598 | B6: =IF('スケジュール(事業計画期間)'!C9="", "", 'スケジュール(事業計画期間)'!C9) | C6: スケジュール(事業計画期間)
A7: koubo2_01610 | B7: =IF('スケジュール(事業計画期間)'!C10="", "", 'スケジュール(事業計画期間)'!C10) | C7: スケジュール(事業計画期間)
A8: koubo2_01622 | B8: =IF('スケジュール(事業計画期間)'!C11="", "", 'スケジュール(事業計画期間)'!C11) | C8: スケジュール(事業計画期間)
A9: koubo2_01634 | B9: =IF('スケジュール(事業計画期間)'!C12="", "", 'スケジュール(事業計画期間)'!C12) | C9: スケジュール(事業計画期間)
A10: koubo2_01646 | B10: =IF('スケジュール(事業計画期間)'!C13="", "", 'スケジュール(事業計画期間)'!C13) | C10: スケジュール(事業計画期間)
A11: koubo2_01658 | B11: =IF('スケジュール(事業計画期間)'!C14="", "", 'スケジュール(事業計画期間)'!C14) | C11: スケジュール(事業計画期間)
A12: koubo2_01670 | B12: =IF('スケジュール(事業計画期間)'!C15="", "", 'スケジュール(事業計画期間)'!C15) | C12: スケジュール(事業計画期間)
A13: koubo2_01682 | B13: =IF('スケジュール(事業計画期間)'!C16="", "", 'スケジュール(事業計画期間)'!C16) | C13: スケジュール(事業計画期間)
A14: koubo2_02674 | B14: =IF('スケジュール(事業計画期間)'!D4="", "", 'スケジュール(事業計画期間)'!D4) -> 年度 | C14: スケジュール(事業計画期間)
A15: koubo2_02675 | B15: =IF('スケジュール(事業計画期間)'!D5="", "", 'スケジュール(事業計画期間)'!D5) -> マイルストーン | C15: スケジュール(事業計画期間)
A16: koubo2_02676 | B16: =IF('スケジュール(事業計画期間)'!D6="", "", 'スケジュール(事業計画期間)'!D6) -> 担当者 | C16: スケジュール(事業計画期間)
A17: koubo2_01575 | B17: =IF('スケジュール(事業計画期間)'!D7="", "", 'スケジュール(事業計画期間)'!D7) | C17: スケジュール(事業計画期間)
A18: koubo2_01587 | B18: =IF('スケジュール(事業計画期間)'!D8="", "", 'スケジュール(事業計画期間)'!D8) | C18: スケジュール(事業計画期間)
A19: koubo2_01599 | B19: =IF('スケジュール(事業計画期間)'!D9="", "", 'スケジュール(事業計画期間)'!D9) | C19: スケジュール(事業計画期間)
A20: koubo2_01611 | B20: =IF('スケジュール(事業計画期間)'!D10="", "", 'スケジュール(事業計画期間)'!D10) | C20: スケジュール(事業計画期間)
A21: koubo2_01623 | B21: =IF('スケジュール(事業計画期間)'!D11="", "", 'スケジュール(事業計画期間)'!D11) | C21: スケジュール(事業計画期間)
A22: koubo2_01635 | B22: =IF('スケジュール(事業計画期間)'!D12="", "", 'スケジュール(事業計画期間)'!D12) | C22: スケジュール(事業計画期間)
A23: koubo2_01647 | B23: =IF('スケジュール(事業計画期間)'!D13="", "", 'スケジュール(事業計画期間)'!D13) | C23: スケジュール(事業計画期間)
A24: koubo2_01659 | B24: =IF('スケジュール(事業計画期間)'!D14="", "", 'スケジュール(事業計画期間)'!D14) | C24: スケジュール(事業計画期間)
A25: koubo2_01671 | B25: =IF('スケジュール(事業計画期間)'!D15="", "", 'スケジュール(事業計画期間)'!D15) | C25: スケジュール(事業計画期間)
A26: koubo2_01683 | B26: =IF('スケジュール(事業計画期間)'!D16="", "", 'スケジュール(事業計画期間)'!D16) | C26: スケジュール(事業計画期間)
A27: koubo2_01564 | B27: =IF('スケジュール(事業計画期間)'!E4="", "", 'スケジュール(事業計画期間)'!E4) | C27: スケジュール(事業計画期間)
A28: koubo2_01565 | B28: =IF('スケジュール(事業計画期間)'!E5="", "", 'スケジュール(事業計画期間)'!E5) | C28: スケジュール(事業計画期間)
A29: koubo2_02677 | B29: =IF('スケジュール(事業計画期間)'!E6="", "", 'スケジュール(事業計画期間)'!E6) -> 内容 | C29: スケジュール(事業計画期間)
A30: koubo2_01577 | B30: =IF('スケジュール(事業計画期間)'!E7="", "", 'スケジュール(事業計画期間)'!E7) | C30: スケジュール(事業計画期間)
A31: koubo2_01589 | B31: =IF('スケジュール(事業計画期間)'!E8="", "", 'スケジュール(事業計画期間)'!E8) | C31: スケジュール(事業計画期間)
A32: koubo2_01601 | B32: =IF('スケジュール(事業計画期間)'!E9="", "", 'スケジュール(事業計画期間)'!E9) | C32: スケジュール(事業計画期間)
A33: koubo2_01613 | B33: =IF('スケジュール(事業計画期間)'!E10="", "", 'スケジュール(事業計画期間)'!E10) | C33: スケジュール(事業計画期間)
A34: koubo2_01625 | B34: =IF('スケジュール(事業計画期間)'!E11="", "", 'スケジュール(事業計画期間)'!E11) | C34: スケジュール(事業計画期間)
A35: koubo2_01637 | B35: =IF('スケジュール(事業計画期間)'!E12="", "", 'スケジュール(事業計画期間)'!E12) | C35: スケジュール(事業計画期間)
A36: koubo2_01649 | B36: =IF('スケジュール(事業計画期間)'!E13="", "", 'スケジュール(事業計画期間)'!E13) | C36: スケジュール(事業計画期間)
A37: koubo2_01661 | B37: =IF('スケジュール(事業計画期間)'!E14="", "", 'スケジュール(事業計画期間)'!E14) | C37: スケジュール(事業計画期間)
A38: koubo2_01673 | B38: =IF('スケジュール(事業計画期間)'!E15="", "", 'スケジュール(事業計画期間)'!E15) | C38: スケジュール(事業計画期間)
A39: koubo2_01685 | B39: =IF('スケジュール(事業計画期間)'!E16="", "", 'スケジュール(事業計画期間)'!E16) | C39: スケジュール(事業計画期間)
A40: koubo2_01566 | B40: =IF('スケジュール(事業計画期間)'!F4="", "", 'スケジュール(事業計画期間)'!F4) | C40: スケジュール(事業計画期間)
...
