Workbook

Sheet はじめに
AN2: ver. | AO2: 1.0 | AP2: .1
C3: 1. 本ファイルの目的
D5: 本補助金の応募申請では、事業計画関連の申請内容を以下4種類のファイル(応募申請画面インポート用フォーマット)に記入していただきます。
D7: 本ファイルは「補助対象予定経費・資金調達表」の情報を記入いただくフォーマットとなりますので、「3. 本ファイルの利用方法」に従い作成のうえ、
D8: 応募申請時に電子申請システムに添付してください。
E11: ➊ 応募申請画面インポート用フォーマット(事業計画)
E12: ・ | F12: 会社概要、経営戦略及び補助事業計画を入力するフォーマットです。
E14: ❷ 応募申請画面インポート用フォーマット(財務情報・収益計画)
E15: ・ | F15: 直近の貸借対照表・損益計算書の内容及び本補助金の要件を満たす収益計画を入力するフォーマットです。
E17: ❸ 応募申請画面インポート用フォーマット(資金調達表・補助対象予定経費)
E18: ・ | F18: 補助事業の実施にあたり見込まれる補助対象経費の具体的な内容及び金額、必要な資金の調達方法及び金額等を入力するフォーマットです。
E20: ❹ 応募申請画面インポート用フォーマット(スケジュール_補助事業実施期間・事業計画期間)
E21: ・ | F21: 補助事業実施期間及び事業計画期間の補助事業の実施スケジュールを入力するフォーマットです。
C25: 2. 各シートの概要
D27: シート名 | L27: 主な内容・役割
D28: はじめに | L28: (※本シート) 本ファイルの目的、各シートの入力方法等について説明しています。
D29: 補助対象予定経費 | L29: 補助事業の実施にあたり見込まれる補助対象経費について、費目ごとに具体的な内容・金額等を整理して入力します。
D30: 資金調達表 | L30: 補助事業の実施に必要な資金について、調達方法ごとに金額等を整理して入力します。
D31: 【解説・入力例】 補助対象予定経費 | L31: 各項目や自動計算の対象項目について解説しています。
D32: 【解説・入力例】 資金調達表 | L32: 各項目や自動計算の対象項目について解説しています。
C34: 3. 本ファイルの利用方法
D36: 凡例
H38: ：要入力(黒太枠で囲われているセルに値を入力してください)
H40: ：入力不要(入力内容に応じ、不要な項目はグレーアウトされます)
E42: XXXX | H42: ：入力不可(関数で自動入力されます)
D44: ① 「補助対象予定経費」シートの入力
E46: ❶ | F46: 該当する「補助対象事業枠」(D2)をプルダウンから選択してください。
F47: ・ | G47: 電子申請システムの応募申請画面で選択した内容と一致していることをご確認ください。
E49: ❷ | F49: 「従業員数」(D3)を入力してください。
F50: ・ | G50: 電子申請システムの応募申請画面で選択した内容と一致していることをご確認ください。
E52: ❸ | F52: 該当する「対象事業者の選択」(D5)をプルダウンから選択してください。
F53: ・ | G53: 電子申請システムの応募申請画面で選択した内容と一致していることをご確認ください。
E55: ❹ | F55: 該当する「賃上げ特例要件適用有無」(D6)をプルダウンから選択してください。
F56: ・ | G56: 電子申請システムの応募申請画面で選択した内容と一致していることをご確認ください。
E58: ❺ | F58: 該当する「地域別最低賃金引上げ特例要件適用有無」(D7)をプルダウンから選択してください。
F59: ・ | G59: 電子申請システムの応募申請画面で選択した内容と一致していることをご確認ください。
E61: ➏ | F61: 「事業計画期間1年当たりの補助事業で新たに製造等する製品等の売上高見込み額(税抜き)(円)」(D8)を入力してください。
F62: ・ | G62: 計上されている「広告宣伝・販売促進費」が補助上限額の範囲内であるか判断するために使用します。
F63: ・ | G63: 応募申請画面インポート用フォーマット(財務情報・収益計画)の「事業計画期間1年あたりの補助事業で新たに製造等する
G64: 製品等の売上高見込み額(税抜)」(Q18)の金額と同じ金額を入力してください。
...

Sheet 補助対象予定経費
L1: 必須チェック | M1: 形式チェック | N1: 不要箇所 チェック
B2: 補助対象事業枠 | L2: =IF(D2="","NG","OK") -> NG | M2: - | N2: -
B3: 従業員数 | L3: =IF(D3="","NG","OK") -> NG | M3: =IFERROR(IF(AND( ISNUMBER(D3),D3=INT(D3),D3>0,LEN(TEXT(D3,"0"))<=3), "OK","NG"),"NG" ) -> NG | N3: -
B4: 従業員数(レンジ) | D4: =IF(OR($D$2="", NOT(ISNUMBER($D3))), "", IF($D$2=リスト!$A$3, IF($D3>=51, リスト!$F$6, IF($D3>=21, リスト!$F$5, IF($D3>=6, リスト!$F$4, IF($D3>=1, リスト!$F$3, "")))), IF(OR($D$2=リスト!$A$4, $D$2=リスト!$A$5), IF($D3>=101, リスト!$G$6, IF($D3>=51, リスト!$G$5, IF($D3>=21, リスト!$G$4, IF($D3>=1, リスト!$G$3, "")))), ""))) | L4: - | M4: =IF($D$2=リスト!$A$3, IF(OR($D4="", COUNTIF(リスト!$F$3:$F$6,$D4)>0), "OK", "NG"), IF(OR($D$2=リスト!$A$4, $D$2=リスト!$A$5), IF(OR($D4="", COUNTIF(リスト!$G$3:$G$6,$D4)>0), "OK", "NG"), "-")) -> - | N4: -
B5: 対象事業者の選択 | L5: =IF(D5="","NG","OK") -> NG | M5: - | N5: -
B6: 賃上げ特例要件適用有無 | J6: 提出可否 | L6: =IF(OR( AND($D$2=リスト!$A$3, $D$5<>リスト!$B$4, OR($D$7=リスト!$D$3, $D$7="")), $D$2=リスト!$A$4, AND($D$2=リスト!$A$5, $D$5<>リスト!$B$4) ), IF(D6="","NG","OK"),"-") -> - | M6: - | N6: =IF(OR( AND($D$2=リスト!$A$3, OR($D$5=リスト!$B$4, $D7=リスト!$D$4)), AND($D$2=リスト!$A$5, $D$5=リスト!$B$4) ), IF($D6=リスト!$D$4, "NG", "OK"), "-") -> -
B7: 地域別最低賃金引上げ特例要件適用有無 | J7: =IF(COUNTIF(L2:N11, "NG") + COUNTIF(L31:P90, "NG") + COUNTIF(L15:Q27, "NG") > 0, "NG", "OK") -> NG | L7: =IF(OR( AND($D$2=リスト!$A$3, $D$5<>リスト!$B$3, $D$5<>リスト!$B$4, OR($D$6=リスト!$D$3, $D$6="")), $D$2=リスト!$A$4 ), IF(D7="","NG","OK"),"-") -> - | M7: - | N7: =IF(OR( AND($D$2=リスト!$A$3, OR($D$5=リスト!$B$3, $D$5=リスト!$B$4, $D$6=リスト!$D$4)), $D$2=リスト!$A$5 ), IF($D$7=リスト!$D$4, "NG", "OK"), "-") -> -
B8: 事業計画期間１年当たりの 補助事業で新たに製造等する製品等の 売上高見込み額(税抜き)(円) | J8: =IF($J$7="NG","※「はじめに」シートの3.①.⓫をご確認の上、入力内容に誤りがないかをご確認ください。","") -> ※「はじめに」シートの3.①.⓫をご確認の上、入力内容に誤りがないかをご確認ください。 | L8: =IF(D8="","NG","OK") -> NG | M8: =IF($D8="", "OK", IF(ISNUMBER($D8), IF(AND($D8=INT($D8), $D8>=0, LEN(TEXT($D8,"0"))<=12), "OK", "NG"), "NG")) -> OK | N8: -
B9: 補助率 | D9: =IF($D$2="","", IF($D$2=リスト!$A$3, IF(OR($D$5=リスト!$B$3, $D$5=リスト!$B$4, $D$7=リスト!$D$4), リスト!$E$4, リスト!$E$3), IF($D$2=リスト!$A$4, IF($D$7=リスト!$D$4, リスト!$E$4, リスト!$E$3), IF($D$2=リスト!$A$5, リスト!$E$4, リスト!$E$3 )))) | L9: - | M9: - | N9: -
B10: 補助下限額 | D10: =IF($D$2<>"", IF($D$2=リスト!$A$3, リスト!$I$3, リスト!$L$3),"") | L10: - | M10: - | N10: -
B11: 補助上限額 | D11: =IF(OR($D$2="",$D$4=""),"", IFERROR( IF($D$2=リスト!$A$3, IF(OR($D$6=リスト!$D$3,$D$6=""), INDEX(リスト!$J$3:$J$6,MATCH($D$4,リスト!$F$3:$F$6,0)), IF($D$6=リスト!$D$4, INDEX(リスト!$K$3:$K$6,MATCH($D$4,リスト!$F$3:$F$6,0)), "")), IF(OR($D$2=リスト!$A$4,$D$2=リスト!$A$5), IF(OR($D$6=リスト!$D$3,$D$6=""), INDEX(リスト!$M$3:$M$6,MATCH($D$4,リスト!$G$3:$G$6,0)), IF($D$6=リスト!$D$4, INDEX(リスト!$N$3:$N$6,MATCH($D$4,リスト!$G$3:$G$6,0)), "")), "")), "")) | L11: - | M11: - | N11: -
D13: 概要
B14: 補助対象経費区分 | D14: 品目数 | E14: 合計 (A 事業に要する経費(円)) | F14: 合計 (B 補助対象経費(円)) | G14: 合計 (C 補助金交付申請額(円)) | H14: 積算基礎 補助対象経費(概要) | I14: 積算基礎 補助対象外経費 | L14: 必須チェック | N14: 経費区分 チェック | O14: 形式チェック | P14: 数値チェック | Q14: 不要箇所 チェック
B15: 機械装置・システム構築費 | E15: =SUM(E31:E35) -> 0 | F15: =SUM(F31:F35) -> 0 | G15: =SUM(G31:G35) -> 0 | L15: =IF( IF($D$2=リスト!$A$3, NOT(OR($B15=$B$16, $B15=$B$25, $B15=$B$26)), IF($D$2=リスト!$A$4, NOT(OR($B15=$B$25, $B15=$B$26)), IF($D$2=リスト!$A$5, TRUE, FALSE))), IF($D15<>"", "OK", "NG"), "-") -> - | M15: =IF($F15>0, IF(OR($H15="", $I15=""), "NG", "OK"), "-") -> - | N15: =IF( IF($D$2=リスト!$A$3, $B15=$B$15, IF(OR($D$2=リスト!$A$4, $D$2=リスト!$A$5), OR($B15=$B$15, $B15=$B$16), FALSE)), IF( IF($D$2=リスト!$A$3, AND($D$15<>"", $D$15<>0), IF(OR($D$2=リスト!$A$4, $D$2=リスト!$A$5), OR(AND($D$15<>"", $D$15<>0), AND($D$16<>"", $D$16<>0)), FALSE)), "OK", "NG"), "-") -> - | O15: {=IF(AND( LEN(SUBSTITUTE(SUBSTITUTE($H15,CHAR(10),""),CHAR(13),""))<=1000, SUMPRODUCT(--ISNUMBER(FIND({"<";">";"&";"""";"'"}, $H15)))=0, LEN(SUBSTITUTE(SUBSTITUTE($I15,CHAR(10),""),CHAR(13),""))<=1000, SUMPRODUCT(--ISNUMBER(FIND({"<";">";"&";"""";"'"}, $I15)))=0 ), "OK", "NG")} -> OK | P15: - | Q15: =IF( OR( IF($D$2=リスト!$A$3, OR($B15=$B$16, $B15=$B$25, $B15=$B$26), IF($D$2=リスト!$A$4, OR($B15=$B$25, $B15=$B$26), FALSE)), $F15=0 ), IF(OR( AND(IF($D$2=リスト!$A$3, OR($B15=$B$16, $B15=$B$25, $B15=$B$26), IF($D$2=リスト!$A$4, OR($B15=$B$25, $B15=$B$26), FALSE)), OR(AND($D15<>"", $D15<>0), $H15<>"", $I15<>"")), AND($F15=0, $H15<>""), AND($E15=0, $I15<>"") ), "NG", "OK"), "-") -> OK
B16: 建物費 | E16: =SUM(E36:E40) -> 0 | F16: =SUM(F36:F40) -> 0 | G16: =SUM(G36:G40) -> 0 | L16: =IF( IF($D$2=リスト!$A$3, NOT(OR($B16=$B$16, $B16=$B$25, $B16=$B$26)), IF($D$2=リスト!$A$4, NOT(OR($B16=$B$25, $B16=$B$26)), IF($D$2=リスト!$A$5, TRUE, FALSE))), IF($D16<>"", "OK", "NG"), "-") -> - | M16: =IF($F16>0, IF(OR($H16="", $I16=""), "NG", "OK"), "-") -> - | N16: =IF( IF($D$2=リスト!$A$3, $B16=$B$15, IF(OR($D$2=リスト!$A$4, $D$2=リスト!$A$5), OR($B16=$B$15, $B16=$B$16), FALSE)), IF( IF($D$2=リスト!$A$3, AND($D$15<>"", $D$15<>0), IF(OR($D$2=リスト!$A$4, $D$2=リスト!$A$5), OR(AND($D$15<>"", $D$15<>0), AND($D$16<>"", $D$16<>0)), FALSE)), "OK", "NG"), "-") -> - | O16: {=IF(AND( LEN(SUBSTITUTE(SUBSTITUTE($H16,CHAR(10),""),CHAR(13),""))<=1000, SUMPRODUCT(--ISNUMBER(FIND({"<";">";"&";"""";"'"}, $H16)))=0, LEN(SUBSTITUTE(SUBSTITUTE($I16,CHAR(10),""),CHAR(13),""))<=1000, SUMPRODUCT(--ISNUMBER(FIND({"<";">";"&";"""";"'"}, $I16)))=0 ), "OK", "NG")} -> OK | P16: - | Q16: =IF( OR( IF($D$2=リスト!$A$3, OR($B16=$B$16, $B16=$B$25, $B16=$B$26), IF($D$2=リスト!$A$4, OR($B16=$B$25, $B16=$B$26), FALSE)), $F16=0 ), IF(OR( AND(IF($D$2=リスト!$A$3, OR($B16=$B$16, $B16=$B$25, $B16=$B$26), IF($D$2=リスト!$A$4, OR($B16=$B$25, $B16=$B$26), FALSE)), OR(AND($D16<>"", $D16<>0), $H16<>"", $I16<>"")), AND($F16=0, $H16<>""), AND($E16=0, $I16<>"") ), "NG", "OK"), "-") -> OK
B17: 運搬費 | E17: =SUM(E41:E45) -> 0 | F17: =SUM(F41:F45) -> 0 | G17: =SUM(G41:G45) -> 0 | L17: =IF( IF($D$2=リスト!$A$3, NOT(OR($B17=$B$16, $B17=$B$25, $B17=$B$26)), IF($D$2=リスト!$A$4, NOT(OR($B17=$B$25, $B17=$B$26)), IF($D$2=リスト!$A$5, TRUE, FALSE))), IF($D17<>"", "OK", "NG"), "-") -> - | M17: =IF($F17>0, IF(OR($H17="", $I17=""), "NG", "OK"), "-") -> - | N17: =IF( IF($D$2=リスト!$A$3, $B17=$B$15, IF(OR($D$2=リスト!$A$4, $D$2=リスト!$A$5), OR($B17=$B$15, $B17=$B$16), FALSE)), IF( IF($D$2=リスト!$A$3, AND($D$15<>"", $D$15<>0), IF(OR($D$2=リスト!$A$4, $D$2=リスト!$A$5), OR(AND($D$15<>"", $D$15<>0), AND($D$16<>"", $D$16<>0)), FALSE)), "OK", "NG"), "-") -> - | O17: {=IF(AND( LEN(SUBSTITUTE(SUBSTITUTE($H17,CHAR(10),""),CHAR(13),""))<=1000, SUMPRODUCT(--ISNUMBER(FIND({"<";">";"&";"""";"'"}, $H17)))=0, LEN(SUBSTITUTE(SUBSTITUTE($I17,CHAR(10),""),CHAR(13),""))<=1000, SUMPRODUCT(--ISNUMBER(FIND({"<";">";"&";"""";"'"}, $I17)))=0 ), "OK", "NG")} -> OK | P17: - | Q17: =IF( OR( IF($D$2=リスト!$A$3, OR($B17=$B$16, $B17=$B$25, $B17=$B$26), IF($D$2=リスト!$A$4, OR($B17=$B$25, $B17=$B$26), FALSE)), $F17=0 ), IF(OR( AND(IF($D$2=リスト!$A$3, OR($B17=$B$16, $B17=$B$25, $B17=$B$26), IF($D$2=リスト!$A$4, OR($B17=$B$25, $B17=$B$26), FALSE)), OR(AND($D17<>"", $D17<>0), $H17<>"", $I17<>"")), AND($F17=0, $H17<>""), AND($E17=0, $I17<>"") ), "NG", "OK"), "-") -> OK
B18: 技術導入費 | E18: =SUM(E46:E50) -> 0 | F18: =SUM(F46:F50) -> 0 | G18: =SUM(G46:G50) -> 0 | L18: =IF( IF($D$2=リスト!$A$3, NOT(OR($B18=$B$16, $B18=$B$25, $B18=$B$26)), IF($D$2=リスト!$A$4, NOT(OR($B18=$B$25, $B18=$B$26)), IF($D$2=リスト!$A$5, TRUE, FALSE))), IF($D18<>"", "OK", "NG"), "-") -> - | M18: =IF($F18>0, IF(OR($H18="", $I18=""), "NG", "OK"), "-") -> - | N18: =IF( IF($D$2=リスト!$A$3, $B18=$B$15, IF(OR($D$2=リスト!$A$4, $D$2=リスト!$A$5), OR($B18=$B$15, $B18=$B$16), FALSE)), IF( IF($D$2=リスト!$A$3, AND($D$15<>"", $D$15<>0), IF(OR($D$2=リスト!$A$4, $D$2=リスト!$A$5), OR(AND($D$15<>"", $D$15<>0), AND($D$16<>"", $D$16<>0)), FALSE)), "OK", "NG"), "-") -> - | O18: {=IF(AND( LEN(SUBSTITUTE(SUBSTITUTE($H18,CHAR(10),""),CHAR(13),""))<=1000, SUMPRODUCT(--ISNUMBER(FIND({"<";">";"&";"""";"'"}, $H18)))=0, LEN(SUBSTITUTE(SUBSTITUTE($I18,CHAR(10),""),CHAR(13),""))<=1000, SUMPRODUCT(--ISNUMBER(FIND({"<";">";"&";"""";"'"}, $I18)))=0 ), "OK", "NG")} -> OK | P18: =IF($G18 > $F$27/3, "NG", "OK") -> OK | Q18: =IF( OR( IF($D$2=リスト!$A$3, OR($B18=$B$16, $B18=$B$25, $B18=$B$26), IF($D$2=リスト!$A$4, OR($B18=$B$25, $B18=$B$26), FALSE)), $F18=0 ), IF(OR( AND(IF($D$2=リスト!$A$3, OR($B18=$B$16, $B18=$B$25, $B18=$B$26), IF($D$2=リスト!$A$4, OR($B18=$B$25, $B18=$B$26), FALSE)), OR(AND($D18<>"", $D18<>0), $H18<>"", $I18<>"")), AND($F18=0, $H18<>""), AND($E18=0, $I18<>"") ), "NG", "OK"), "-") -> OK
B19: 知的財産権等関連経費 | E19: =SUM(E51:E55) -> 0 | F19: =SUM(F51:F55) -> 0 | G19: =SUM(G51:G55) -> 0 | L19: =IF( IF($D$2=リスト!$A$3, NOT(OR($B19=$B$16, $B19=$B$25, $B19=$B$26)), IF($D$2=リスト!$A$4, NOT(OR($B19=$B$25, $B19=$B$26)), IF($D$2=リスト!$A$5, TRUE, FALSE))), IF($D19<>"", "OK", "NG"), "-") -> - | M19: =IF($F19>0, IF(OR($H19="", $I19=""), "NG", "OK"), "-") -> - | N19: =IF( IF($D$2=リスト!$A$3, $B19=$B$15, IF(OR($D$2=リスト!$A$4, $D$2=リスト!$A$5), OR($B19=$B$15, $B19=$B$16), FALSE)), IF( IF($D$2=リスト!$A$3, AND($D$15<>"", $D$15<>0), IF(OR($D$2=リスト!$A$4, $D$2=リスト!$A$5), OR(AND($D$15<>"", $D$15<>0), AND($D$16<>"", $D$16<>0)), FALSE)), "OK", "NG"), "-") -> - | O19: {=IF(AND( LEN(SUBSTITUTE(SUBSTITUTE($H19,CHAR(10),""),CHAR(13),""))<=1000, SUMPRODUCT(--ISNUMBER(FIND({"<";">";"&";"""";"'"}, $H19)))=0, LEN(SUBSTITUTE(SUBSTITUTE($I19,CHAR(10),""),CHAR(13),""))<=1000, SUMPRODUCT(--ISNUMBER(FIND({"<";">";"&";"""";"'"}, $I19)))=0 ), "OK", "NG")} -> OK | P19: =IF($G19 > $F$27/3, "NG", "OK") -> OK | Q19: =IF( OR( IF($D$2=リスト!$A$3, OR($B19=$B$16, $B19=$B$25, $B19=$B$26), IF($D$2=リスト!$A$4, OR($B19=$B$25, $B19=$B$26), FALSE)), $F19=0 ), IF(OR( AND(IF($D$2=リスト!$A$3, OR($B19=$B$16, $B19=$B$25, $B19=$B$26), IF($D$2=リスト!$A$4, OR($B19=$B$25, $B19=$B$26), FALSE)), OR(AND($D19<>"", $D19<>0), $H19<>"", $I19<>"")), AND($F19=0, $H19<>""), AND($E19=0, $I19<>"") ), "NG", "OK"), "-") -> OK
B20: 外注費 | E20: =SUM(E56:E60) -> 0 | F20: =SUM(F56:F60) -> 0 | G20: =SUM(G56:G60) -> 0 | L20: =IF( IF($D$2=リスト!$A$3, NOT(OR($B20=$B$16, $B20=$B$25, $B20=$B$26)), IF($D$2=リスト!$A$4, NOT(OR($B20=$B$25, $B20=$B$26)), IF($D$2=リスト!$A$5, TRUE, FALSE))), IF($D20<>"", "OK", "NG"), "-") -> - | M20: =IF($F20>0, IF(OR($H20="", $I20=""), "NG", "OK"), "-") -> - | N20: =IF( IF($D$2=リスト!$A$3, $B20=$B$15, IF(OR($D$2=リスト!$A$4, $D$2=リスト!$A$5), OR($B20=$B$15, $B20=$B$16), FALSE)), IF( IF($D$2=リスト!$A$3, AND($D$15<>"", $D$15<>0), IF(OR($D$2=リスト!$A$4, $D$2=リスト!$A$5), OR(AND($D$15<>"", $D$15<>0), AND($D$16<>"", $D$16<>0)), FALSE)), "OK", "NG"), "-") -> - | O20: {=IF(AND( LEN(SUBSTITUTE(SUBSTITUTE($H20,CHAR(10),""),CHAR(13),""))<=1000, SUMPRODUCT(--ISNUMBER(FIND({"<";">";"&";"""";"'"}, $H20)))=0, LEN(SUBSTITUTE(SUBSTITUTE($I20,CHAR(10),""),CHAR(13),""))<=1000, SUMPRODUCT(--ISNUMBER(FIND({"<";">";"&";"""";"'"}, $I20)))=0 ), "OK", "NG")} -> OK | P20: =IF($G20 > $F$27/4, "NG", "OK") -> OK | Q20: =IF( OR( IF($D$2=リスト!$A$3, OR($B20=$B$16, $B20=$B$25, $B20=$B$26), IF($D$2=リスト!$A$4, OR($B20=$B$25, $B20=$B$26), FALSE)), $F20=0 ), IF(OR( AND(IF($D$2=リスト!$A$3, OR($B20=$B$16, $B20=$B$25, $B20=$B$26), IF($D$2=リスト!$A$4, OR($B20=$B$25, $B20=$B$26), FALSE)), OR(AND($D20<>"", $D20<>0), $H20<>"", $I20<>"")), AND($F20=0, $H20<>""), AND($E20=0, $I20<>"") ), "NG", "OK"), "-") -> OK
B21: 専門家経費 | E21: =SUM(E61:E65) -> 0 | F21: =SUM(F61:F65) -> 0 | G21: =SUM(G61:G65) -> 0 | L21: =IF( IF($D$2=リスト!$A$3, NOT(OR($B21=$B$16, $B21=$B$25, $B21=$B$26)), IF($D$2=リスト!$A$4, NOT(OR($B21=$B$25, $B21=$B$26)), IF($D$2=リスト!$A$5, TRUE, FALSE))), IF($D21<>"", "OK", "NG"), "-") -> - | M21: =IF($F21>0, IF(OR($H21="", $I21=""), "NG", "OK"), "-") -> - | N21: =IF( IF($D$2=リスト!$A$3, $B21=$B$15, IF(OR($D$2=リスト!$A$4, $D$2=リスト!$A$5), OR($B21=$B$15, $B21=$B$16), FALSE)), IF( IF($D$2=リスト!$A$3, AND($D$15<>"", $D$15<>0), IF(OR($D$2=リスト!$A$4, $D$2=リスト!$A$5), OR(AND($D$15<>"", $D$15<>0), AND($D$16<>"", $D$16<>0)), FALSE)), "OK", "NG"), "-") -> - | O21: {=IF(AND( LEN(SUBSTITUTE(SUBSTITUTE($H21,CHAR(10),""),CHAR(13),""))<=1000, SUMPRODUCT(--ISNUMBER(FIND({"<";">";"&";"""";"'"}, $H21)))=0, LEN(SUBSTITUTE(SUBSTITUTE($I21,CHAR(10),""),CHAR(13),""))<=1000, SUMPRODUCT(--ISNUMBER(FIND({"<";">";"&";"""";"'"}, $I21)))=0 ), "OK", "NG")} -> OK | P21: =IF($G21 > $F$27/5, "NG", "OK") -> OK | Q21: =IF( OR( IF($D$2=リスト!$A$3, OR($B21=$B$16, $B21=$B$25, $B21=$B$26), IF($D$2=リスト!$A$4, OR($B21=$B$25, $B21=$B$26), FALSE)), $F21=0 ), IF(OR( AND(IF($D$2=リスト!$A$3, OR($B21=$B$16, $B21=$B$25, $B21=$B$26), IF($D$2=リスト!$A$4, OR($B21=$B$25, $B21=$B$26), FALSE)), OR(AND($D21<>"", $D21<>0), $H21<>"", $I21<>"")), AND($F21=0, $H21<>""), AND($E21=0, $I21<>"") ), "NG", "OK"), "-") -> OK
B22: クラウドサービス利用費 | E22: =SUM(E66:E70) -> 0 | F22: =SUM(F66:F70) -> 0 | G22: =SUM(G66:G70) -> 0 | L22: =IF( IF($D$2=リスト!$A$3, NOT(OR($B22=$B$16, $B22=$B$25, $B22=$B$26)), IF($D$2=リスト!$A$4, NOT(OR($B22=$B$25, $B22=$B$26)), IF($D$2=リスト!$A$5, TRUE, FALSE))), IF($D22<>"", "OK", "NG"), "-") -> - | M22: =IF($F22>0, IF(OR($H22="", $I22=""), "NG", "OK"), "-") -> - | N22: =IF( IF($D$2=リスト!$A$3, $B22=$B$15, IF(OR($D$2=リスト!$A$4, $D$2=リスト!$A$5), OR($B22=$B$15, $B22=$B$16), FALSE)), IF( IF($D$2=リスト!$A$3, AND($D$15<>"", $D$15<>0), IF(OR($D$2=リスト!$A$4, $D$2=リスト!$A$5), OR(AND($D$15<>"", $D$15<>0), AND($D$16<>"", $D$16<>0)), FALSE)), "OK", "NG"), "-") -> - | O22: {=IF(AND( LEN(SUBSTITUTE(SUBSTITUTE($H22,CHAR(10),""),CHAR(13),""))<=1000, SUMPRODUCT(--ISNUMBER(FIND({"<";">";"&";"""";"'"}, $H22)))=0, LEN(SUBSTITUTE(SUBSTITUTE($I22,CHAR(10),""),CHAR(13),""))<=1000, SUMPRODUCT(--ISNUMBER(FIND({"<";">";"&";"""";"'"}, $I22)))=0 ), "OK", "NG")} -> OK | P22: - | Q22: =IF( OR( IF($D$2=リスト!$A$3, OR($B22=$B$16, $B22=$B$25, $B22=$B$26), IF($D$2=リスト!$A$4, OR($B22=$B$25, $B22=$B$26), FALSE)), $F22=0 ), IF(OR( AND(IF($D$2=リスト!$A$3, OR($B22=$B$16, $B22=$B$25, $B22=$B$26), IF($D$2=リスト!$A$4, OR($B22=$B$25, $B22=$B$26), FALSE)), OR(AND($D22<>"", $D22<>0), $H22<>"", $I22<>"")), AND($F22=0, $H22<>""), AND($E22=0, $I22<>"") ), "NG", "OK"), "-") -> OK
B23: 原材料費 | E23: =SUM(E71:E75) -> 0 | F23: =SUM(F71:F75) -> 0 | G23: =SUM(G71:G75) -> 0 | L23: =IF( IF($D$2=リスト!$A$3, NOT(OR($B23=$B$16, $B23=$B$25, $B23=$B$26)), IF($D$2=リスト!$A$4, NOT(OR($B23=$B$25, $B23=$B$26)), IF($D$2=リスト!$A$5, TRUE, FALSE))), IF($D23<>"", "OK", "NG"), "-") -> - | M23: =IF($F23>0, IF(OR($H23="", $I23=""), "NG", "OK"), "-") -> - | N23: =IF( IF($D$2=リスト!$A$3, $B23=$B$15, IF(OR($D$2=リスト!$A$4, $D$2=リスト!$A$5), OR($B23=$B$15, $B23=$B$16), FALSE)), IF( IF($D$2=リスト!$A$3, AND($D$15<>"", $D$15<>0), IF(OR($D$2=リスト!$A$4, $D$2=リスト!$A$5), OR(AND($D$15<>"", $D$15<>0), AND($D$16<>"", $D$16<>0)), FALSE)), "OK", "NG"), "-") -> - | O23: {=IF(AND( LEN(SUBSTITUTE(SUBSTITUTE($H23,CHAR(10),""),CHAR(13),""))<=1000, SUMPRODUCT(--ISNUMBER(FIND({"<";">";"&";"""";"'"}, $H23)))=0, LEN(SUBSTITUTE(SUBSTITUTE($I23,CHAR(10),""),CHAR(13),""))<=1000, SUMPRODUCT(--ISNUMBER(FIND({"<";">";"&";"""";"'"}, $I23)))=0 ), "OK", "NG")} -> OK | P23: - | Q23: =IF( OR( IF($D$2=リスト!$A$3, OR($B23=$B$16, $B23=$B$25, $B23=$B$26), IF($D$2=リスト!$A$4, OR($B23=$B$25, $B23=$B$26), FALSE)), $F23=0 ), IF(OR( AND(IF($D$2=リスト!$A$3, OR($B23=$B$16, $B23=$B$25, $B23=$B$26), IF($D$2=リスト!$A$4, OR($B23=$B$25, $B23=$B$26), FALSE)), OR(AND($D23<>"", $D23<>0), $H23<>"", $I23<>"")), AND($F23=0, $H23<>""), AND($E23=0, $I23<>"") ), "NG", "OK"), "-") -> OK
B24: 広告宣伝・販売促進費 | E24: =SUM(E76:E80) -> 0 | F24: =SUM(F76:F80) -> 0 | G24: =SUM(G76:G80) -> 0 | L24: =IF( IF($D$2=リスト!$A$3, NOT(OR($B24=$B$16, $B24=$B$25, $B24=$B$26)), IF($D$2=リスト!$A$4, NOT(OR($B24=$B$25, $B24=$B$26)), IF($D$2=リスト!$A$5, TRUE, FALSE))), IF($D24<>"", "OK", "NG"), "-") -> - | M24: =IF($F24>0, IF(OR($H24="", $I24=""), "NG", "OK"), "-") -> - | N24: =IF( IF($D$2=リスト!$A$3, $B24=$B$15, IF(OR($D$2=リスト!$A$4, $D$2=リスト!$A$5), OR($B24=$B$15, $B24=$B$16), FALSE)), IF( IF($D$2=リスト!$A$3, AND($D$15<>"", $D$15<>0), IF(OR($D$2=リスト!$A$4, $D$2=リスト!$A$5), OR(AND($D$15<>"", $D$15<>0), AND($D$16<>"", $D$16<>0)), FALSE)), "OK", "NG"), "-") -> - | O24: {=IF(AND( LEN(SUBSTITUTE(SUBSTITUTE($H24,CHAR(10),""),CHAR(13),""))<=1000, SUMPRODUCT(--ISNUMBER(FIND({"<";">";"&";"""";"'"}, $H24)))=0, LEN(SUBSTITUTE(SUBSTITUTE($I24,CHAR(10),""),CHAR(13),""))<=1000, SUMPRODUCT(--ISNUMBER(FIND({"<";">";"&";"""";"'"}, $I24)))=0 ), "OK", "NG")} -> OK | P24: =IF(ISNUMBER($D$8), IF($G24 > $D$8*0.05, "NG", "OK"), "-") -> - | Q24: =IF( OR( IF($D$2=リスト!$A$3, OR($B24=$B$16, $B24=$B$25, $B24=$B$26), IF($D$2=リスト!$A$4, OR($B24=$B$25, $B24=$B$26), FALSE)), $F24=0 ), IF(OR( AND(IF($D$2=リスト!$A$3, OR($B24=$B$16, $B24=$B$25, $B24=$B$26), IF($D$2=リスト!$A$4, OR($B24=$B$25, $B24=$B$26), FALSE)), OR(AND($D24<>"", $D24<>0), $H24<>"", $I24<>"")), AND($F24=0, $H24<>""), AND($E24=0, $I24<>"") ), "NG", "OK"), "-") -> OK
B25: 海外旅費 | E25: =SUM(E81:E85) -> 0 | F25: =SUM(F81:F85) -> 0 | G25: =SUM(G81:G85) -> 0 | L25: =IF( IF($D$2=リスト!$A$3, NOT(OR($B25=$B$16, $B25=$B$25, $B25=$B$26)), IF($D$2=リスト!$A$4, NOT(OR($B25=$B$25, $B25=$B$26)), IF($D$2=リスト!$A$5, TRUE, FALSE))), IF($D25<>"", "OK", "NG"), "-") -> - | M25: =IF($F25>0, IF(OR($H25="", $I25=""), "NG", "OK"), "-") -> - | N25: =IF( IF($D$2=リスト!$A$3, $B25=$B$15, IF(OR($D$2=リスト!$A$4, $D$2=リスト!$A$5), OR($B25=$B$15, $B25=$B$16), FALSE)), IF( IF($D$2=リスト!$A$3, AND($D$15<>"", $D$15<>0), IF(OR($D$2=リスト!$A$4, $D$2=リスト!$A$5), OR(AND($D$15<>"", $D$15<>0), AND($D$16<>"", $D$16<>0)), FALSE)), "OK", "NG"), "-") -> - | O25: {=IF(AND( LEN(SUBSTITUTE(SUBSTITUTE($H25,CHAR(10),""),CHAR(13),""))<=1000, SUMPRODUCT(--ISNUMBER(FIND({"<";">";"&";"""";"'"}, $H25)))=0, LEN(SUBSTITUTE(SUBSTITUTE($I25,CHAR(10),""),CHAR(13),""))<=1000, SUMPRODUCT(--ISNUMBER(FIND({"<";">";"&";"""";"'"}, $I25)))=0 ), "OK", "NG")} -> OK | P25: =IF($G25 > $F$27/5, "NG", "OK") -> OK | Q25: =IF( OR( IF($D$2=リスト!$A$3, OR($B25=$B$16, $B25=$B$25, $B25=$B$26), IF($D$2=リスト!$A$4, OR($B25=$B$25, $B25=$B$26), FALSE)), $F25=0 ), IF(OR( AND(IF($D$2=リスト!$A$3, OR($B25=$B$16, $B25=$B$25, $B25=$B$26), IF($D$2=リスト!$A$4, OR($B25=$B$25, $B25=$B$26), FALSE)), OR(AND($D25<>"", $D25<>0), $H25<>"", $I25<>"")), AND($F25=0, $H25<>""), AND($E25=0, $I25<>"") ), "NG", "OK"), "-") -> OK
B26: 通訳・翻訳費 | E26: =SUM(E86:E90) -> 0 | F26: =SUM(F86:F90) -> 0 | G26: =SUM(G86:G90) -> 0 | L26: =IF( IF($D$2=リスト!$A$3, NOT(OR($B26=$B$16, $B26=$B$25, $B26=$B$26)), IF($D$2=リスト!$A$4, NOT(OR($B26=$B$25, $B26=$B$26)), IF($D$2=リスト!$A$5, TRUE, FALSE))), IF($D26<>"", "OK", "NG"), "-") -> - | M26: =IF($F26>0, IF(OR($H26="", $I26=""), "NG", "OK"), "-") -> - | N26: =IF( IF($D$2=リスト!$A$3, $B26=$B$15, IF(OR($D$2=リスト!$A$4, $D$2=リスト!$A$5), OR($B26=$B$15, $B26=$B$16), FALSE)), IF( IF($D$2=リスト!$A$3, AND($D$15<>"", $D$15<>0), IF(OR($D$2=リスト!$A$4, $D$2=リスト!$A$5), OR(AND($D$15<>"", $D$15<>0), AND($D$16<>"", $D$16<>0)), FALSE)), "OK", "NG"), "-") -> - | O26: {=IF(AND( LEN(SUBSTITUTE(SUBSTITUTE($H26,CHAR(10),""),CHAR(13),""))<=1000, SUMPRODUCT(--ISNUMBER(FIND({"<";">";"&";"""";"'"}, $H26)))=0, LEN(SUBSTITUTE(SUBSTITUTE($I26,CHAR(10),""),CHAR(13),""))<=1000, SUMPRODUCT(--ISNUMBER(FIND({"<";">";"&";"""";"'"}, $I26)))=0 ), "OK", "NG")} -> OK | P26: =IF($G26 > 300000, "NG", "OK") -> OK | Q26: =IF( OR( IF($D$2=リスト!$A$3, OR($B26=$B$16, $B26=$B$25, $B26=$B$26), IF($D$2=リスト!$A$4, OR($B26=$B$25, $B26=$B$26), FALSE)), $F26=0 ), IF(OR( AND(IF($D$2=リスト!$A$3, OR($B26=$B$16, $B26=$B$25, $B26=$B$26), IF($D$2=リスト!$A$4, OR($B26=$B$25, $B26=$B$26), FALSE)), OR(AND($D26<>"", $D26<>0), $H26<>"", $I26<>"")), AND($F26=0, $H26<>""), AND($E26=0, $I26<>"") ), "NG", "OK"), "-") -> OK
B27: 合計 | E27: =SUM(E15:E26) -> 0 | F27: =SUM(F15:F26) -> 0 | G27: =SUM(G15:G26) -> 0 | L27: - | M27: - | N27: =IF( IF($D$2=リスト!$A$3, $B27=$B$15, IF(OR($D$2=リスト!$A$4, $D$2=リスト!$A$5), OR($B27=$B$15, $B27=$B$16), FALSE)), IF( IF($D$2=リスト!$A$3, AND($D$15<>"", $D$15<>0), IF(OR($D$2=リスト!$A$4, $D$2=リスト!$A$5), OR(AND($D$15<>"", $D$15<>0), AND($D$16<>"", $D$16<>0)), FALSE)), "OK", "NG"), "-") -> - | O27: - | P27: =IF(AND(ISNUMBER($D$10), ISNUMBER($D$11)), IF(OR( $G$27 < $D$10, $G$27 > $D$11 ), "NG", "OK"), "-") -> - | Q27: -
D29: 詳細
B30: 補助対象経費区分 | C30: No | D30: 名称 | E30: A 事業に要する経費(税込み)(円) | F30: B 補助対象経費(税抜き)(円) | G30: C 補助金交付申請額(円) | H30: 積算基礎 補助対象経費 | I30: 補助対象経費の必要性 | J30: 内訳に含まれる経費の種類 | L30: 必須チェック | N30: 形式チェック | O30: 数値チェック | P30: 不要箇所 チェック
B31: 機械装置・システム構築費 | C31: 1 | G31: =IF(ISNUMBER($D$9),ROUNDDOWN(F31*$D$9,0),"-") -> - | L31: {=IF( $C31 <= IF( INDEX($D$15:$D$26, MATCH(INDEX($B:$B, ROW()-$C31+1), $B$15:$B$26, 0)) = リスト!$O$9, 5, INDEX($D$15:$D$26, MATCH(INDEX($B:$B, ROW()-$C31+1), $B$15:$B$26, 0)) ), IF(AND($D31<>"", $E31<>"", $F31<>""), "OK", "NG"), "-")} -> - | M31: {=IF(AND( $C31 <= IF( INDEX($D$15:$D$26, MATCH(INDEX($B:$B, ROW()-$C31+1), $B$15:$B$26, 0)) = リスト!$O$9, 5, INDEX($D$15:$D$26, MATCH(INDEX($B:$B, ROW()-$C31+1), $B$15:$B$26, 0)) ), $F31 > 0 ), IF(AND($H31<>"", $I31<>"", $J31<>""), "OK", "NG"), "-")} -> - | N31: {=IF( $C31 <= IF( INDEX($D$15:$D$26, MATCH(INDEX($B:$B, ROW()-$C31+1), $B$15:$B$26, 0)) = リスト!$O$9, 5, INDEX($D$15:$D$26, MATCH(INDEX($B:$B, ROW()-$C31+1), $B$15:$B$26, 0)) ), IF(AND( LEN(SUBSTITUTE(SUBSTITUTE($D31,CHAR(10),""),CHAR(13),""))<=1000, SUMPRODUCT(--ISNUMBER(FIND({"<";">";"&";"""";"'"}, $D31)))=0, LEN(SUBSTITUTE(SUBSTITUTE($H31,CHAR(10),""),CHAR(13),""))<=1000, SUMPRODUCT(--ISNUMBER(FIND({"<";">";"&";"""";"'"}, $H31)))=0, LEN(SUBSTITUTE(SUBSTITUTE($I31,CHAR(10),""),CHAR(13),""))<=300, SUMPRODUCT(--ISNUMBER(FIND({"<";">";"&";"""";"'"}, $I31)))=0, OR($E31="", IF(ISNUMBER($E31), AND($E31=INT($E31), $E31>=0, LEN(TEXT($E31,"0"))<=12), FALSE)), OR($F31="", IF(ISNUMBER($F31), AND($F31=INT($F31), $F31>=0, LEN(TEXT($F31,"0"))<=12), FALSE)) ), "OK", "NG"), "-")} -> - | O31: {=IF( $C31 <= IF( INDEX($D$15:$D$26, MATCH(INDEX($B:$B, ROW()-$C31+1), $B$15:$B$26, 0)) = リスト!$O$9, 5, INDEX($D$15:$D$26, MATCH(INDEX($B:$B, ROW()-$C31+1), $B$15:$B$26, 0)) ), IF(AND(ISNUMBER($E31), ISNUMBER($F31)), IF(AND( $E31 >= $F31, IF(INDEX($B:$B, ROW()-$C31+1) = $B$31, $F31 >= 100000, TRUE) ), "OK", "NG"), "-"), "-")} -> - | P31: {=IF( $C31 > IF( INDEX($D$15:$D$26, MATCH(INDEX($B:$B, ROW()-$C31+1), $B$15:$B$26, 0)) = リスト!$O$9, 5, INDEX($D$15:$D$26, MATCH(INDEX($B:$B, ROW()-$C31+1), $B$15:$B$26, 0)) ), IF(AND($D31="", $E31="", $F31="", $H31="", $I31="", $J31=""), "OK", "NG"), "-")} -> OK
C32: 2 | G32: =IF(ISNUMBER($D$9),ROUNDDOWN(F32*$D$9,0),"-") -> - | L32: {=IF( $C32 <= IF( INDEX($D$15:$D$26, MATCH(INDEX($B:$B, ROW()-$C32+1), $B$15:$B$26, 0)) = リスト!$O$9, 5, INDEX($D$15:$D$26, MATCH(INDEX($B:$B, ROW()-$C32+1), $B$15:$B$26, 0)) ), IF(AND($D32<>"", $E32<>"", $F32<>""), "OK", "NG"), "-")} -> - | M32: {=IF(AND( $C32 <= IF( INDEX($D$15:$D$26, MATCH(INDEX($B:$B, ROW()-$C32+1), $B$15:$B$26, 0)) = リスト!$O$9, 5, INDEX($D$15:$D$26, MATCH(INDEX($B:$B, ROW()-$C32+1), $B$15:$B$26, 0)) ), $F32 > 0 ), IF(AND($H32<>"", $I32<>"", $J32<>""), "OK", "NG"), "-")} -> - | N32: {=IF( $C32 <= IF( INDEX($D$15:$D$26, MATCH(INDEX($B:$B, ROW()-$C32+1), $B$15:$B$26, 0)) = リスト!$O$9, 5, INDEX($D$15:$D$26, MATCH(INDEX($B:$B, ROW()-$C32+1), $B$15:$B$26, 0)) ), IF(AND( LEN(SUBSTITUTE(SUBSTITUTE($D32,CHAR(10),""),CHAR(13),""))<=1000, SUMPRODUCT(--ISNUMBER(FIND({"<";">";"&";"""";"'"}, $D32)))=0, LEN(SUBSTITUTE(SUBSTITUTE($H32,CHAR(10),""),CHAR(13),""))<=1000, SUMPRODUCT(--ISNUMBER(FIND({"<";">";"&";"""";"'"}, $H32)))=0, LEN(SUBSTITUTE(SUBSTITUTE($I32,CHAR(10),""),CHAR(13),""))<=300, SUMPRODUCT(--ISNUMBER(FIND({"<";">";"&";"""";"'"}, $I32)))=0, OR($E32="", IF(ISNUMBER($E32), AND($E32=INT($E32), $E32>=0, LEN(TEXT($E32,"0"))<=12), FALSE)), OR($F32="", IF(ISNUMBER($F32), AND($F32=INT($F32), $F32>=0, LEN(TEXT($F32,"0"))<=12), FALSE)) ), "OK", "NG"), "-")} -> - | O32: {=IF( $C32 <= IF( INDEX($D$15:$D$26, MATCH(INDEX($B:$B, ROW()-$C32+1), $B$15:$B$26, 0)) = リスト!$O$9, 5, INDEX($D$15:$D$26, MATCH(INDEX($B:$B, ROW()-$C32+1), $B$15:$B$26, 0)) ), IF(AND(ISNUMBER($E32), ISNUMBER($F32)), IF(AND( $E32 >= $F32, IF(INDEX($B:$B, ROW()-$C32+1) = $B$31, $F32 >= 100000, TRUE) ), "OK", "NG"), "-"), "-")} -> - | P32: {=IF( $C32 > IF( INDEX($D$15:$D$26, MATCH(INDEX($B:$B, ROW()-$C32+1), $B$15:$B$26, 0)) = リスト!$O$9, 5, INDEX($D$15:$D$26, MATCH(INDEX($B:$B, ROW()-$C32+1), $B$15:$B$26, 0)) ), IF(AND($D32="", $E32="", $F32="", $H32="", $I32="", $J32=""), "OK", "NG"), "-")} -> OK
C33: 3 | G33: =IF(ISNUMBER($D$9),ROUNDDOWN(F33*$D$9,0),"-") -> - | L33: {=IF( $C33 <= IF( INDEX($D$15:$D$26, MATCH(INDEX($B:$B, ROW()-$C33+1), $B$15:$B$26, 0)) = リスト!$O$9, 5, INDEX($D$15:$D$26, MATCH(INDEX($B:$B, ROW()-$C33+1), $B$15:$B$26, 0)) ), IF(AND($D33<>"", $E33<>"", $F33<>""), "OK", "NG"), "-")} -> - | M33: {=IF(AND( $C33 <= IF( INDEX($D$15:$D$26, MATCH(INDEX($B:$B, ROW()-$C33+1), $B$15:$B$26, 0)) = リスト!$O$9, 5, INDEX($D$15:$D$26, MATCH(INDEX($B:$B, ROW()-$C33+1), $B$15:$B$26, 0)) ), $F33 > 0 ), IF(AND($H33<>"", $I33<>"", $J33<>""), "OK", "NG"), "-")} -> - | N33: {=IF( $C33 <= IF( INDEX($D$15:$D$26, MATCH(INDEX($B:$B, ROW()-$C33+1), $B$15:$B$26, 0)) = リスト!$O$9, 5, INDEX($D$15:$D$26, MATCH(INDEX($B:$B, ROW()-$C33+1), $B$15:$B$26, 0)) ), IF(AND( LEN(SUBSTITUTE(SUBSTITUTE($D33,CHAR(10),""),CHAR(13),""))<=1000, SUMPRODUCT(--ISNUMBER(FIND({"<";">";"&";"""";"'"}, $D33)))=0, LEN(SUBSTITUTE(SUBSTITUTE($H33,CHAR(10),""),CHAR(13),""))<=1000, SUMPRODUCT(--ISNUMBER(FIND({"<";">";"&";"""";"'"}, $H33)))=0, LEN(SUBSTITUTE(SUBSTITUTE($I33,CHAR(10),""),CHAR(13),""))<=300, SUMPRODUCT(--ISNUMBER(FIND({"<";">";"&";"""";"'"}, $I33)))=0, OR($E33="", IF(ISNUMBER($E33), AND($E33=INT($E33), $E33>=0, LEN(TEXT($E33,"0"))<=12), FALSE)), OR($F33="", IF(ISNUMBER($F33), AND($F33=INT($F33), $F33>=0, LEN(TEXT($F33,"0"))<=12), FALSE)) ), "OK", "NG"), "-")} -> - | O33: {=IF( $C33 <= IF( INDEX($D$15:$D$26, MATCH(INDEX($B:$B, ROW()-$C33+1), $B$15:$B$26, 0)) = リスト!$O$9, 5, INDEX($D$15:$D$26, MATCH(INDEX($B:$B, ROW()-$C33+1), $B$15:$B$26, 0)) ), IF(AND(ISNUMBER($E33), ISNUMBER($F33)), IF(AND( $E33 >= $F33, IF(INDEX($B:$B, ROW()-$C33+1) = $B$31, $F33 >= 100000, TRUE) ), "OK", "NG"), "-"), "-")} -> - | P33: {=IF( $C33 > IF( INDEX($D$15:$D$26, MATCH(INDEX($B:$B, ROW()-$C33+1), $B$15:$B$26, 0)) = リスト!$O$9, 5, INDEX($D$15:$D$26, MATCH(INDEX($B:$B, ROW()-$C33+1), $B$15:$B$26, 0)) ), IF(AND($D33="", $E33="", $F33="", $H33="", $I33="", $J33=""), "OK", "NG"), "-")} -> OK
C34: 4 | G34: =IF(ISNUMBER($D$9),ROUNDDOWN(F34*$D$9,0),"-") -> - | L34: {=IF( $C34 <= IF( INDEX($D$15:$D$26, MATCH(INDEX($B:$B, ROW()-$C34+1), $B$15:$B$26, 0)) = リスト!$O$9, 5, INDEX($D$15:$D$26, MATCH(INDEX($B:$B, ROW()-$C34+1), $B$15:$B$26, 0)) ), IF(AND($D34<>"", $E34<>"", $F34<>""), "OK", "NG"), "-")} -> - | M34: {=IF(AND( $C34 <= IF( INDEX($D$15:$D$26, MATCH(INDEX($B:$B, ROW()-$C34+1), $B$15:$B$26, 0)) = リスト!$O$9, 5, INDEX($D$15:$D$26, MATCH(INDEX($B:$B, ROW()-$C34+1), $B$15:$B$26, 0)) ), $F34 > 0 ), IF(AND($H34<>"", $I34<>"", $J34<>""), "OK", "NG"), "-")} -> - | N34: {=IF( $C34 <= IF( INDEX($D$15:$D$26, MATCH(INDEX($B:$B, ROW()-$C34+1), $B$15:$B$26, 0)) = リスト!$O$9, 5, INDEX($D$15:$D$26, MATCH(INDEX($B:$B, ROW()-$C34+1), $B$15:$B$26, 0)) ), IF(AND( LEN(SUBSTITUTE(SUBSTITUTE($D34,CHAR(10),""),CHAR(13),""))<=1000, SUMPRODUCT(--ISNUMBER(FIND({"<";">";"&";"""";"'"}, $D34)))=0, LEN(SUBSTITUTE(SUBSTITUTE($H34,CHAR(10),""),CHAR(13),""))<=1000, SUMPRODUCT(--ISNUMBER(FIND({"<";">";"&";"""";"'"}, $H34)))=0, LEN(SUBSTITUTE(SUBSTITUTE($I34,CHAR(10),""),CHAR(13),""))<=300, SUMPRODUCT(--ISNUMBER(FIND({"<";">";"&";"""";"'"}, $I34)))=0, OR($E34="", IF(ISNUMBER($E34), AND($E34=INT($E34), $E34>=0, LEN(TEXT($E34,"0"))<=12), FALSE)), OR($F34="", IF(ISNUMBER($F34), AND($F34=INT($F34), $F34>=0, LEN(TEXT($F34,"0"))<=12), FALSE)) ), "OK", "NG"), "-")} -> - | O34: {=IF( $C34 <= IF( INDEX($D$15:$D$26, MATCH(INDEX($B:$B, ROW()-$C34+1), $B$15:$B$26, 0)) = リスト!$O$9, 5, INDEX($D$15:$D$26, MATCH(INDEX($B:$B, ROW()-$C34+1), $B$15:$B$26, 0)) ), IF(AND(ISNUMBER($E34), ISNUMBER($F34)), IF(AND( $E34 >= $F34, IF(INDEX($B:$B, ROW()-$C34+1) = $B$31, $F34 >= 100000, TRUE) ), "OK", "NG"), "-"), "-")} -> - | P34: {=IF( $C34 > IF( INDEX($D$15:$D$26, MATCH(INDEX($B:$B, ROW()-$C34+1), $B$15:$B$26, 0)) = リスト!$O$9, 5, INDEX($D$15:$D$26, MATCH(INDEX($B:$B, ROW()-$C34+1), $B$15:$B$26, 0)) ), IF(AND($D34="", $E34="", $F34="", $H34="", $I34="", $J34=""), "OK", "NG"), "-")} -> OK
C35: 5 | G35: =IF(ISNUMBER($D$9),ROUNDDOWN(F35*$D$9,0),"-") -> - | L35: {=IF( $C35 <= IF( INDEX($D$15:$D$26, MATCH(INDEX($B:$B, ROW()-$C35+1), $B$15:$B$26, 0)) = リスト!$O$9, 5, INDEX($D$15:$D$26, MATCH(INDEX($B:$B, ROW()-$C35+1), $B$15:$B$26, 0)) ), IF(AND($D35<>"", $E35<>"", $F35<>""), "OK", "NG"), "-")} -> - | M35: {=IF(AND( $C35 <= IF( INDEX($D$15:$D$26, MATCH(INDEX($B:$B, ROW()-$C35+1), $B$15:$B$26, 0)) = リスト!$O$9, 5, INDEX($D$15:$D$26, MATCH(INDEX($B:$B, ROW()-$C35+1), $B$15:$B$26, 0)) ), $F35 > 0 ), IF(AND($H35<>"", $I35<>"", $J35<>""), "OK", "NG"), "-")} -> - | N35: {=IF( $C35 <= IF( INDEX($D$15:$D$26, MATCH(INDEX($B:$B, ROW()-$C35+1), $B$15:$B$26, 0)) = リスト!$O$9, 5, INDEX($D$15:$D$26, MATCH(INDEX($B:$B, ROW()-$C35+1), $B$15:$B$26, 0)) ), IF(AND( LEN(SUBSTITUTE(SUBSTITUTE($D35,CHAR(10),""),CHAR(13),""))<=1000, SUMPRODUCT(--ISNUMBER(FIND({"<";">";"&";"""";"'"}, $D35)))=0, LEN(SUBSTITUTE(SUBSTITUTE($H35,CHAR(10),""),CHAR(13),""))<=1000, SUMPRODUCT(--ISNUMBER(FIND({"<";">";"&";"""";"'"}, $H35)))=0, LEN(SUBSTITUTE(SUBSTITUTE($I35,CHAR(10),""),CHAR(13),""))<=300, SUMPRODUCT(--ISNUMBER(FIND({"<";">";"&";"""";"'"}, $I35)))=0, OR($E35="", IF(ISNUMBER($E35), AND($E35=INT($E35), $E35>=0, LEN(TEXT($E35,"0"))<=12), FALSE)), OR($F35="", IF(ISNUMBER($F35), AND($F35=INT($F35), $F35>=0, LEN(TEXT($F35,"0"))<=12), FALSE)) ), "OK", "NG"), "-")} -> - | O35: {=IF( $C35 <= IF( INDEX($D$15:$D$26, MATCH(INDEX($B:$B, ROW()-$C35+1), $B$15:$B$26, 0)) = リスト!$O$9, 5, INDEX($D$15:$D$26, MATCH(INDEX($B:$B, ROW()-$C35+1), $B$15:$B$26, 0)) ), IF(AND(ISNUMBER($E35), ISNUMBER($F35)), IF(AND( $E35 >= $F35, IF(INDEX($B:$B, ROW()-$C35+1) = $B$31, $F35 >= 100000, TRUE) ), "OK", "NG"), "-"), "-")} -> - | P35: {=IF( $C35 > IF( INDEX($D$15:$D$26, MATCH(INDEX($B:$B, ROW()-$C35+1), $B$15:$B$26, 0)) = リスト!$O$9, 5, INDEX($D$15:$D$26, MATCH(INDEX($B:$B, ROW()-$C35+1), $B$15:$B$26, 0)) ), IF(AND($D35="", $E35="", $F35="", $H35="", $I35="", $J35=""), "OK", "NG"), "-")} -> OK
B36: 建物費 | C36: 1 | G36: =IF(ISNUMBER($D$9),ROUNDDOWN(F36*$D$9,0),"-") -> - | L36: {=IF( $C36 <= IF( INDEX($D$15:$D$26, MATCH(INDEX($B:$B, ROW()-$C36+1), $B$15:$B$26, 0)) = リスト!$O$9, 5, INDEX($D$15:$D$26, MATCH(INDEX($B:$B, ROW()-$C36+1), $B$15:$B$26, 0)) ), IF(AND($D36<>"", $E36<>"", $F36<>""), "OK", "NG"), "-")} -> - | M36: {=IF(AND( $C36 <= IF( INDEX($D$15:$D$26, MATCH(INDEX($B:$B, ROW()-$C36+1), $B$15:$B$26, 0)) = リスト!$O$9, 5, INDEX($D$15:$D$26, MATCH(INDEX($B:$B, ROW()-$C36+1), $B$15:$B$26, 0)) ), $F36 > 0 ), IF(AND($H36<>"", $I36<>""), "OK", "NG"), "-")} -> - | N36: {=IF( $C36 <= IF( INDEX($D$15:$D$26, MATCH(INDEX($B:$B, ROW()-$C36+1), $B$15:$B$26, 0)) = リスト!$O$9, 5, INDEX($D$15:$D$26, MATCH(INDEX($B:$B, ROW()-$C36+1), $B$15:$B$26, 0)) ), IF(AND( LEN(SUBSTITUTE(SUBSTITUTE($D36,CHAR(10),""),CHAR(13),""))<=1000, SUMPRODUCT(--ISNUMBER(FIND({"<";">";"&";"""";"'"}, $D36)))=0, LEN(SUBSTITUTE(SUBSTITUTE($H36,CHAR(10),""),CHAR(13),""))<=1000, SUMPRODUCT(--ISNUMBER(FIND({"<";">";"&";"""";"'"}, $H36)))=0, LEN(SUBSTITUTE(SUBSTITUTE($I36,CHAR(10),""),CHAR(13),""))<=300, SUMPRODUCT(--ISNUMBER(FIND({"<";">";"&";"""";"'"}, $I36)))=0, OR($E36="", IF(ISNUMBER($E36), AND($E36=INT($E36), $E36>=0, LEN(TEXT($E36,"0"))<=12), FALSE)), OR($F36="", IF(ISNUMBER($F36), AND($F36=INT($F36), $F36>=0, LEN(TEXT($F36,"0"))<=12), FALSE)) ), "OK", "NG"), "-")} -> - | O36: {=IF( $C36 <= IF( INDEX($D$15:$D$26, MATCH(INDEX($B:$B, ROW()-$C36+1), $B$15:$B$26, 0)) = リスト!$O$9, 5, INDEX($D$15:$D$26, MATCH(INDEX($B:$B, ROW()-$C36+1), $B$15:$B$26, 0)) ), IF(AND(ISNUMBER($E36), ISNUMBER($F36)), IF(AND( $E36 >= $F36, IF(INDEX($B:$B, ROW()-$C36+1) = $B$31, $F36 >= 100000, TRUE) ), "OK", "NG"), "-"), "-")} -> - | P36: {=IF( $C36 > IF( INDEX($D$15:$D$26, MATCH(INDEX($B:$B, ROW()-$C36+1), $B$15:$B$26, 0)) = リスト!$O$9, 5, INDEX($D$15:$D$26, MATCH(INDEX($B:$B, ROW()-$C36+1), $B$15:$B$26, 0)) ), IF(AND($D36="", $E36="", $F36="", $H36="", $I36=""), "OK", "NG"), "-")} -> OK
C37: 2 | G37: =IF(ISNUMBER($D$9),ROUNDDOWN(F37*$D$9,0),"-") -> - | L37: {=IF( $C37 <= IF( INDEX($D$15:$D$26, MATCH(INDEX($B:$B, ROW()-$C37+1), $B$15:$B$26, 0)) = リスト!$O$9, 5, INDEX($D$15:$D$26, MATCH(INDEX($B:$B, ROW()-$C37+1), $B$15:$B$26, 0)) ), IF(AND($D37<>"", $E37<>"", $F37<>""), "OK", "NG"), "-")} -> - | M37: {=IF(AND( $C37 <= IF( INDEX($D$15:$D$26, MATCH(INDEX($B:$B, ROW()-$C37+1), $B$15:$B$26, 0)) = リスト!$O$9, 5, INDEX($D$15:$D$26, MATCH(INDEX($B:$B, ROW()-$C37+1), $B$15:$B$26, 0)) ), $F37 > 0 ), IF(AND($H37<>"", $I37<>""), "OK", "NG"), "-")} -> - | N37: {=IF( $C37 <= IF( INDEX($D$15:$D$26, MATCH(INDEX($B:$B, ROW()-$C37+1), $B$15:$B$26, 0)) = リスト!$O$9, 5, INDEX($D$15:$D$26, MATCH(INDEX($B:$B, ROW()-$C37+1), $B$15:$B$26, 0)) ), IF(AND( LEN(SUBSTITUTE(SUBSTITUTE($D37,CHAR(10),""),CHAR(13),""))<=1000, SUMPRODUCT(--ISNUMBER(FIND({"<";">";"&";"""";"'"}, $D37)))=0, LEN(SUBSTITUTE(SUBSTITUTE($H37,CHAR(10),""),CHAR(13),""))<=1000, SUMPRODUCT(--ISNUMBER(FIND({"<";">";"&";"""";"'"}, $H37)))=0, LEN(SUBSTITUTE(SUBSTITUTE($I37,CHAR(10),""),CHAR(13),""))<=300, SUMPRODUCT(--ISNUMBER(FIND({"<";">";"&";"""";"'"}, $I37)))=0, OR($E37="", IF(ISNUMBER($E37), AND($E37=INT($E37), $E37>=0, LEN(TEXT($E37,"0"))<=12), FALSE)), OR($F37="", IF(ISNUMBER($F37), AND($F37=INT($F37), $F37>=0, LEN(TEXT($F37,"0"))<=12), FALSE)) ), "OK", "NG"), "-")} -> - | O37: {=IF( $C37 <= IF( INDEX($D$15:$D$26, MATCH(INDEX($B:$B, ROW()-$C37+1), $B$15:$B$26, 0)) = リスト!$O$9, 5, INDEX($D$15:$D$26, MATCH(INDEX($B:$B, ROW()-$C37+1), $B$15:$B$26, 0)) ), IF(AND(ISNUMBER($E37), ISNUMBER($F37)), IF(AND( $E37 >= $F37, IF(INDEX($B:$B, ROW()-$C37+1) = $B$31, $F37 >= 100000, TRUE) ), "OK", "NG"), "-"), "-")} -> - | P37: {=IF( $C37 > IF( INDEX($D$15:$D$26, MATCH(INDEX($B:$B, ROW()-$C37+1), $B$15:$B$26, 0)) = リスト!$O$9, 5, INDEX($D$15:$D$26, MATCH(INDEX($B:$B, ROW()-$C37+1), $B$15:$B$26, 0)) ), IF(AND($D37="", $E37="", $F37="", $H37="", $I37=""), "OK", "NG"), "-")} -> OK
C38: 3 | G38: =IF(ISNUMBER($D$9),ROUNDDOWN(F38*$D$9,0),"-") -> - | L38: {=IF( $C38 <= IF( INDEX($D$15:$D$26, MATCH(INDEX($B:$B, ROW()-$C38+1), $B$15:$B$26, 0)) = リスト!$O$9, 5, INDEX($D$15:$D$26, MATCH(INDEX($B:$B, ROW()-$C38+1), $B$15:$B$26, 0)) ), IF(AND($D38<>"", $E38<>"", $F38<>""), "OK", "NG"), "-")} -> - | M38: {=IF(AND( $C38 <= IF( INDEX($D$15:$D$26, MATCH(INDEX($B:$B, ROW()-$C38+1), $B$15:$B$26, 0)) = リスト!$O$9, 5, INDEX($D$15:$D$26, MATCH(INDEX($B:$B, ROW()-$C38+1), $B$15:$B$26, 0)) ), $F38 > 0 ), IF(AND($H38<>"", $I38<>""), "OK", "NG"), "-")} -> - | N38: {=IF( $C38 <= IF( INDEX($D$15:$D$26, MATCH(INDEX($B:$B, ROW()-$C38+1), $B$15:$B$26, 0)) = リスト!$O$9, 5, INDEX($D$15:$D$26, MATCH(INDEX($B:$B, ROW()-$C38+1), $B$15:$B$26, 0)) ), IF(AND( LEN(SUBSTITUTE(SUBSTITUTE($D38,CHAR(10),""),CHAR(13),""))<=1000, SUMPRODUCT(--ISNUMBER(FIND({"<";">";"&";"""";"'"}, $D38)))=0, LEN(SUBSTITUTE(SUBSTITUTE($H38,CHAR(10),""),CHAR(13),""))<=1000, SUMPRODUCT(--ISNUMBER(FIND({"<";">";"&";"""";"'"}, $H38)))=0, LEN(SUBSTITUTE(SUBSTITUTE($I38,CHAR(10),""),CHAR(13),""))<=300, SUMPRODUCT(--ISNUMBER(FIND({"<";">";"&";"""";"'"}, $I38)))=0, OR($E38="", IF(ISNUMBER($E38), AND($E38=INT($E38), $E38>=0, LEN(TEXT($E38,"0"))<=12), FALSE)), OR($F38="", IF(ISNUMBER($F38), AND($F38=INT($F38), $F38>=0, LEN(TEXT($F38,"0"))<=12), FALSE)) ), "OK", "NG"), "-")} -> - | O38: {=IF( $C38 <= IF( INDEX($D$15:$D$26, MATCH(INDEX($B:$B, ROW()-$C38+1), $B$15:$B$26, 0)) = リスト!$O$9, 5, INDEX($D$15:$D$26, MATCH(INDEX($B:$B, ROW()-$C38+1), $B$15:$B$26, 0)) ), IF(AND(ISNUMBER($E38), ISNUMBER($F38)), IF(AND( $E38 >= $F38, IF(INDEX($B:$B, ROW()-$C38+1) = $B$31, $F38 >= 100000, TRUE) ), "OK", "NG"), "-"), "-")} -> - | P38: {=IF( $C38 > IF( INDEX($D$15:$D$26, MATCH(INDEX($B:$B, ROW()-$C38+1), $B$15:$B$26, 0)) = リスト!$O$9, 5, INDEX($D$15:$D$26, MATCH(INDEX($B:$B, ROW()-$C38+1), $B$15:$B$26, 0)) ), IF(AND($D38="", $E38="", $F38="", $H38="", $I38=""), "OK", "NG"), "-")} -> OK
C39: 4 | G39: =IF(ISNUMBER($D$9),ROUNDDOWN(F39*$D$9,0),"-") -> - | L39: {=IF( $C39 <= IF( INDEX($D$15:$D$26, MATCH(INDEX($B:$B, ROW()-$C39+1), $B$15:$B$26, 0)) = リスト!$O$9, 5, INDEX($D$15:$D$26, MATCH(INDEX($B:$B, ROW()-$C39+1), $B$15:$B$26, 0)) ), IF(AND($D39<>"", $E39<>"", $F39<>""), "OK", "NG"), "-")} -> - | M39: {=IF(AND( $C39 <= IF( INDEX($D$15:$D$26, MATCH(INDEX($B:$B, ROW()-$C39+1), $B$15:$B$26, 0)) = リスト!$O$9, 5, INDEX($D$15:$D$26, MATCH(INDEX($B:$B, ROW()-$C39+1), $B$15:$B$26, 0)) ), $F39 > 0 ), IF(AND($H39<>"", $I39<>""), "OK", "NG"), "-")} -> - | N39: {=IF( $C39 <= IF( INDEX($D$15:$D$26, MATCH(INDEX($B:$B, ROW()-$C39+1), $B$15:$B$26, 0)) = リスト!$O$9, 5, INDEX($D$15:$D$26, MATCH(INDEX($B:$B, ROW()-$C39+1), $B$15:$B$26, 0)) ), IF(AND( LEN(SUBSTITUTE(SUBSTITUTE($D39,CHAR(10),""),CHAR(13),""))<=1000, SUMPRODUCT(--ISNUMBER(FIND({"<";">";"&";"""";"'"}, $D39)))=0, LEN(SUBSTITUTE(SUBSTITUTE($H39,CHAR(10),""),CHAR(13),""))<=1000, SUMPRODUCT(--ISNUMBER(FIND({"<";">";"&";"""";"'"}, $H39)))=0, LEN(SUBSTITUTE(SUBSTITUTE($I39,CHAR(10),""),CHAR(13),""))<=300, SUMPRODUCT(--ISNUMBER(FIND({"<";">";"&";"""";"'"}, $I39)))=0, OR($E39="", IF(ISNUMBER($E39), AND($E39=INT($E39), $E39>=0, LEN(TEXT($E39,"0"))<=12), FALSE)), OR($F39="", IF(ISNUMBER($F39), AND($F39=INT($F39), $F39>=0, LEN(TEXT($F39,"0"))<=12), FALSE)) ), "OK", "NG"), "-")} -> - | O39: {=IF( $C39 <= IF( INDEX($D$15:$D$26, MATCH(INDEX($B:$B, ROW()-$C39+1), $B$15:$B$26, 0)) = リスト!$O$9, 5, INDEX($D$15:$D$26, MATCH(INDEX($B:$B, ROW()-$C39+1), $B$15:$B$26, 0)) ), IF(AND(ISNUMBER($E39), ISNUMBER($F39)), IF(AND( $E39 >= $F39, IF(INDEX($B:$B, ROW()-$C39+1) = $B$31, $F39 >= 100000, TRUE) ), "OK", "NG"), "-"), "-")} -> - | P39: {=IF( $C39 > IF( INDEX($D$15:$D$26, MATCH(INDEX($B:$B, ROW()-$C39+1), $B$15:$B$26, 0)) = リスト!$O$9, 5, INDEX($D$15:$D$26, MATCH(INDEX($B:$B, ROW()-$C39+1), $B$15:$B$26, 0)) ), IF(AND($D39="", $E39="", $F39="", $H39="", $I39=""), "OK", "NG"), "-")} -> OK
C40: 5 | G40: =IF(ISNUMBER($D$9),ROUNDDOWN(F40*$D$9,0),"-") -> - | L40: {=IF( $C40 <= IF( INDEX($D$15:$D$26, MATCH(INDEX($B:$B, ROW()-$C40+1), $B$15:$B$26, 0)) = リスト!$O$9, 5, INDEX($D$15:$D$26, MATCH(INDEX($B:$B, ROW()-$C40+1), $B$15:$B$26, 0)) ), IF(AND($D40<>"", $E40<>"", $F40<>""), "OK", "NG"), "-")} -> - | M40: {=IF(AND( $C40 <= IF( INDEX($D$15:$D$26, MATCH(INDEX($B:$B, ROW()-$C40+1), $B$15:$B$26, 0)) = リスト!$O$9, 5, INDEX($D$15:$D$26, MATCH(INDEX($B:$B, ROW()-$C40+1), $B$15:$B$26, 0)) ), $F40 > 0 ), IF(AND($H40<>"", $I40<>""), "OK", "NG"), "-")} -> - | N40: {=IF( $C40 <= IF( INDEX($D$15:$D$26, MATCH(INDEX($B:$B, ROW()-$C40+1), $B$15:$B$26, 0)) = リスト!$O$9, 5, INDEX($D$15:$D$26, MATCH(INDEX($B:$B, ROW()-$C40+1), $B$15:$B$26, 0)) ), IF(AND( LEN(SUBSTITUTE(SUBSTITUTE($D40,CHAR(10),""),CHAR(13),""))<=1000, SUMPRODUCT(--ISNUMBER(FIND({"<";">";"&";"""";"'"}, $D40)))=0, LEN(SUBSTITUTE(SUBSTITUTE($H40,CHAR(10),""),CHAR(13),""))<=1000, SUMPRODUCT(--ISNUMBER(FIND({"<";">";"&";"""";"'"}, $H40)))=0, LEN(SUBSTITUTE(SUBSTITUTE($I40,CHAR(10),""),CHAR(13),""))<=300, SUMPRODUCT(--ISNUMBER(FIND({"<";">";"&";"""";"'"}, $I40)))=0, OR($E40="", IF(ISNUMBER($E40), AND($E40=INT($E40), $E40>=0, LEN(TEXT($E40,"0"))<=12), FALSE)), OR($F40="", IF(ISNUMBER($F40), AND($F40=INT($F40), $F40>=0, LEN(TEXT($F40,"0"))<=12), FALSE)) ), "OK", "NG"), "-")} -> - | O40: {=IF( $C40 <= IF( INDEX($D$15:$D$26, MATCH(INDEX($B:$B, ROW()-$C40+1), $B$15:$B$26, 0)) = リスト!$O$9, 5, INDEX($D$15:$D$26, MATCH(INDEX($B:$B, ROW()-$C40+1), $B$15:$B$26, 0)) ), IF(AND(ISNUMBER($E40), ISNUMBER($F40)), IF(AND( $E40 >= $F40, IF(INDEX($B:$B, ROW()-$C40+1) = $B$31, $F40 >= 100000, TRUE) ), "OK", "NG"), "-"), "-")} -> - | P40: {=IF( $C40 > IF( INDEX($D$15:$D$26, MATCH(INDEX($B:$B, ROW()-$C40+1), $B$15:$B$26, 0)) = リスト!$O$9, 5, INDEX($D$15:$D$26, MATCH(INDEX($B:$B, ROW()-$C40+1), $B$15:$B$26, 0)) ), IF(AND($D40="", $E40="", $F40="", $H40="", $I40=""), "OK", "NG"), "-")} -> OK
B41: 運搬費 | C41: 1 | G41: =IF(ISNUMBER($D$9),ROUNDDOWN(F41*$D$9,0),"-") -> - | L41: {=IF( $C41 <= IF( INDEX($D$15:$D$26, MATCH(INDEX($B:$B, ROW()-$C41+1), $B$15:$B$26, 0)) = リスト!$O$9, 5, INDEX($D$15:$D$26, MATCH(INDEX($B:$B, ROW()-$C41+1), $B$15:$B$26, 0)) ), IF(AND($D41<>"", $E41<>"", $F41<>""), "OK", "NG"), "-")} -> - | M41: {=IF(AND( $C41 <= IF( INDEX($D$15:$D$26, MATCH(INDEX($B:$B, ROW()-$C41+1), $B$15:$B$26, 0)) = リスト!$O$9, 5, INDEX($D$15:$D$26, MATCH(INDEX($B:$B, ROW()-$C41+1), $B$15:$B$26, 0)) ), $F41 > 0 ), IF(AND($H41<>"", $I41<>""), "OK", "NG"), "-")} -> - | N41: {=IF( $C41 <= IF( INDEX($D$15:$D$26, MATCH(INDEX($B:$B, ROW()-$C41+1), $B$15:$B$26, 0)) = リスト!$O$9, 5, INDEX($D$15:$D$26, MATCH(INDEX($B:$B, ROW()-$C41+1), $B$15:$B$26, 0)) ), IF(AND( LEN(SUBSTITUTE(SUBSTITUTE($D41,CHAR(10),""),CHAR(13),""))<=1000, SUMPRODUCT(--ISNUMBER(FIND({"<";">";"&";"""";"'"}, $D41)))=0, LEN(SUBSTITUTE(SUBSTITUTE($H41,CHAR(10),""),CHAR(13),""))<=1000, SUMPRODUCT(--ISNUMBER(FIND({"<";">";"&";"""";"'"}, $H41)))=0, LEN(SUBSTITUTE(SUBSTITUTE($I41,CHAR(10),""),CHAR(13),""))<=300, SUMPRODUCT(--ISNUMBER(FIND({"<";">";"&";"""";"'"}, $I41)))=0, OR($E41="", IF(ISNUMBER($E41), AND($E41=INT($E41), $E41>=0, LEN(TEXT($E41,"0"))<=12), FALSE)), OR($F41="", IF(ISNUMBER($F41), AND($F41=INT($F41), $F41>=0, LEN(TEXT($F41,"0"))<=12), FALSE)) ), "OK", "NG"), "-")} -> - | O41: {=IF( $C41 <= IF( INDEX($D$15:$D$26, MATCH(INDEX($B:$B, ROW()-$C41+1), $B$15:$B$26, 0)) = リスト!$O$9, 5, INDEX($D$15:$D$26, MATCH(INDEX($B:$B, ROW()-$C41+1), $B$15:$B$26, 0)) ), IF(AND(ISNUMBER($E41), ISNUMBER($F41)), IF(AND( $E41 >= $F41, IF(INDEX($B:$B, ROW()-$C41+1) = $B$31, $F41 >= 100000, TRUE) ), "OK", "NG"), "-"), "-")} -> - | P41: {=IF( $C41 > IF( INDEX($D$15:$D$26, MATCH(INDEX($B:$B, ROW()-$C41+1), $B$15:$B$26, 0)) = リスト!$O$9, 5, INDEX($D$15:$D$26, MATCH(INDEX($B:$B, ROW()-$C41+1), $B$15:$B$26, 0)) ), IF(AND($D41="", $E41="", $F41="", $H41="", $I41=""), "OK", "NG"), "-")} -> OK
C42: 2 | G42: =IF(ISNUMBER($D$9),ROUNDDOWN(F42*$D$9,0),"-") -> - | L42: {=IF( $C42 <= IF( INDEX($D$15:$D$26, MATCH(INDEX($B:$B, ROW()-$C42+1), $B$15:$B$26, 0)) = リスト!$O$9, 5, INDEX($D$15:$D$26, MATCH(INDEX($B:$B, ROW()-$C42+1), $B$15:$B$26, 0)) ), IF(AND($D42<>"", $E42<>"", $F42<>""), "OK", "NG"), "-")} -> - | M42: {=IF(AND( $C42 <= IF( INDEX($D$15:$D$26, MATCH(INDEX($B:$B, ROW()-$C42+1), $B$15:$B$26, 0)) = リスト!$O$9, 5, INDEX($D$15:$D$26, MATCH(INDEX($B:$B, ROW()-$C42+1), $B$15:$B$26, 0)) ), $F42 > 0 ), IF(AND($H42<>"", $I42<>""), "OK", "NG"), "-")} -> - | N42: {=IF( $C42 <= IF( INDEX($D$15:$D$26, MATCH(INDEX($B:$B, ROW()-$C42+1), $B$15:$B$26, 0)) = リスト!$O$9, 5, INDEX($D$15:$D$26, MATCH(INDEX($B:$B, ROW()-$C42+1), $B$15:$B$26, 0)) ), IF(AND( LEN(SUBSTITUTE(SUBSTITUTE($D42,CHAR(10),""),CHAR(13),""))<=1000, SUMPRODUCT(--ISNUMBER(FIND({"<";">";"&";"""";"'"}, $D42)))=0, LEN(SUBSTITUTE(SUBSTITUTE($H42,CHAR(10),""),CHAR(13),""))<=1000, SUMPRODUCT(--ISNUMBER(FIND({"<";">";"&";"""";"'"}, $H42)))=0, LEN(SUBSTITUTE(SUBSTITUTE($I42,CHAR(10),""),CHAR(13),""))<=300, SUMPRODUCT(--ISNUMBER(FIND({"<";">";"&";"""";"'"}, $I42)))=0, OR($E42="", IF(ISNUMBER($E42), AND($E42=INT($E42), $E42>=0, LEN(TEXT($E42,"0"))<=12), FALSE)), OR($F42="", IF(ISNUMBER($F42), AND($F42=INT($F42), $F42>=0, LEN(TEXT($F42,"0"))<=12), FALSE)) ), "OK", "NG"), "-")} -> - | O42: {=IF( $C42 <= IF( INDEX($D$15:$D$26, MATCH(INDEX($B:$B, ROW()-$C42+1), $B$15:$B$26, 0)) = リスト!$O$9, 5, INDEX($D$15:$D$26, MATCH(INDEX($B:$B, ROW()-$C42+1), $B$15:$B$26, 0)) ), IF(AND(ISNUMBER($E42), ISNUMBER($F42)), IF(AND( $E42 >= $F42, IF(INDEX($B:$B, ROW()-$C42+1) = $B$31, $F42 >= 100000, TRUE) ), "OK", "NG"), "-"), "-")} -> - | P42: {=IF( $C42 > IF( INDEX($D$15:$D$26, MATCH(INDEX($B:$B, ROW()-$C42+1), $B$15:$B$26, 0)) = リスト!$O$9, 5, INDEX($D$15:$D$26, MATCH(INDEX($B:$B, ROW()-$C42+1), $B$15:$B$26, 0)) ), IF(AND($D42="", $E42="", $F42="", $H42="", $I42=""), "OK", "NG"), "-")} -> OK
...

Sheet 資金調達表
B2: 補助事業全体に要する経費調達 | F2: 補助金を受けるまでの資金(補助金交付申請額の内訳) | J2: 提出可否
B3: 区分 | C3: 事業に要する経費(円) | D3: 資金の調達先 | F3: 区分 | G3: 事業に要する経費(円) | H3: 資金の調達先 | J3: =IF(COUNTIF(L4:P8,"NG")>0,"NG","OK") -> NG | L3: 必須チェック | N3: 形式チェック | P3: 数値チェック
B4: 自己資金 | F4: 自己資金 | J4: =IF($J$3="NG","※「はじめに」シートの3.②.❸をご確認の上、入力内容に誤りがないかをご確認ください。","") -> ※「はじめに」シートの3.②.❸をご確認の上、入力内容に誤りがないかをご確認ください。 | L4: =IF(C4="", "NG", "OK") -> NG | M4: =IF(G4="", "NG", "OK") -> NG | N4: =IF( OR($C4="", IF(ISNUMBER($C4), AND($C4=INT($C4), $C4>=0, LEN(TEXT($C4,"0"))<=12), FALSE)), "OK", "NG") -> OK | O4: =IF( OR($G4="", IF(ISNUMBER($G4), AND($G4=INT($G4), $G4>=0, LEN(TEXT($G4,"0"))<=12), FALSE)), "OK", "NG") -> OK | P4: =IF($C$5=補助対象予定経費!$G$27,"OK","NG") -> OK
B5: 補助金交付申請額 | C5: =G7 -> 0 | F5: 借入金 | L5: - | M5: =IF(OR(G5="", G5=0), "OK", IF(H5="", "NG", "OK")) -> OK | N5: =IF( OR($C5="", IF(ISNUMBER($C5), AND($C5=INT($C5), $C5>=0, LEN(TEXT($C5,"0"))<=12), FALSE)), "OK", "NG") -> OK | O5: {=IF(AND( OR($G5="", IF(ISNUMBER($G5), AND($G5=INT($G5), $G5>=0, LEN(TEXT($G5,"0"))<=12), FALSE)), LEN(SUBSTITUTE(SUBSTITUTE($H5,CHAR(10),""),CHAR(13),""))<=1000, SUMPRODUCT(--ISNUMBER(FIND({"<";">";"&";"""";"'"}, $H5)))=0 ), "OK", "NG")} -> OK
B6: 借入金 | F6: その他 | L6: =IF(OR(C6="", C6=0), "OK", IF(D6="", "NG", "OK")) -> OK | M6: =IF(OR(G6="", G6=0), "OK", IF(H6="", "NG", "OK")) -> OK | N6: {=IF(AND( OR($C6="", IF(ISNUMBER($C6), AND($C6=INT($C6), $C6>=0, LEN(TEXT($C6,"0"))<=12), FALSE)), LEN(SUBSTITUTE(SUBSTITUTE($D6,CHAR(10),""),CHAR(13),""))<=1000, SUMPRODUCT(--ISNUMBER(FIND({"<";">";"&";"""";"'"}, $D6)))=0 ), "OK", "NG")} -> OK | O6: {=IF(AND( OR($G6="", IF(ISNUMBER($G6), AND($G6=INT($G6), $G6>=0, LEN(TEXT($G6,"0"))<=12), FALSE)), LEN(SUBSTITUTE(SUBSTITUTE($H6,CHAR(10),""),CHAR(13),""))<=1000, SUMPRODUCT(--ISNUMBER(FIND({"<";">";"&";"""";"'"}, $H6)))=0 ), "OK", "NG")} -> OK
B7: その他 | F7: 合計額 | G7: =SUM(G4:G6) -> 0 | L7: =IF(OR(C7="", C7=0), "OK", IF(D7="", "NG", "OK")) -> OK | M7: - | N7: {=IF(AND( OR($C7="", IF(ISNUMBER($C7), AND($C7=INT($C7), $C7>=0, LEN(TEXT($C7,"0"))<=12), FALSE)), LEN(SUBSTITUTE(SUBSTITUTE($D7,CHAR(10),""),CHAR(13),""))<=1000, SUMPRODUCT(--ISNUMBER(FIND({"<";">";"&";"""";"'"}, $D7)))=0 ), "OK", "NG")} -> OK | O7: =IF( OR($G7="", IF(ISNUMBER($G7), AND($G7=INT($G7), $G7>=0, LEN(TEXT($G7,"0"))<=12), FALSE)), "OK", "NG") -> OK
B8: 合計額 | C8: =SUM(C4:C7) -> 0 | L8: - | N8: =IF( OR($C8="", IF(ISNUMBER($C8), AND($C8=INT($C8), $C8>=0, LEN(TEXT($C8,"0"))<=12), FALSE)), "OK", "NG") -> OK

Sheet 【解説・入力例】補助対象予定経費
M1: 必須チェック | N1: 形式チェック | O1: 不要箇所 チェック
C2: 補助対象事業枠 | E2: 革新的新製品・サービス枠 | M2: =IF(E2="","NG","OK") -> OK | N2: - | O2: -
C3: 従業員数 | E3: 18 | M3: =IF(E3="","NG","OK") -> OK | N3: =IFERROR(IF(AND( ISNUMBER(E3),E3=INT(E3),E3>0,LEN(TEXT(E3,"0"))<=3), "OK","NG"),"NG" ) -> OK | O3: -
C4: 従業員数(レンジ) | E4: =IF(OR($E$2="", NOT(ISNUMBER($E3))), "", IF($E$2=リスト!$A$3, IF($E3>=51, リスト!$F$6, IF($E3>=21, リスト!$F$5, IF($E3>=6, リスト!$F$4, IF($E3>=1, リスト!$F$3, "")))), IF(OR($E$2=リスト!$A$4, $E$2=リスト!$A$5), IF($E3>=101, リスト!$G$6, IF($E3>=51, リスト!$G$5, IF($E3>=21, リスト!$G$4, IF($E3>=1, リスト!$G$3, "")))), ""))) -> 6～20人 | M4: - | N4: =IF($E$2=リスト!$A$3, IF(OR($E4="", COUNTIF(リスト!$F$3:$F$6,$E4)>0), "OK", "NG"), IF(OR($E$2=リスト!$A$4, $E$2=リスト!$A$5), IF(OR($E4="", COUNTIF(リスト!$G$3:$G$6,$E4)>0), "OK", "NG"), "-")) -> OK | O4: -
C5: 対象事業者の選択 | E5: 小規模企業者・小規模事業者 | M5: =IF(E5="","NG","OK") -> OK | N5: - | O5: =IF(OR($E$2=リスト!$A$4, $E$2=リスト!$A$5), IF($E5=リスト!$C$4, "NG", "OK"), "-") -> -
C6: 賃上げ特例要件適用有無 | E6: 適用する | K6: 提出可否 | M6: =IF(OR( AND($E$2=リスト!$A$3, $E$5<>リスト!$B$4, OR($E$7=リスト!$D$3, $E$7="")), $E$2=リスト!$A$4, AND($E$2=リスト!$A$5, $E$5<>リスト!$B$4) ), IF(E6="","NG","OK"),"-") -> OK | N6: - | O6: =IF(OR( AND($E$2=リスト!$A$3, OR($E$5=リスト!$B$4, $E7=リスト!$D$4)), AND($E$2=リスト!$A$5, $E$5=リスト!$B$4) ), IF($E6=リスト!$D$4, "NG", "OK"), "-") -> -
C7: 地域別最低賃金引上げ特例要件適用有無 | K7: =IF(COUNTIF(M2:O11, "NG") + COUNTIF(M31:Q90, "NG") + COUNTIF(M15:R27, "NG") > 0, "NG", "OK") -> OK | M7: =IF(OR( AND($E$2=リスト!$A$3, $E$5<>リスト!$B$3, $E$5<>リスト!$B$4, OR($E$6=リスト!$D$3, $E$6="")), $E$2=リスト!$A$4 ), IF(E7="","NG","OK"),"-") -> - | N7: - | O7: =IF(OR( AND($E$2=リスト!$A$3, OR($E$5=リスト!$B$3, $E$5=リスト!$B$4, $E$6=リスト!$D$4)), $E$2=リスト!$A$5 ), IF($E$7=リスト!$D$4, "NG", "OK"), "-") -> OK
C8: 事業計画期間１年当たりの 補助事業で新たに製造等する製品等の 売上高見込み額(税抜き)(円) | E8: 14000000 | K8: =IF($K$7="NG","※「はじめに」シートのXXをご確認の上、入力内容に誤りがないかをご確認ください。","") | M8: =IF(E8="","NG","OK") -> OK | N8: =IF($E8="", "OK", IF(ISNUMBER($E8), IF(AND($E8=INT($E8), $E8>=0, LEN(TEXT($E8,"0"))<=12), "OK", "NG"), "NG")) -> OK | O8: -
C9: 補助率 | E9: =IF($E$2="","", IF($E$2=リスト!$A$3, IF(OR($E$5=リスト!$B$3, $E$5=リスト!$B$4, $E$7=リスト!$D$4), リスト!$E$4, リスト!$E$3), IF($E$2=リスト!$A$4, IF($E$7=リスト!$D$4, リスト!$E$4, リスト!$E$3), IF($E$2=リスト!$A$5, リスト!$E$4, リスト!$E$3 )))) -> 0.66666667 | M9: - | N9: - | O9: -
C10: 補助下限額 | E10: =IF($E$2<>"", IF($E$2=リスト!$A$3, リスト!$I$3, リスト!$L$3),"") -> 1000000 | M10: - | N10: - | O10: -
C11: 補助上限額 | E11: =IF(OR($E$2="",$E$4=""),"", IFERROR( IF($E$2=リスト!$A$3, IF(OR($E$6=リスト!$D$3,$E$6=""), INDEX(リスト!$J$3:$J$6,MATCH($E$4,リスト!$F$3:$F$6,0)), IF($E$6=リスト!$D$4, INDEX(リスト!$K$3:$K$6,MATCH($E$4,リスト!$F$3:$F$6,0)), "")), IF(OR($E$2=リスト!$A$4,$E$2=リスト!$A$5), IF(OR($E$6=リスト!$D$3,$E$6=""), INDEX(リスト!$M$3:$M$6,MATCH($E$4,リスト!$G$3:$G$6,0)), IF($E$6=リスト!$D$4, INDEX(リスト!$N$3:$N$6,MATCH($E$4,リスト!$G$3:$G$6,0)), "")), "")), "")) -> 12500000 | M11: - | N11: - | O11: -
E13: 概要
C14: 補助対象経費区分 | E14: 品目数 | F14: 合計 (A 事業に要する経費(円)) | G14: 合計 (B 補助対象経費(円)) | H14: 合計 (C 補助金交付申請額(円)) | I14: 積算基礎 補助対象経費(概要) | J14: 積算基礎 補助対象外経費 | M14: 必須チェック | O14: 経費区分 チェック | P14: 形式チェック | Q14: 数値チェック | R14: 不要箇所 チェック
C15: 機械装置・システム構築費 | E15: 3 | F15: =SUM(F31:F35) -> 12650000 | G15: =SUM(G31:G35) -> 11500000 | H15: =SUM(H31:H35) -> 7666665 | I15: 急速凍結設備(トンネルフリーザー)1台 7,000,000円、低温乾燥設備1台 2,500,000円、生産管理システム構築一式 2,000,000円。いずれも冷凍水産惣菜の新規製造ラインに専ら使用する設備であり、合計11,500,000円(税抜)を補助対象経費として計上。 | J15: 消費税相当額1,150,000円。設備の年間保守契約料および消耗品費は補助対象外のため計上していない。 | M15: =IF( IF($E$2=リスト!$A$3, NOT(OR($C15=$C$16, $C15=$C$25, $C15=$C$26)), IF($E$2=リスト!$A$4, NOT(OR($C15=$C$25, $C15=$C$26)), IF($E$2=リスト!$A$5, TRUE, FALSE))), IF($E15<>"", "OK", "NG"), "-") -> OK | N15: =IF($G15>0, IF(OR($I15="", $J15=""), "NG", "OK"), "-") -> OK | O15: =IF( IF($E$2=リスト!$A$3, $C15=$C$15, IF(OR($E$2=リスト!$A$4, $E$2=リスト!$A$5), OR($C15=$C$15, $C15=$C$16), FALSE)), IF( IF($E$2=リスト!$A$3, AND($E$15<>"", $E$15<>0), IF(OR($E$2=リスト!$A$4, $E$2=リスト!$A$5), OR(AND($E$15<>"", $E$15<>0), AND($E$16<>"", $E$16<>0)), FALSE)), "OK", "NG"), "-") -> OK | P15: {=IF(AND( LEN(SUBSTITUTE(SUBSTITUTE($I15,CHAR(10),""),CHAR(13),""))<=1000, SUMPRODUCT(--ISNUMBER(FIND({"<";">";"&";"""";"'"}, $I15)))=0, LEN(SUBSTITUTE(SUBSTITUTE($J15,CHAR(10),""),CHAR(13),""))<=1000, SUMPRODUCT(--ISNUMBER(FIND({"<";">";"&";"""";"'"}, $J15)))=0 ), "OK", "NG")} -> OK | Q15: - | R15: =IF( OR( IF($E$2=リスト!$A$3, OR($C15=$C$16, $C15=$C$25, $C15=$C$26), IF($E$2=リスト!$A$4, OR($C15=$C$25, $C15=$C$26), FALSE)), $G15=0 ), IF(OR( AND(IF($E$2=リスト!$A$3, OR($C15=$C$16, $C15=$C$25, $C15=$C$26), IF($E$2=リスト!$A$4, OR($C15=$C$25, $C15=$C$26), FALSE)), OR(AND($E15<>"", $E15<>0), $I15<>"", $J15<>"")), AND($G15=0, $I15<>""), AND($F15=0, $J15<>"") ), "NG", "OK"), "-") -> -
C16: 建物費 | F16: =SUM(F36:F40) -> 0 | G16: =SUM(G36:G40) -> 0 | H16: =SUM(H36:H40) -> 0 | M16: =IF( IF($E$2=リスト!$A$3, NOT(OR($C16=$C$16, $C16=$C$25, $C16=$C$26)), IF($E$2=リスト!$A$4, NOT(OR($C16=$C$25, $C16=$C$26)), IF($E$2=リスト!$A$5, TRUE, FALSE))), IF($E16<>"", "OK", "NG"), "-") -> - | N16: =IF($G16>0, IF(OR($I16="", $J16=""), "NG", "OK"), "-") -> - | O16: =IF( IF($E$2=リスト!$A$3, $C16=$C$15, IF(OR($E$2=リスト!$A$4, $E$2=リスト!$A$5), OR($C16=$C$15, $C16=$C$16), FALSE)), IF( IF($E$2=リスト!$A$3, AND($E$15<>"", $E$15<>0), IF(OR($E$2=リスト!$A$4, $E$2=リスト!$A$5), OR(AND($E$15<>"", $E$15<>0), AND($E$16<>"", $E$16<>0)), FALSE)), "OK", "NG"), "-") -> - | P16: {=IF(AND( LEN(SUBSTITUTE(SUBSTITUTE($I16,CHAR(10),""),CHAR(13),""))<=1000, SUMPRODUCT(--ISNUMBER(FIND({"<";">";"&";"""";"'"}, $I16)))=0, LEN(SUBSTITUTE(SUBSTITUTE($J16,CHAR(10),""),CHAR(13),""))<=1000, SUMPRODUCT(--ISNUMBER(FIND({"<";">";"&";"""";"'"}, $J16)))=0 ), "OK", "NG")} -> OK | Q16: - | R16: =IF( OR( IF($E$2=リスト!$A$3, OR($C16=$C$16, $C16=$C$25, $C16=$C$26), IF($E$2=リスト!$A$4, OR($C16=$C$25, $C16=$C$26), FALSE)), $G16=0 ), IF(OR( AND(IF($E$2=リスト!$A$3, OR($C16=$C$16, $C16=$C$25, $C16=$C$26), IF($E$2=リスト!$A$4, OR($C16=$C$25, $C16=$C$26), FALSE)), OR(AND($E16<>"", $E16<>0), $I16<>"", $J16<>"")), AND($G16=0, $I16<>""), AND($F16=0, $J16<>"") ), "NG", "OK"), "-") -> OK
C17: 運搬費 | E17: 1 | F17: =SUM(F41:F45) -> 220000 | G17: =SUM(G41:G45) -> 200000 | H17: =SUM(H41:H45) -> 133333 | I17: 試作品およびサンプル品の量販店バイヤー向け配送費 200,000円(税抜)。冷凍便20件×10,000円。 | J17: 消費税相当額20,000円。既存商品の通常出荷にかかる運送費は補助対象外のため計上していない。 | M17: =IF( IF($E$2=リスト!$A$3, NOT(OR($C17=$C$16, $C17=$C$25, $C17=$C$26)), IF($E$2=リスト!$A$4, NOT(OR($C17=$C$25, $C17=$C$26)), IF($E$2=リスト!$A$5, TRUE, FALSE))), IF($E17<>"", "OK", "NG"), "-") -> OK | N17: =IF($G17>0, IF(OR($I17="", $J17=""), "NG", "OK"), "-") -> OK | O17: =IF( IF($E$2=リスト!$A$3, $C17=$C$15, IF(OR($E$2=リスト!$A$4, $E$2=リスト!$A$5), OR($C17=$C$15, $C17=$C$16), FALSE)), IF( IF($E$2=リスト!$A$3, AND($E$15<>"", $E$15<>0), IF(OR($E$2=リスト!$A$4, $E$2=リスト!$A$5), OR(AND($E$15<>"", $E$15<>0), AND($E$16<>"", $E$16<>0)), FALSE)), "OK", "NG"), "-") -> - | P17: {=IF(AND( LEN(SUBSTITUTE(SUBSTITUTE($I17,CHAR(10),""),CHAR(13),""))<=1000, SUMPRODUCT(--ISNUMBER(FIND({"<";">";"&";"""";"'"}, $I17)))=0, LEN(SUBSTITUTE(SUBSTITUTE($J17,CHAR(10),""),CHAR(13),""))<=1000, SUMPRODUCT(--ISNUMBER(FIND({"<";">";"&";"""";"'"}, $J17)))=0 ), "OK", "NG")} -> OK | Q17: - | R17: =IF( OR( IF($E$2=リスト!$A$3, OR($C17=$C$16, $C17=$C$25, $C17=$C$26), IF($E$2=リスト!$A$4, OR($C17=$C$25, $C17=$C$26), FALSE)), $G17=0 ), IF(OR( AND(IF($E$2=リスト!$A$3, OR($C17=$C$16, $C17=$C$25, $C17=$C$26), IF($E$2=リスト!$A$4, OR($C17=$C$25, $C17=$C$26), FALSE)), OR(AND($E17<>"", $E17<>0), $I17<>"", $J17<>"")), AND($G17=0, $I17<>""), AND($F17=0, $J17<>"") ), "NG", "OK"), "-") -> -
C18: 技術導入費 | E18: 0 | F18: =SUM(F46:F50) -> 0 | G18: =SUM(G46:G50) -> 0 | H18: =SUM(H46:H50) -> 0 | M18: =IF( IF($E$2=リスト!$A$3, NOT(OR($C18=$C$16, $C18=$C$25, $C18=$C$26)), IF($E$2=リスト!$A$4, NOT(OR($C18=$C$25, $C18=$C$26)), IF($E$2=リスト!$A$5, TRUE, FALSE))), IF($E18<>"", "OK", "NG"), "-") -> OK | N18: =IF($G18>0, IF(OR($I18="", $J18=""), "NG", "OK"), "-") -> - | O18: =IF( IF($E$2=リスト!$A$3, $C18=$C$15, IF(OR($E$2=リスト!$A$4, $E$2=リスト!$A$5), OR($C18=$C$15, $C18=$C$16), FALSE)), IF( IF($E$2=リスト!$A$3, AND($E$15<>"", $E$15<>0), IF(OR($E$2=リスト!$A$4, $E$2=リスト!$A$5), OR(AND($E$15<>"", $E$15<>0), AND($E$16<>"", $E$16<>0)), FALSE)), "OK", "NG"), "-") -> - | P18: {=IF(AND( LEN(SUBSTITUTE(SUBSTITUTE($I18,CHAR(10),""),CHAR(13),""))<=1000, SUMPRODUCT(--ISNUMBER(FIND({"<";">";"&";"""";"'"}, $I18)))=0, LEN(SUBSTITUTE(SUBSTITUTE($J18,CHAR(10),""),CHAR(13),""))<=1000, SUMPRODUCT(--ISNUMBER(FIND({"<";">";"&";"""";"'"}, $J18)))=0 ), "OK", "NG")} -> OK | Q18: =IF(ISNUMBER($E$9), IF($H18 > ($H$27-$H18)/(3*$E$9-1), "NG", "OK"), "-") -> OK | R18: =IF( OR( IF($E$2=リスト!$A$3, OR($C18=$C$16, $C18=$C$25, $C18=$C$26), IF($E$2=リスト!$A$4, OR($C18=$C$25, $C18=$C$26), FALSE)), $G18=0 ), IF(OR( AND(IF($E$2=リスト!$A$3, OR($C18=$C$16, $C18=$C$25, $C18=$C$26), IF($E$2=リスト!$A$4, OR($C18=$C$25, $C18=$C$26), FALSE)), OR(AND($E18<>"", $E18<>0), $I18<>"", $J18<>"")), AND($G18=0, $I18<>""), AND($F18=0, $J18<>"") ), "NG", "OK"), "-") -> OK
C19: 知的財産権等関連経費 | E19: 1 | F19: =SUM(F51:F55) -> 880000 | G19: =SUM(G51:G55) -> 800000 | H19: =SUM(H51:H55) -> 533333 | I19: 新製法(低温乾燥と急速凍結の組合せ)に関する特許出願費用 800,000円(税抜)。弁理士手数料600,000円、出願関連費用200,000円。 | J19: 消費税相当額80,000円。特許登録後の維持年金は補助対象外のため計上していない。 | M19: =IF( IF($E$2=リスト!$A$3, NOT(OR($C19=$C$16, $C19=$C$25, $C19=$C$26)), IF($E$2=リスト!$A$4, NOT(OR($C19=$C$25, $C19=$C$26)), IF($E$2=リスト!$A$5, TRUE, FALSE))), IF($E19<>"", "OK", "NG"), "-") -> OK | N19: =IF($G19>0, IF(OR($I19="", $J19=""), "NG", "OK"), "-") -> OK | O19: =IF( IF($E$2=リスト!$A$3, $C19=$C$15, IF(OR($E$2=リスト!$A$4, $E$2=リスト!$A$5), OR($C19=$C$15, $C19=$C$16), FALSE)), IF( IF($E$2=リスト!$A$3, AND($E$15<>"", $E$15<>0), IF(OR($E$2=リスト!$A$4, $E$2=リスト!$A$5), OR(AND($E$15<>"", $E$15<>0), AND($E$16<>"", $E$16<>0)), FALSE)), "OK", "NG"), "-") -> - | P19: {=IF(AND( LEN(SUBSTITUTE(SUBSTITUTE($I19,CHAR(10),""),CHAR(13),""))<=1000, SUMPRODUCT(--ISNUMBER(FIND({"<";">";"&";"""";"'"}, $I19)))=0, LEN(SUBSTITUTE(SUBSTITUTE($J19,CHAR(10),""),CHAR(13),""))<=1000, SUMPRODUCT(--ISNUMBER(FIND({"<";">";"&";"""";"'"}, $J19)))=0 ), "OK", "NG")} -> OK | Q19: =IF(ISNUMBER($E$9), IF($H19 > ($H$27-$H19)/(3*$E$9-1), "NG", "OK"), "-") -> OK | R19: =IF( OR( IF($E$2=リスト!$A$3, OR($C19=$C$16, $C19=$C$25, $C19=$C$26), IF($E$2=リスト!$A$4, OR($C19=$C$25, $C19=$C$26), FALSE)), $G19=0 ), IF(OR( AND(IF($E$2=リスト!$A$3, OR($C19=$C$16, $C19=$C$25, $C19=$C$26), IF($E$2=リスト!$A$4, OR($C19=$C$25, $C19=$C$26), FALSE)), OR(AND($E19<>"", $E19<>0), $I19<>"", $J19<>"")), AND($G19=0, $I19<>""), AND($F19=0, $J19<>"") ), "NG", "OK"), "-") -> -
C20: 外注費 | E20: 0 | F20: =SUM(F56:F60) -> 0 | G20: =SUM(G56:G60) -> 0 | H20: =SUM(H56:H60) -> 0 | M20: =IF( IF($E$2=リスト!$A$3, NOT(OR($C20=$C$16, $C20=$C$25, $C20=$C$26)), IF($E$2=リスト!$A$4, NOT(OR($C20=$C$25, $C20=$C$26)), IF($E$2=リスト!$A$5, TRUE, FALSE))), IF($E20<>"", "OK", "NG"), "-") -> OK | N20: =IF($G20>0, IF(OR($I20="", $J20=""), "NG", "OK"), "-") -> - | O20: =IF( IF($E$2=リスト!$A$3, $C20=$C$15, IF(OR($E$2=リスト!$A$4, $E$2=リスト!$A$5), OR($C20=$C$15, $C20=$C$16), FALSE)), IF( IF($E$2=リスト!$A$3, AND($E$15<>"", $E$15<>0), IF(OR($E$2=リスト!$A$4, $E$2=リスト!$A$5), OR(AND($E$15<>"", $E$15<>0), AND($E$16<>"", $E$16<>0)), FALSE)), "OK", "NG"), "-") -> - | P20: {=IF(AND( LEN(SUBSTITUTE(SUBSTITUTE($I20,CHAR(10),""),CHAR(13),""))<=1000, SUMPRODUCT(--ISNUMBER(FIND({"<";">";"&";"""";"'"}, $I20)))=0, LEN(SUBSTITUTE(SUBSTITUTE($J20,CHAR(10),""),CHAR(13),""))<=1000, SUMPRODUCT(--ISNUMBER(FIND({"<";">";"&";"""";"'"}, $J20)))=0 ), "OK", "NG")} -> OK | Q20: =IF(ISNUMBER($E$9), IF($H20 > ($H$27-$H20)/(4*$E$9-1), "NG", "OK"), "-") -> OK | R20: =IF( OR( IF($E$2=リスト!$A$3, OR($C20=$C$16, $C20=$C$25, $C20=$C$26), IF($E$2=リスト!$A$4, OR($C20=$C$25, $C20=$C$26), FALSE)), $G20=0 ), IF(OR( AND(IF($E$2=リスト!$A$3, OR($C20=$C$16, $C20=$C$25, $C20=$C$26), IF($E$2=リスト!$A$4, OR($C20=$C$25, $C20=$C$26), FALSE)), OR(AND($E20<>"", $E20<>0), $I20<>"", $J20<>"")), AND($G20=0, $I20<>""), AND($F20=0, $J20<>"") ), "NG", "OK"), "-") -> OK
